BEGIN:VCALENDAR
VERSION:2.0
PRODID:-//Events - ECPv6.15.20//NONSGML v1.0//EN
CALSCALE:GREGORIAN
METHOD:PUBLISH
X-WR-CALNAME:Events
X-ORIGINAL-URL:https://www.clarku.edu/events
X-WR-CALDESC:Events for Events
REFRESH-INTERVAL;VALUE=DURATION:PT1H
X-Robots-Tag:noindex
X-PUBLISHED-TTL:PT1H
BEGIN:VTIMEZONE
TZID:America/New_York
BEGIN:DAYLIGHT
TZOFFSETFROM:-0500
TZOFFSETTO:-0400
TZNAME:EDT
DTSTART:20240310T070000
END:DAYLIGHT
BEGIN:STANDARD
TZOFFSETFROM:-0400
TZOFFSETTO:-0500
TZNAME:EST
DTSTART:20241103T060000
END:STANDARD
BEGIN:DAYLIGHT
TZOFFSETFROM:-0500
TZOFFSETTO:-0400
TZNAME:EDT
DTSTART:20250309T070000
END:DAYLIGHT
BEGIN:STANDARD
TZOFFSETFROM:-0400
TZOFFSETTO:-0500
TZNAME:EST
DTSTART:20251102T060000
END:STANDARD
BEGIN:DAYLIGHT
TZOFFSETFROM:-0500
TZOFFSETTO:-0400
TZNAME:EDT
DTSTART:20260308T070000
END:DAYLIGHT
BEGIN:STANDARD
TZOFFSETFROM:-0400
TZOFFSETTO:-0500
TZNAME:EST
DTSTART:20261101T060000
END:STANDARD
END:VTIMEZONE
BEGIN:VEVENT
DTSTART;TZID=America/New_York:20250903T133000
DTEND;TZID=America/New_York:20250903T163000
DTSTAMP:20260425T210840
CREATED:20250822T171857Z
LAST-MODIFIED:20250822T171858Z
UID:10001005-1756906200-1756917000@www.clarku.edu
SUMMARY:Biology Department Bumpus Symposium
DESCRIPTION:
URL:https://www.clarku.edu/events/event/biology-department-bumpus-symposium/
LOCATION:The Lasry Center for Bioscience
CATEGORIES:Academic,Environment/Sustainability,Science/Technology
END:VEVENT
BEGIN:VEVENT
DTSTART;TZID=America/New_York:20250918T120000
DTEND;TZID=America/New_York:20250918T130000
DTSTAMP:20260425T210840
CREATED:20250812T144402Z
LAST-MODIFIED:20250812T152919Z
UID:10000894-1758196800-1758200400@www.clarku.edu
SUMMARY:Biology Fall 2025 Seminar Series Speaker - Alex Bradshaw\, Clark University
DESCRIPTION:Alexander Bradshaw is a mycologist with experience in microbiology\, including work with bacterial and fungal specimens. He values biodiversity in all forms but has a strong passion for Fungi. His past and current research has primarily focused on systematics and evolution of the genus of “Magic mushrooms” Psilocybe\, which produce psychoactive compounds with high therapeutic potential for the treatment of myriad mental health issues. However\, more broadly\, Alex is interested in exploring the complexity and evolution of fungal secondary metabolites\, which have been utilized by humans throughout history for food\, medicine\, and in reclaiming polluted environments. Embracing the breadth of biological and chemical diversity that Fungi exhibit is paramount to understanding their role in nature\, how they shape the environment around them\, and how they influence the organisms the interact with.Another unexplored realm of mycology is the functional development of morphology\, such as how a mushroom is produced. For his post-doctoral research\, Alex is working in the lab of Dr. David Hibbett and Dr. Javier Tabima\, where he is studying the systematics\, functional genetics\, and population structures of the gilled\, and sometimes secotioid\, polypore mushroom\, Lentinus tigrinus.
URL:https://www.clarku.edu/events/event/biology-fall-2025-seminar-series-speaker-alex-bradshaw-clark-university/
LOCATION:The Lasry Center for Bioscience
CATEGORIES:Environment/Sustainability,Science/Technology
END:VEVENT
BEGIN:VEVENT
DTSTART;TZID=America/New_York:20250918T120000
DTEND;TZID=America/New_York:20250918T130000
DTSTAMP:20260425T210840
CREATED:20250822T175010Z
LAST-MODIFIED:20250822T175011Z
UID:10001006-1758196800-1758200400@www.clarku.edu
SUMMARY:Biology Seminar Series: Alex Bradshaw\, Clark University
DESCRIPTION:Alexander Bradshaw is a mycologist with experience in microbiology\, including work with bacterial and fungal specimens. He values biodiversity in all forms but has a strong passion for Fungi. His past and current research has primarily focused on systematics and evolution of the genus of “Magic mushrooms” Psilocybe\, which produce psychoactive compounds with high therapeutic potential for the treatment of myriad mental health issues. However\, more broadly\, Alex is interested in exploring the complexity and evolution of fungal secondary metabolites\, which have been utilized by humans throughout history for food\, medicine\, and in reclaiming polluted environments. Embracing the breadth of biological and chemical diversity that Fungi exhibit is paramount to understanding their role in nature\, how they shape the environment around them\, and how they influence the organisms they interact with. \n\n\n\nAnother unexplored realm of mycology is the functional development of morphology\, such as how a mushroom is produced. For his post-doctoral research\, Alex is working in the lab of Dr. David Hibbett and Dr. Javier Tabima\, where he is studying the systematics\, functional genetics\, and population structures of the gilled\, and sometimes secotioid\, polypore mushroom\, Lentinus tigrinus.
URL:https://www.clarku.edu/events/event/biology-seminar-series-alex-bradshaw-clark-university/
LOCATION:The Lasry Center for Bioscience
CATEGORIES:Campus/Community,Environment/Sustainability,Science/Technology
END:VEVENT
BEGIN:VEVENT
DTSTART;TZID=America/New_York:20250918T170000
DTEND;TZID=America/New_York:20250918T183000
DTSTAMP:20260425T210840
CREATED:20250917T172139Z
LAST-MODIFIED:20250917T183946Z
UID:10001139-1758214800-1758220200@www.clarku.edu
SUMMARY:Reflections on the Energy Transition: Where are we and where are we headed?
DESCRIPTION:This thought-provoking panel conversation brings together leading scholars and policy experts to discuss the current state and future of the global energy transition. Panelists will reflect on pressing questions of climate\, energy\, and extractive industries\, offering critical insights into the challenges and opportunities that lie ahead. \n\n\n\nPanelists include:  \n\n\n\n\nDeanna Kemp\, director\, Centre for Socially Responsible Mining\, University of Queensland\n\n\n\nBen Bopakye\, executive director\, Africa Centre for Energy Policy\n\n\n\nMarti Orta-Martinez\, associate professor\, Faculty of Biology\, University of Barcelona\n\n\n\nJulie Klinger\, associate professor\, Nelson Institute for Environmental Studies\, University of Wisconsin–Madison\n\n\n\n\nThe panel will be moderated by Laura Sauls\, assistant professor in the Global Affairs Program and School of Integrative Studies at George Mason University.
URL:https://www.clarku.edu/events/event/reflections-on-the-energy-transition-where-are-we-and-where-are-we-headed/
LOCATION:Higgins Lounge at Dana Commons
CATEGORIES:Environment/Sustainability,Science/Technology
ATTACH;FMTTYPE=image/jpeg:https://www.clarku.edu/events/wp-content/uploads/sites/7/2025/01/Peacebuilding-Mining-event.jpg
END:VEVENT
END:VCALENDAR