BEGIN:VCALENDAR
VERSION:2.0
PRODID:-//Events - ECPv6.15.20//NONSGML v1.0//EN
CALSCALE:GREGORIAN
METHOD:PUBLISH
X-ORIGINAL-URL:https://www.clarku.edu/events
X-WR-CALDESC:Events for Events
REFRESH-INTERVAL;VALUE=DURATION:PT1H
X-Robots-Tag:noindex
X-PUBLISHED-TTL:PT1H
BEGIN:VTIMEZONE
TZID:America/New_York
BEGIN:DAYLIGHT
TZOFFSETFROM:-0500
TZOFFSETTO:-0400
TZNAME:EDT
DTSTART:20250309T070000
END:DAYLIGHT
BEGIN:STANDARD
TZOFFSETFROM:-0400
TZOFFSETTO:-0500
TZNAME:EST
DTSTART:20251102T060000
END:STANDARD
BEGIN:DAYLIGHT
TZOFFSETFROM:-0500
TZOFFSETTO:-0400
TZNAME:EDT
DTSTART:20260308T070000
END:DAYLIGHT
BEGIN:STANDARD
TZOFFSETFROM:-0400
TZOFFSETTO:-0500
TZNAME:EST
DTSTART:20261101T060000
END:STANDARD
BEGIN:DAYLIGHT
TZOFFSETFROM:-0500
TZOFFSETTO:-0400
TZNAME:EDT
DTSTART:20270314T070000
END:DAYLIGHT
BEGIN:STANDARD
TZOFFSETFROM:-0400
TZOFFSETTO:-0500
TZNAME:EST
DTSTART:20271107T060000
END:STANDARD
END:VTIMEZONE
BEGIN:VEVENT
DTSTART;TZID=America/New_York:20260328T120000
DTEND;TZID=America/New_York:20260328T170000
DTSTAMP:20260425T121419
CREATED:20260212T150345Z
LAST-MODIFIED:20260212T160219Z
UID:10002947-1774699200-1774717200@www.clarku.edu
SUMMARY:Materials that Transform Our World
DESCRIPTION:Join chemistry scholars at the 31st Harry Allen Jr. Symposium Series on Bonding and Structure. \n\n\n\n\nDesign\, Structural Analysis\, and Mechanism of Porous Crystalline Material based Photocatalysts\n\n\n\nDr. Jier HuangProfessor of ChemistryBoston College \n\n\n\nElectrochemical Design of Sustainable\, Earth-Abundant Energy Storage Systems\n\n\n\nDr. Niya SaAssociate Professor of ChemistryUniversity of Massachusetts Boston \n\n\n\nDoped Organic Semiconductors\n\n\n\nDr. Dhandapani VenkataramanProfessor of ChemistryUniversity of Massachusetts Amherst \n\n\n\nPlease direct symposium questions to Dr. Julio M. Darcy judarcy@clarku.edu \n\n\n\n\n\nUndergraduate and Graduate Student Chemistry Poster Competition\n\n\n\n\n1st place: $500\n\n\n\n2nd place: $400\n\n\n\n3rd place: $300\n\n\n\n\nPoster competition questions?  Contact Dr. Don Spratt\, dspratt@clarku.edu \n\n\n\n\n\n\n  \n  \n    \n    \n    \n  \n  \n  \nRegister\n\n\n\n\n\nAbout the Harry Allen Jr. Symposium Series\n\n\n\nThe Harry C. Allen Jr. Symposium Series on Bonding and Structure was established in 1986 in recognition of Dr. Allen’s many years of service to Clark University. He joined Clark in 1969 as Chair of the Department of Chemistry. Later administrative roles included Dean of the Graduate School\, Associate Provost\, and Dean of Research. \n\n\n\nAllen was a native of Saugus\, Massachusetts and alumnus of Northeastern University (B.S.)\, Brown University (Sc.M.)\, and the University of Washington (Ph.D.). After Postdoctoral work at Harvard and Cambridge Universities\, and a year of teaching at Michigan State University\, Allen joined the National Bureau of Standards as a researcher in molecular structure and spectroscopy. In 1961 he became Chief of the Analytical Inorganic Division\, and\, in 1965\, Deputy Director of the Institute for Materials. From 1966-1969 he served as Assistant Director of the Bureau of Mines. Author of more than 60 published works and past associate editor of the Journal of Chemical Physics\, Allen also received awards for outstanding service from the United States Department of Commerce\, National Bureau of Standards\, and the Bureau of Mines. \n\n\n\n\n\nAbout Chemistry at Clark\n\n\n\nThe chemistry program at Clark began in 1889 as one of the five original academic doctoral programs at the inception of Clark University as a primarily graduate institution. The program existed under the direction of John Nef until 1894 when the department was closed due to financial challenges. The chemistry graduate program was reinstated in 1907 under the direction of Martin Rosanoff after the addition of the undergraduate college to Clark University in 1902 facilitated an expansion of the science faculty. The undergraduate and graduate programs have continued uninterrupted since then under the leadership of Rosanoff\, followed by others such as Charles Kraus (1914 – 1925)\, B. S. Merigold (1926 – 1946)\, and Harry C. Allen Jr. (starting in 1969). \n\n\n\nOur department was initially housed in the Chemical Laboratory building (present day Math/Physics Building)\, the second building built on campus. In 1959\, the Jeppson Laboratory was constructed to house the department. In 1985\, the Sackler Science Center was opened as a home for the physical sciences with the addition of a new wing to Jeppson. In 1992\, the department was renamed the Gustaf H. Carlson School of Chemistry due to the generosity of Gustaf Carlson (BA ‘26\, MA ‘27\, D.Sc. ‘77) and became the Gustaf H. Carlson School of Chemistry and Biochemistry in 1999. More than 130 years later\, the department continues with bachelor’s and master’s degrees in chemistry and biochemistry-and-molecular-biology and doctoral degrees in chemistry and biochemistry. \n\n\n\n\n\n\n  \n  \n    \n    \n    \n  \n  \n  \nRegister\n\n\n\n\n\n\n  \nSackler Sciences Center\n\n\n\n\n  \nparking
URL:https://www.clarku.edu/events/event/materials-that-transform-our-world/
LOCATION:Sackler Sciences Center
CATEGORIES:Academic,Science/Technology
ATTACH;FMTTYPE=image/jpeg:https://www.clarku.edu/events/wp-content/uploads/sites/7/2026/02/particles.avif
END:VEVENT
END:VCALENDAR