BEGIN:VCALENDAR
VERSION:2.0
PRODID:-//Events - ECPv6.15.20//NONSGML v1.0//EN
CALSCALE:GREGORIAN
METHOD:PUBLISH
X-WR-CALNAME:Events
X-ORIGINAL-URL:https://www.clarku.edu/events
X-WR-CALDESC:Events for Events
REFRESH-INTERVAL;VALUE=DURATION:PT1H
X-Robots-Tag:noindex
X-PUBLISHED-TTL:PT1H
BEGIN:VTIMEZONE
TZID:America/New_York
BEGIN:DAYLIGHT
TZOFFSETFROM:-0500
TZOFFSETTO:-0400
TZNAME:EDT
DTSTART:20250309T070000
END:DAYLIGHT
BEGIN:STANDARD
TZOFFSETFROM:-0400
TZOFFSETTO:-0500
TZNAME:EST
DTSTART:20251102T060000
END:STANDARD
BEGIN:DAYLIGHT
TZOFFSETFROM:-0500
TZOFFSETTO:-0400
TZNAME:EDT
DTSTART:20260308T070000
END:DAYLIGHT
BEGIN:STANDARD
TZOFFSETFROM:-0400
TZOFFSETTO:-0500
TZNAME:EST
DTSTART:20261101T060000
END:STANDARD
BEGIN:DAYLIGHT
TZOFFSETFROM:-0500
TZOFFSETTO:-0400
TZNAME:EDT
DTSTART:20270314T070000
END:DAYLIGHT
BEGIN:STANDARD
TZOFFSETFROM:-0400
TZOFFSETTO:-0500
TZNAME:EST
DTSTART:20271107T060000
END:STANDARD
END:VTIMEZONE
BEGIN:VEVENT
DTSTART;TZID=America/New_York:20260313T160000
DTEND;TZID=America/New_York:20260313T173000
DTSTAMP:20260425T111959
CREATED:20260310T180805Z
LAST-MODIFIED:20260310T180806Z
UID:10003027-1773417600-1773423000@www.clarku.edu
SUMMARY:Mapping Indigenous Peoples and Local Communities on the Frontlines of Extractive Industries
DESCRIPTION:Indigenous Peoples and Local Communities steward nearly one billion hectares of tropical forests across four major forest basins. Yet their lands face unprecedented pressure from oil\, gas\, mining\, and other industrial extractive activities. \n\n\n\nIn this talk\, Anna Bebbington\, MS GIS ’22\, currently a Research Manager at Earth Insight\, will present findings from a collaboration between Earth Insight and the Global Alliance of Territorial Communities (GATC). She will discuss the importance of GIS partnerships in documenting these pressures and reflect on the methodological and political challenges of mapping Indigenous and Local Community lands. \n\n\n\n📅 Friday\, March 13\, 2026🕓 4:00–5:30 PM📍 ASEC 202\, Clark University and Via Zoom \n\n\n\nJoin Zoom Meeting https://clarku.zoom.us/j/96170029504?pwd=Syk8v2NuqXBQgRKoI0sYC852xZNPqO.1  \n\n\n\nMeeting ID: 961 7002 9504 \n\n\n\nPasscode: 241442
URL:https://www.clarku.edu/events/event/mapping-indigenous-peoples-and-local-communities-on-the-frontlines-of-extractive-industries/
LOCATION:ASEC 202
END:VEVENT
END:VCALENDAR