BEGIN:VCALENDAR
VERSION:2.0
PRODID:-//Events - ECPv6.15.20//NONSGML v1.0//EN
CALSCALE:GREGORIAN
METHOD:PUBLISH
X-ORIGINAL-URL:https://www.clarku.edu/events
X-WR-CALDESC:Events for Events
REFRESH-INTERVAL;VALUE=DURATION:PT1H
X-Robots-Tag:noindex
X-PUBLISHED-TTL:PT1H
BEGIN:VTIMEZONE
TZID:America/New_York
BEGIN:DAYLIGHT
TZOFFSETFROM:-0500
TZOFFSETTO:-0400
TZNAME:EDT
DTSTART:20240310T070000
END:DAYLIGHT
BEGIN:STANDARD
TZOFFSETFROM:-0400
TZOFFSETTO:-0500
TZNAME:EST
DTSTART:20241103T060000
END:STANDARD
BEGIN:DAYLIGHT
TZOFFSETFROM:-0500
TZOFFSETTO:-0400
TZNAME:EDT
DTSTART:20250309T070000
END:DAYLIGHT
BEGIN:STANDARD
TZOFFSETFROM:-0400
TZOFFSETTO:-0500
TZNAME:EST
DTSTART:20251102T060000
END:STANDARD
BEGIN:DAYLIGHT
TZOFFSETFROM:-0500
TZOFFSETTO:-0400
TZNAME:EDT
DTSTART:20260308T070000
END:DAYLIGHT
BEGIN:STANDARD
TZOFFSETFROM:-0400
TZOFFSETTO:-0500
TZNAME:EST
DTSTART:20261101T060000
END:STANDARD
END:VTIMEZONE
BEGIN:VEVENT
DTSTART;TZID=America/New_York:20251103T180000
DTEND;TZID=America/New_York:20251103T200000
DTSTAMP:20260424T142635
CREATED:20250922T181512Z
LAST-MODIFIED:20251029T170338Z
UID:10001153-1762192800-1762200000@www.clarku.edu
SUMMARY:Film Screening: My Sweet Land
DESCRIPTION:This 2024 documentary film — written\, co-produced\, edited\, and directed by Sareen Hairabedian — follows 11-year-old Vrej\, living in Nagorno-Karabakh. His life takes a sudden turn when war erupts and he is forced to flee. \n\n\n\nNagorno-Karabakh was a disputed\, mountainous region in the South Caucasus claimed by both Armenia and Azerbaijan\, which was internationally recognized as part of Azerbaijan but de facto ruled by ethnic Armenians until a 2023 Azerbaijani military operation and subsequent mass exodus of the Armenian population. The conflict\, rooted in centuries of ethnic and religious tensions\, saw full-scale wars in the 1990s and 2020\, leading to a humanitarian crisis and the dissolution of the Armenian-backed de facto republic\, known as Artsakh\, on January 1\, 2024. \n\n\n\nCommentary by Sarah Stites (Ayo! Program Director\, Fund for Armenian Relief)Moderator: Dr. Elyse Semerdjian (Robert Aram and Marianne Kaloosdian and Stephen and Marian Mugar Chair of Armenian Genocide Studies; Professor\, Department of History) \n\n\n\nSponsored by the Friends of the Robert Aram and Marianne Kaloosdian and Stephen and Marian Mugar Professor in Armenian Genocide Studies
URL:https://www.clarku.edu/events/event/film-screening-my-sweet-land/
LOCATION:Higgins Lounge at Dana Commons
ATTACH;FMTTYPE=image/jpeg:https://www.clarku.edu/events/wp-content/uploads/sites/7/2025/09/CU-SCGHS-My-Sweet-Land-Event-Poster-11-25-I.pdf_Page_2-scaled.jpg
END:VEVENT
BEGIN:VEVENT
DTSTART;TZID=America/New_York:20251119T163000
DTEND;TZID=America/New_York:20251119T173000
DTSTAMP:20260424T142635
CREATED:20251107T135019Z
LAST-MODIFIED:20251111T163705Z
UID:10001677-1763569800-1763573400@www.clarku.edu
SUMMARY:Harrington Public Affairs Lecture: Marital Privilege
DESCRIPTION:Marital Privilege: Marriage\, Inequality\, and the Transformation of American Law \n\n\n\n\n\n\n\nProfessor Serena Mayeri will deliver a talk on her new book\, Marital Privilege: Marriage\, Inequality\, and the Transformation of American Law. The book examines the history of challenges to marriage’s primacy as a legal institution and a source of public and private benefits. \n\n\n\nProfessor Mayeri is the Arlin M. Adams Professor of Constitutional Law and\, by courtesy appointment\, a professor of history at the University of Pennsylvania Cary Law School. She holds a secondary appointment in the Department of History\, and is a Core Faculty member in the Program on Gender\, Sexuality\, and Women’s Studies (GSWS). In 2016\, Mayeri was named a Distinguished Lecturer by the Organization of American Historians. In 2019\, she received the Robert A. Gorman Award for Excellence in Teaching. \n\n\n\nProfessor Mayeri also writes about reproductive rights and justice\, equality and democracy\, and history’s role in constitutional discourse and litigation. She is the author of numerous articles and book chapters and has co-authored amicus briefs in cases involving abortion rights\, employment discrimination\, immigration and family law. \n\n\n\nDownload flyer \n\n\n\nThis event is free and open to the public. Refreshments will be served. \n\n\n\nSponsored by the Political Science Department through the Francis A. Harrington Public Affairs Fund.
URL:https://www.clarku.edu/events/event/harrington-public-affairs-lecture-series-fall-2025/
LOCATION:Grace Conference Room\, Higgins University Center
ATTACH;FMTTYPE=image/jpeg:https://www.clarku.edu/events/wp-content/uploads/sites/7/2025/11/mayeri-book-teaser.avif
END:VEVENT
END:VCALENDAR