BEGIN:VCALENDAR
VERSION:2.0
PRODID:-//Events - ECPv6.15.20//NONSGML v1.0//EN
CALSCALE:GREGORIAN
METHOD:PUBLISH
X-ORIGINAL-URL:https://www.clarku.edu/events
X-WR-CALDESC:Events for Events
REFRESH-INTERVAL;VALUE=DURATION:PT1H
X-Robots-Tag:noindex
X-PUBLISHED-TTL:PT1H
BEGIN:VTIMEZONE
TZID:America/New_York
BEGIN:DAYLIGHT
TZOFFSETFROM:-0500
TZOFFSETTO:-0400
TZNAME:EDT
DTSTART:20240310T070000
END:DAYLIGHT
BEGIN:STANDARD
TZOFFSETFROM:-0400
TZOFFSETTO:-0500
TZNAME:EST
DTSTART:20241103T060000
END:STANDARD
BEGIN:DAYLIGHT
TZOFFSETFROM:-0500
TZOFFSETTO:-0400
TZNAME:EDT
DTSTART:20250309T070000
END:DAYLIGHT
BEGIN:STANDARD
TZOFFSETFROM:-0400
TZOFFSETTO:-0500
TZNAME:EST
DTSTART:20251102T060000
END:STANDARD
BEGIN:DAYLIGHT
TZOFFSETFROM:-0500
TZOFFSETTO:-0400
TZNAME:EDT
DTSTART:20260308T070000
END:DAYLIGHT
BEGIN:STANDARD
TZOFFSETFROM:-0400
TZOFFSETTO:-0500
TZNAME:EST
DTSTART:20261101T060000
END:STANDARD
END:VTIMEZONE
BEGIN:VEVENT
DTSTART;TZID=America/New_York:20251106T160000
DTEND;TZID=America/New_York:20251109T140000
DTSTAMP:20260424T153042
CREATED:20250508T152420Z
LAST-MODIFIED:20251113T203236Z
UID:10000872-1762444800-1762696800@www.clarku.edu
SUMMARY:Lessons and Legacies of the Holocaust: Inaugural Emerging Scholars Conference
DESCRIPTION:Higgins Lounge\, Dana Commons \n\n\n\nAlbert M. Tapper Annual Lecture \n\n\n\nKeynote: Lessons and Legacies of the Holocaust: Inaugural Emerging Scholars Conference \n\n\n\nSpeaker: Sarah Casteel (Professor of English\, Carleton University) \n\n\n\nHolocaust Studies From the Outside In: Art and Relational Thinking in Times of Crisis \n\n\n\nIn the aftermath of October 7th\, as the contemporary meaning and relevance of the Holocaust come under greater pressure\, Holocaust studies is confronting existential questions regarding its purpose and future. This talk considers how remapping the field through unconventional disciplinary\, cultural\, and geographical lenses can help scholars to navigate these challenges. In keeping with the field’s recent colonial turn\, it identifies wartime and contemporary literature and visual art that present Holocaust experience as entangled with other histories of violence. In particular\, Black writing and art about the Holocaust promote a relational understanding of shared and intersecting histories that combats contemporary polarization.  \n\n\n\nWatch recording of keynote \n\n\n\n \n\n\n\nKeynote address sponsored by the Albert M. Tapper Charitable Foundation  \n\n\n\n7 November – 9 November | 9:00 a.m. – 6:30 p.m. | Higgins LoungeDana Commons\n\n\n\nLessons and Legacies of the Holocaust: Inaugural Emerging Scholars Conference \n\n\n\nThe conference aims to bring together scholars working in different languages\, disciplines\, discourses\, and methodologies for intellectual exchange\, networking\, and mentorship. Topics include a broad variety of aspects of the Holocaust\, its causes\, history\, memory\, and representation\, and comparative approaches. This conference also serves as the sixth conference in the Strassler Center’s series of graduate student conferences. \n\n\n\nView Conference Program \n\n\n\nPresented by the Strassler Center for Holocaust and Genocide Studies in cooperation with the Holocaust Educational Foundation of Northwestern University (HEFNU)
URL:https://www.clarku.edu/events/event/lessons-and-legacies-of-the-holocaust-inaugural-emerging-scholars-conference/
LOCATION:Strassler Center\, 950 Main Street\, Worcester\, Massachusetts\, 016010\, United States
ATTACH;FMTTYPE=image/jpeg:https://www.clarku.edu/events/wp-content/uploads/sites/7/2025/05/CU-SCHGS-Casteel-Poster-11-25-PRINT-page-001.jpg
END:VEVENT
BEGIN:VEVENT
DTSTART;TZID=America/New_York:20251113T153000
DTEND;TZID=America/New_York:20251113T163000
DTSTAMP:20260424T153042
CREATED:20251024T185531Z
LAST-MODIFIED:20251024T185625Z
UID:10001446-1763047800-1763051400@www.clarku.edu
SUMMARY:Critical AI\, Predatory Data\, & Community Resistance
DESCRIPTION:Dr. Anita Say Chan will discuss her most recent book and her experiences working with the Illinois Data Clinic. \n\n\n\n\n\n\n\nDr. Chan serves as professor at the School of Information Science\, University of Illinois\, Urbana-Champagne. She will discuss her recent book entitled Predatory Data: Eugenics in Big Tech and our Fight for an Independent Future (U California Press\, 2025).  \n\n\n\nThis program is made possible by a grant from the Alice Cooley Higgins Institute for Arts and Humanities\, and with sponsorship from Becker School of Design and Technology\, the English Department\, Goddard Library\, and the Language\, Literature\, and Cultures Department.
URL:https://www.clarku.edu/events/event/critical-ai-predatory-data-community-resistance/
LOCATION:CMACD Buliding- 103\, 104\, Clark University\, Worcester\, MA\, 01610\, United States
ORGANIZER;CN="Alice Coonley Higgins Institute for Arts and Humanities":MAILTO:higginsinstitute@clarku.edu
END:VEVENT
END:VCALENDAR