BEGIN:VCALENDAR
VERSION:2.0
PRODID:-//Events - ECPv6.15.20//NONSGML v1.0//EN
CALSCALE:GREGORIAN
METHOD:PUBLISH
X-ORIGINAL-URL:https://www.clarku.edu/events
X-WR-CALDESC:Events for Events
REFRESH-INTERVAL;VALUE=DURATION:PT1H
X-Robots-Tag:noindex
X-PUBLISHED-TTL:PT1H
BEGIN:VTIMEZONE
TZID:America/New_York
BEGIN:DAYLIGHT
TZOFFSETFROM:-0500
TZOFFSETTO:-0400
TZNAME:EDT
DTSTART:20240310T070000
END:DAYLIGHT
BEGIN:STANDARD
TZOFFSETFROM:-0400
TZOFFSETTO:-0500
TZNAME:EST
DTSTART:20241103T060000
END:STANDARD
BEGIN:DAYLIGHT
TZOFFSETFROM:-0500
TZOFFSETTO:-0400
TZNAME:EDT
DTSTART:20250309T070000
END:DAYLIGHT
BEGIN:STANDARD
TZOFFSETFROM:-0400
TZOFFSETTO:-0500
TZNAME:EST
DTSTART:20251102T060000
END:STANDARD
BEGIN:DAYLIGHT
TZOFFSETFROM:-0500
TZOFFSETTO:-0400
TZNAME:EDT
DTSTART:20260308T070000
END:DAYLIGHT
BEGIN:STANDARD
TZOFFSETFROM:-0400
TZOFFSETTO:-0500
TZNAME:EST
DTSTART:20261101T060000
END:STANDARD
END:VTIMEZONE
BEGIN:VEVENT
DTSTART;TZID=America/New_York:20251022T160000
DTEND;TZID=America/New_York:20251022T170000
DTSTAMP:20260425T195856
CREATED:20250915T153659Z
LAST-MODIFIED:20251021T174751Z
UID:10001115-1761148800-1761152400@www.clarku.edu
SUMMARY:Open Access: A Clark Conversation
DESCRIPTION:In celebration of International Open Access Week\, join us for a panel discussion on the impacts of open access and how it affects scholarship at Clark. Faculty and librarians will share their perspectives on how open access shapes their research\, teaching\, and professional work\, highlighting disciplinary concerns and the evolving academic publishing landscape.  \n\n\n\nResearch Services Librarian Katie Wind will moderate the discussion\, which will include panelists: \n\n\n\n\nProfessor Arshad Kudrolli\, Physics\n\n\n\nProfessor James Murphy\, Geography\n\n\n\nAssistant Professor Javier Tabima Restrepo\, Biology\n\n\n\nAssociate Provost and Dean of Research Jennifer Hanselman\n\n\n\nHead of Collections and Systems Katherine Collins\, Goddard Library\n\n\n\n\nLight refreshments will be provided.  
URL:https://www.clarku.edu/events/event/open-access-a-clark-conversation/
LOCATION:Clark University\, Higgins Lounge\, Dana Commons – 2nd Floor\, 36 Maywood Street\, Worcester\, MA\, 01603\, United States
CATEGORIES:Academic,Campus/Community
ATTACH;FMTTYPE=image/jpeg:https://www.clarku.edu/events/wp-content/uploads/sites/7/2025/09/October.jpg
END:VEVENT
END:VCALENDAR