BEGIN:VCALENDAR
VERSION:2.0
PRODID:-//Events - ECPv6.15.20//NONSGML v1.0//EN
CALSCALE:GREGORIAN
METHOD:PUBLISH
X-WR-CALNAME:Events
X-ORIGINAL-URL:https://www.clarku.edu/events
X-WR-CALDESC:Events for Events
REFRESH-INTERVAL;VALUE=DURATION:PT1H
X-Robots-Tag:noindex
X-PUBLISHED-TTL:PT1H
BEGIN:VTIMEZONE
TZID:America/New_York
BEGIN:DAYLIGHT
TZOFFSETFROM:-0500
TZOFFSETTO:-0400
TZNAME:EDT
DTSTART:20240310T070000
END:DAYLIGHT
BEGIN:STANDARD
TZOFFSETFROM:-0400
TZOFFSETTO:-0500
TZNAME:EST
DTSTART:20241103T060000
END:STANDARD
BEGIN:DAYLIGHT
TZOFFSETFROM:-0500
TZOFFSETTO:-0400
TZNAME:EDT
DTSTART:20250309T070000
END:DAYLIGHT
BEGIN:STANDARD
TZOFFSETFROM:-0400
TZOFFSETTO:-0500
TZNAME:EST
DTSTART:20251102T060000
END:STANDARD
BEGIN:DAYLIGHT
TZOFFSETFROM:-0500
TZOFFSETTO:-0400
TZNAME:EDT
DTSTART:20260308T070000
END:DAYLIGHT
BEGIN:STANDARD
TZOFFSETFROM:-0400
TZOFFSETTO:-0500
TZNAME:EST
DTSTART:20261101T060000
END:STANDARD
END:VTIMEZONE
BEGIN:VEVENT
DTSTART;TZID=America/New_York:20250918T163000
DTEND;TZID=America/New_York:20250918T180000
DTSTAMP:20260424T173846
CREATED:20250904T131441Z
LAST-MODIFIED:20250908T011442Z
UID:10001076-1758213000-1758218400@www.clarku.edu
SUMMARY:The Constitution in Crisis
DESCRIPTION:Professor Aziz Rana will deliver the Constitution Day Lecture\, addressing the question: “What is the relationship between the constitutional system and today’s democratic backsliding\, including with respect to basic civil liberties?” The talk will explore the strengths and weaknesses of the Constitution\, highlighting its role in current legal crises as well as the costs of our still pervasive culture of constitutional veneration. \n\n\n\nProfessor Rana’s research and teaching center on American constitutional law and political development. His first book\, The Two Faces of American Freedom (Harvard University Press)\, situates the American experience within the global history of colonialism\, examining the intertwined relationship in American constitutional practice between internal accounts of freedom and external projects of power and expansion. His latest book\, The Constitutional Bind: How Americans Came to Idolize a Document that Fails Them (University of Chicago Press\, 2024)\, explores the modern emergence of constitutional veneration in the twentieth century — especially against the backdrop of growing American global authority — and how veneration has influenced the boundaries of popular politics. \n\n\n\nA prolific scholar and public intellectual\, Professor Rana is the author of numerous articles essays and op-eds for such venues such as The University of Chicago Law Review\, California Law Review\, UCLA Law Review\, Texas Law Review\, the Yale Law Journal Forum\, n+1\, Dissent\, The Boston Review\, The Washington Post\, The New York Times\,  New Labor Forum\, Jacobin\, The Guardian\, The Chronicle of Higher Education\, The Nation\, Jadaliyya\, Salon\, and The Law and Political Economy Blog.  \n\n\n\nDr. Rana received his A.B. from Harvard College summa cum laude and a J.D. from Yale Law School. He also earned a Ph.D. in political science at Harvard University\, where his dissertation was awarded the University’s Charles Sumner Prize. \n\n\n\nRefreshments will be served\, and the event is open to the public. \n\n\n\nSponsored by the Provost’s Office and the Political Science Department through the Francis A. Harrington Public Affairs Fund 
URL:https://www.clarku.edu/events/event/the-constitution-in-crisis/
LOCATION:Grace Conference Room\, Higgins University Center
CATEGORIES:Education/Social Sciences
END:VEVENT
END:VCALENDAR