BEGIN:VCALENDAR
VERSION:2.0
PRODID:-//Events - ECPv6.15.20//NONSGML v1.0//EN
CALSCALE:GREGORIAN
METHOD:PUBLISH
X-ORIGINAL-URL:https://www.clarku.edu/events
X-WR-CALDESC:Events for Events
REFRESH-INTERVAL;VALUE=DURATION:PT1H
X-Robots-Tag:noindex
X-PUBLISHED-TTL:PT1H
BEGIN:VTIMEZONE
TZID:America/New_York
BEGIN:DAYLIGHT
TZOFFSETFROM:-0500
TZOFFSETTO:-0400
TZNAME:EDT
DTSTART:20240310T070000
END:DAYLIGHT
BEGIN:STANDARD
TZOFFSETFROM:-0400
TZOFFSETTO:-0500
TZNAME:EST
DTSTART:20241103T060000
END:STANDARD
BEGIN:DAYLIGHT
TZOFFSETFROM:-0500
TZOFFSETTO:-0400
TZNAME:EDT
DTSTART:20250309T070000
END:DAYLIGHT
BEGIN:STANDARD
TZOFFSETFROM:-0400
TZOFFSETTO:-0500
TZNAME:EST
DTSTART:20251102T060000
END:STANDARD
BEGIN:DAYLIGHT
TZOFFSETFROM:-0500
TZOFFSETTO:-0400
TZNAME:EDT
DTSTART:20260308T070000
END:DAYLIGHT
BEGIN:STANDARD
TZOFFSETFROM:-0400
TZOFFSETTO:-0500
TZNAME:EST
DTSTART:20261101T060000
END:STANDARD
END:VTIMEZONE
BEGIN:VEVENT
DTSTART;TZID=America/New_York:20250319T120000
DTEND;TZID=America/New_York:20250319T133000
DTSTAMP:20260425T111733
CREATED:20250301T003149Z
LAST-MODIFIED:20250301T003149Z
UID:10000781-1742385600-1742391000@www.clarku.edu
SUMMARY:Fishers\, Foragers and Fine Diners
DESCRIPTION:Ben Jamieson Stanley (they/them)\, Assistant Professor of English at the University of Delaware\, will deliver an invited guest lecture at Clark University related to their recently published book: Precarious Eating: Narrating Environmental Harm. \nWhile “climate fiction” has become privileged in the Global North\, Global South representations more often trace environmental precarity to its roots in colonization and globalized capitalism. This talk situates fisheries and foraging as a point of entry to South Africa’s Western Cape\, where bustling culinary and environmental tourism coincide with hunger and stratification. Connecting Zakes Mda’s 2005 novel The Whale Caller to contemporary cookbooks and restaurants\, the talk follows the changing meanings of endangered mollusks such as abalone: from their role in indigenous foodways\, to the 1990s “abalone wars\,” and to the appropriation of “indigenous foods” in eco-gastronomic cuisine. \nAdmission is free and open to the public\, and lunch will be provided. Guests are encouraged to arrive at 11:45 am for refreshments. \n\nBen Jamieson Stanley (they/them) is Assistant Professor of English at the University of Delaware\, where they are directing the launch of a new Center for Environmental Humanities. Ben’s research focuses on how we narrate and understand relationships among globalization\, empire\, and environmental precarity. Professor Stanley has also published on topics such as climate fiction\, veganism\, botanical gardens as tools of both empire and resistance\, and energy systems in Afrofuturist film. Their work can be found in journals such as ISLE: Interdisciplinary Studies in Literature and the Environment\, The Global South\, and Matatu: Journal for African Culture and Society. Professor Stanley is working on a second book tentatively titled Mobilities: Movement and Energy in a Changing South Africa\, which brings together questions of energy transition\, gender and sexuality\, and transit justice. \n 
URL:https://www.clarku.edu/events/event/fishers-foragers-and-fine-diners/
LOCATION:Clark University\, Higgins Lounge\, Dana Commons – 2nd Floor
CATEGORIES:Academic,Environment/Sustainability,Humanities
ORGANIZER;CN="Alice Coonley Higgins Institute for Arts and Humanities":MAILTO:higginsinstitute@clarku.edu
END:VEVENT
END:VCALENDAR