BEGIN:VCALENDAR
VERSION:2.0
PRODID:-//Events - ECPv6.15.20//NONSGML v1.0//EN
CALSCALE:GREGORIAN
METHOD:PUBLISH
X-WR-CALNAME:Events
X-ORIGINAL-URL:https://www.clarku.edu/events
X-WR-CALDESC:Events for Events
REFRESH-INTERVAL;VALUE=DURATION:PT1H
X-Robots-Tag:noindex
X-PUBLISHED-TTL:PT1H
BEGIN:VTIMEZONE
TZID:America/New_York
BEGIN:DAYLIGHT
TZOFFSETFROM:-0500
TZOFFSETTO:-0400
TZNAME:EDT
DTSTART:20230312T070000
END:DAYLIGHT
BEGIN:STANDARD
TZOFFSETFROM:-0400
TZOFFSETTO:-0500
TZNAME:EST
DTSTART:20231105T060000
END:STANDARD
BEGIN:DAYLIGHT
TZOFFSETFROM:-0500
TZOFFSETTO:-0400
TZNAME:EDT
DTSTART:20240310T070000
END:DAYLIGHT
BEGIN:STANDARD
TZOFFSETFROM:-0400
TZOFFSETTO:-0500
TZNAME:EST
DTSTART:20241103T060000
END:STANDARD
BEGIN:DAYLIGHT
TZOFFSETFROM:-0500
TZOFFSETTO:-0400
TZNAME:EDT
DTSTART:20250309T070000
END:DAYLIGHT
BEGIN:STANDARD
TZOFFSETFROM:-0400
TZOFFSETTO:-0500
TZNAME:EST
DTSTART:20251102T060000
END:STANDARD
END:VTIMEZONE
BEGIN:VEVENT
DTSTART;TZID=America/New_York:20241106T163000
DTEND;TZID=America/New_York:20241106T180000
DTSTAMP:20260425T094504
CREATED:20240814T224945Z
LAST-MODIFIED:20240814T224945Z
UID:10000110-1730910600-1730916000@www.clarku.edu
SUMMARY:Post-Election 2024: What Just Happened?
DESCRIPTION:With the understanding that the election may still be undecided\, we will gather the day-after for a conversation about the results. Bring your questions for Clark University experts\, as we address: what we know about election returns; when and how decisions will be made and how information will be communicated; the important roles played by different constituencies in the process; the historical precedents involved; and the psychological impacts of perceived threats\, uncertainty\, resistance\, and protest. \nModerated by: \n\nAsha Best\, Director\, Center for Gender\, Race and Area Studies (CGRAS)\n\nWith panelists: \n\nRobert Boatright\, Political Science: American political parties\, campaigns\, and elections\nJack Delehanty\, Sociology: Progressive religious activism and conservative Christian discourse\nCyril Ghosh\, Political Science/Law & Society: Democratic inclusion in contemporary American political culture\nOusmane Power-Greene\, History: African American social and political movements\nJohanna Vollhardt\, Psychology: Psychology of collective violence\, oppression\, and resistance\n\nAdmission is free and open to the public. Refreshments will be offered. \nThis event will also be streamed live – registration details to be announced soon. \nSponsored by the Alice Coonley Higgins Institute for Arts and Humanities in partnership with the Department of Political Science and the Center for Gender\, Race\, and Area Studies at Clark University
URL:https://www.clarku.edu/events/event/post-election-2024-what-just-happened-2/
LOCATION:Higgins Lounge at Dana Commons
CATEGORIES:Academic,Diversity/Equity/Inclusion,Humanities
ATTACH;FMTTYPE=image/png:https://www.clarku.edu/events/wp-content/uploads/sites/7/2025/01/Post-election-event-featured-image.png
ORGANIZER;CN="Alice Coonley Higgins Institute for Arts and Humanities":MAILTO:higginsinstitute@clarku.edu
END:VEVENT
END:VCALENDAR