BEGIN:VCALENDAR
VERSION:2.0
PRODID:-//Events - ECPv6.15.20//NONSGML v1.0//EN
CALSCALE:GREGORIAN
METHOD:PUBLISH
X-WR-CALNAME:Events
X-ORIGINAL-URL:https://www.clarku.edu/events
X-WR-CALDESC:Events for Events
REFRESH-INTERVAL;VALUE=DURATION:PT1H
X-Robots-Tag:noindex
X-PUBLISHED-TTL:PT1H
BEGIN:VTIMEZONE
TZID:UTC
BEGIN:STANDARD
TZOFFSETFROM:+0000
TZOFFSETTO:+0000
TZNAME:UTC
DTSTART:20230101T000000
END:STANDARD
END:VTIMEZONE
BEGIN:VEVENT
DTSTART;TZID=UTC:20240503T090000
DTEND;TZID=UTC:20240503T120000
DTSTAMP:20260423T084644
CREATED:20240819T185208Z
LAST-MODIFIED:20250119T033843Z
UID:10000013-1714726800-1714737600@www.clarku.edu
SUMMARY:Workshop: Further Adventures in Digital Humanities Research Techniques
DESCRIPTION:Open to faculty\, staff\, and graduate students from Clark University and surrounding institutions!\nRegister Now: https://bit.ly/helloworldmay3 \nClark University Facilitators: \n\nEduard Arriaga-Arango\, Ph.D.\nAssociate Professor and Chair\nDepartment of Language\, Literature\, and Culture\nLi Han\, Ph.D.\nProfessor of Computer Science\nDirector\, Interdisciplinary Program in Data Science\nMatt Malsky\, Ph.D.\nProfessor of Music\nDirector\, Higgins School of Humanities\n\nWe will continue our Digital Research in the Arts and Humanities workshop series with a morning-long\, hands-on primer to some basic computing skills used in the DH. In addition to offering an opportunity to review topics covered in our Fall 2023 workshop\, this session will introduce textual analysis\, mining and visualization; and databases\, including concepts such as structured data\, SQL\, and exploring data. \nTogether we will work to share the kinds of knowledge\, data\, methods\, and research questions we encounter in our own disciplines\, and to cultivate a community of practice and practitioners in the digital humanities. \nThis session does not assume any prior knowledge of digital humanities experience and is suitable for all skills levels. Registration is free and open to faculty\, staff\, and graduate students. This workshop will only be conducted in person. \nPlease contact the Higgins School of Humanities at HigginsSchool@clarku.edu or (508) 793-7479 with questions. \nSponsored by the Digital Humanities Research Collaborative at the Higgins School of Humanities and the Data Science Program at Clark University
URL:https://www.clarku.edu/events/event/workshop-further-adventures-in-digital-humanities-research-techniques-3/
LOCATION:MA
CATEGORIES:Humanities,Science/Technology
ATTACH;FMTTYPE=image/jpeg:https://www.clarku.edu/events/wp-content/uploads/sites/7/2025/01/DH-Workshop-Logo-2.jpg
END:VEVENT
END:VCALENDAR