BEGIN:VCALENDAR
VERSION:2.0
PRODID:-//Events - ECPv6.15.20//NONSGML v1.0//EN
CALSCALE:GREGORIAN
METHOD:PUBLISH
X-WR-CALNAME:Events
X-ORIGINAL-URL:https://www.clarku.edu/events
X-WR-CALDESC:Events for Events
REFRESH-INTERVAL;VALUE=DURATION:PT1H
X-Robots-Tag:noindex
X-PUBLISHED-TTL:PT1H
BEGIN:VTIMEZONE
TZID:UTC
BEGIN:STANDARD
TZOFFSETFROM:+0000
TZOFFSETTO:+0000
TZNAME:UTC
DTSTART:20100101T000000
END:STANDARD
END:VTIMEZONE
BEGIN:VEVENT
DTSTART;TZID=UTC:20110924T080000
DTEND;TZID=UTC:20110925T170000
DTSTAMP:20260420T012711
CREATED:20220503T193357Z
LAST-MODIFIED:20250407T201533Z
UID:10000817-1316851200-1316970000@www.clarku.edu
SUMMARY:Informed Activism: Armed Conflict\, Scarce Resources and Congo
DESCRIPTION:In another first\, the Strassler Center collaborated with groups of undergraduate students to organize this international summit. The event featured a list of experts and organizations.\n\nLearn More
URL:https://www.clarku.edu/events/event/informed-activism-armed-conflict-scarce-resources-and-congo/
END:VEVENT
END:VCALENDAR