BEGIN:VCALENDAR
VERSION:2.0
PRODID:-//Events - ECPv6.15.20//NONSGML v1.0//EN
CALSCALE:GREGORIAN
METHOD:PUBLISH
X-ORIGINAL-URL:https://www.clarku.edu/events
X-WR-CALDESC:Events for Events
REFRESH-INTERVAL;VALUE=DURATION:PT1H
X-Robots-Tag:noindex
X-PUBLISHED-TTL:PT1H
BEGIN:VTIMEZONE
TZID:America/New_York
BEGIN:DAYLIGHT
TZOFFSETFROM:-0500
TZOFFSETTO:-0400
TZNAME:EDT
DTSTART:20240310T070000
END:DAYLIGHT
BEGIN:STANDARD
TZOFFSETFROM:-0400
TZOFFSETTO:-0500
TZNAME:EST
DTSTART:20241103T060000
END:STANDARD
BEGIN:DAYLIGHT
TZOFFSETFROM:-0500
TZOFFSETTO:-0400
TZNAME:EDT
DTSTART:20250309T070000
END:DAYLIGHT
BEGIN:STANDARD
TZOFFSETFROM:-0400
TZOFFSETTO:-0500
TZNAME:EST
DTSTART:20251102T060000
END:STANDARD
BEGIN:DAYLIGHT
TZOFFSETFROM:-0500
TZOFFSETTO:-0400
TZNAME:EDT
DTSTART:20260308T070000
END:DAYLIGHT
BEGIN:STANDARD
TZOFFSETFROM:-0400
TZOFFSETTO:-0500
TZNAME:EST
DTSTART:20261101T060000
END:STANDARD
END:VTIMEZONE
BEGIN:VEVENT
DTSTART;TZID=America/New_York:20251104T181000
DTEND;TZID=America/New_York:20251104T190000
DTSTAMP:20260425T150123
CREATED:20251002T185335Z
LAST-MODIFIED:20251002T185439Z
UID:10001223-1762279800-1762282800@www.clarku.edu
SUMMARY:School of Business: Analytics and Data Warehousing Career Session
DESCRIPTION:CUSB alumnus Sam Balian\, MBA\, is Director of Process Optimization and Business Intelligence at Verisk. He joins us to provide insight into data analytics\, continuous improvement\, relational database management\, and automation scripting. \n\n\n\nSam is the current Continuous Improvement Lead at Verisk’s Casualty Solutions business unit\, leading a team focused on streamlining business processes and implementing automated solutions across the organization. \n\n\n\nSam also oversees the company’s Data Warehouse project and is passionate about improving operational efficiency through process automation and harnessing the power of data to drive business results. \n\n\n\nFor more than 50 years\, Verisk has helped property and casualty insurers make smarter decisions about risk. From AI-powered risk modeling to advanced analytics and technology solutions spanning the entire policy lifecycle. This is a terrific opportunity for students to learn more about data and analytics within the industry. \n\n\n\nSam is joining us virtually. Get the Zoom link here!
URL:https://www.clarku.edu/events/event/school-of-business-analytics-and-data-warehousing-career-session/
LOCATION:via Zoom
CATEGORIES:Business/Entrepreneurs,Careers,Science/Technology
ATTACH;FMTTYPE=image/png:https://www.clarku.edu/events/wp-content/uploads/sites/7/2025/10/image.png
END:VEVENT
BEGIN:VEVENT
DTSTART;TZID=America/New_York:20251106T120000
DTEND;TZID=America/New_York:20251106T130000
DTSTAMP:20260425T150123
CREATED:20251023T160412Z
LAST-MODIFIED:20251104T194845Z
UID:10001444-1762430400-1762434000@www.clarku.edu
SUMMARY:Fall 2025 Biology Seminar Series Speaker – Lauren Parry\, Clark University
DESCRIPTION:
URL:https://www.clarku.edu/events/event/fall-2025-biology-seminar-series-speaker-lauren-parry-clark-university/
LOCATION:The Lasry Center for Bioscience
CATEGORIES:Academic,Environment/Sustainability,Science/Technology
END:VEVENT
BEGIN:VEVENT
DTSTART;TZID=America/New_York:20251120T120000
DTEND;TZID=America/New_York:20251120T130000
DTSTAMP:20260425T150123
CREATED:20251023T160650Z
LAST-MODIFIED:20251104T201749Z
UID:10001445-1763640000-1763643600@www.clarku.edu
SUMMARY:Fall 2025 Biology Seminar Series Speaker – Diego Borges-Rivera\, Clark University
DESCRIPTION:
URL:https://www.clarku.edu/events/event/fall-2025-biology-seminar-series-speaker-diego-borges-rivera-clark-university/
LOCATION:The Lasry Center for Bioscience
CATEGORIES:Academic,Environment/Sustainability,Science/Technology
END:VEVENT
BEGIN:VEVENT
DTSTART;TZID=America/New_York:20251122T000000
DTEND;TZID=America/New_York:20251123T235959
DTSTAMP:20260425T150123
CREATED:20251017T154500Z
LAST-MODIFIED:20251121T142132Z
UID:10001361-1763769600-1763942399@www.clarku.edu
SUMMARY:Games for Good Conference
DESCRIPTION:Susan Rivers\, co-lead and chief scientist at iThrive Games and The History Co:Lab\n\n\n\nJoin us for this two-day conference focused on advancements in serious games and how games and game technologies can be a powerful collaboration point across an array of fields. The Games for Good Conference brings together industry experts\, thought leaders\, and practitioners in the area of serious games to share their insights and strategies\, designed for positive social impact and change. \n\n\n\nThe conference features a keynote address by Susan Rivers\, co-lead and chief scientist at iThrive Games and The History Co:Lab\, and a plenary session by Stanley Pierre-Louis ’92\, president and chief executive officer of the Entertainment Software Association. \n\n\n\nVisit the conference website to register and find a schedule of events. Registration is free for students thanks to support from the Entertainment Software Association. \n\n\n\nStanley Pierre-Louis ’92\, president and chief executive officer of the Entertainment Software Association\, plays a game with Becker School of Design & Technology students.
URL:https://www.clarku.edu/events/event/games-for-good-conference/
LOCATION:CMACD (Center for Media\, Arts\, Computing & Design)\, 7 Hawthorne St\, Worcester\, MA\, United States
CATEGORIES:Science/Technology
ATTACH;FMTTYPE=image/jpeg:https://www.clarku.edu/events/wp-content/uploads/sites/7/2025/10/2023_MACD_Building_03_OCT-7-scaled.jpg
ORGANIZER;CN="Becker School of Design &amp%3B Technology":MAILTO:ddesrochers@clarku.edu
END:VEVENT
END:VCALENDAR