BEGIN:VCALENDAR
VERSION:2.0
PRODID:-//Events - ECPv6.15.20//NONSGML v1.0//EN
CALSCALE:GREGORIAN
METHOD:PUBLISH
X-ORIGINAL-URL:https://www.clarku.edu/events
X-WR-CALDESC:Events for Events
REFRESH-INTERVAL;VALUE=DURATION:PT1H
X-Robots-Tag:noindex
X-PUBLISHED-TTL:PT1H
BEGIN:VTIMEZONE
TZID:America/New_York
BEGIN:DAYLIGHT
TZOFFSETFROM:-0500
TZOFFSETTO:-0400
TZNAME:EDT
DTSTART:20200308T070000
END:DAYLIGHT
BEGIN:STANDARD
TZOFFSETFROM:-0400
TZOFFSETTO:-0500
TZNAME:EST
DTSTART:20201101T060000
END:STANDARD
BEGIN:DAYLIGHT
TZOFFSETFROM:-0500
TZOFFSETTO:-0400
TZNAME:EDT
DTSTART:20210314T070000
END:DAYLIGHT
BEGIN:STANDARD
TZOFFSETFROM:-0400
TZOFFSETTO:-0500
TZNAME:EST
DTSTART:20211107T060000
END:STANDARD
BEGIN:DAYLIGHT
TZOFFSETFROM:-0500
TZOFFSETTO:-0400
TZNAME:EDT
DTSTART:20220313T070000
END:DAYLIGHT
BEGIN:STANDARD
TZOFFSETFROM:-0400
TZOFFSETTO:-0500
TZNAME:EST
DTSTART:20221106T060000
END:STANDARD
BEGIN:DAYLIGHT
TZOFFSETFROM:-0500
TZOFFSETTO:-0400
TZNAME:EDT
DTSTART:20230312T070000
END:DAYLIGHT
BEGIN:STANDARD
TZOFFSETFROM:-0400
TZOFFSETTO:-0500
TZNAME:EST
DTSTART:20231105T060000
END:STANDARD
BEGIN:DAYLIGHT
TZOFFSETFROM:-0500
TZOFFSETTO:-0400
TZNAME:EDT
DTSTART:20240310T070000
END:DAYLIGHT
BEGIN:STANDARD
TZOFFSETFROM:-0400
TZOFFSETTO:-0500
TZNAME:EST
DTSTART:20241103T060000
END:STANDARD
BEGIN:DAYLIGHT
TZOFFSETFROM:-0500
TZOFFSETTO:-0400
TZNAME:EDT
DTSTART:20250309T070000
END:DAYLIGHT
BEGIN:STANDARD
TZOFFSETFROM:-0400
TZOFFSETTO:-0500
TZNAME:EST
DTSTART:20251102T060000
END:STANDARD
END:VTIMEZONE
BEGIN:VTIMEZONE
TZID:UTC
BEGIN:STANDARD
TZOFFSETFROM:+0000
TZOFFSETTO:+0000
TZNAME:UTC
DTSTART:20220101T000000
END:STANDARD
END:VTIMEZONE
BEGIN:VEVENT
DTSTART;TZID=America/New_York:20240914T090000
DTEND;TZID=America/New_York:20240914T120000
DTSTAMP:20260425T233000
CREATED:20240726T005057Z
LAST-MODIFIED:20240726T005057Z
UID:10000592-1726304400-1726315200@www.clarku.edu
SUMMARY:University Park Farmers Market
DESCRIPTION:Right across from the Clark campus\, the University Park Farmers Market hosts local farmers and vendors each Saturday\, June through October. You’ll find fresh and local produce\, meats\, and more\, plus fun family activities and even a food truck. \nVisit the Regional Environmental Council on Facebook for each week’s schedule.
URL:https://www.clarku.edu/events/event/university-park-farmers-market-2/2024-09-14/
CATEGORIES:Campus/Community,Environment/Sustainability,Health/Wellness
ATTACH;FMTTYPE=image/jpeg:https://www.clarku.edu/events/wp-content/uploads/sites/7/2025/01/farmers-market-produce.jpg
END:VEVENT
BEGIN:VEVENT
DTSTART;TZID=America/New_York:20240907T090000
DTEND;TZID=America/New_York:20240907T120000
DTSTAMP:20260425T233000
CREATED:20240726T005057Z
LAST-MODIFIED:20240726T005057Z
UID:10000591-1725699600-1725710400@www.clarku.edu
SUMMARY:University Park Farmers Market
DESCRIPTION:Right across from the Clark campus\, the University Park Farmers Market hosts local farmers and vendors each Saturday\, June through October. You’ll find fresh and local produce\, meats\, and more\, plus fun family activities and even a food truck. \nVisit the Regional Environmental Council on Facebook for each week’s schedule.
URL:https://www.clarku.edu/events/event/university-park-farmers-market-2/2024-09-07/
CATEGORIES:Campus/Community,Environment/Sustainability,Health/Wellness
ATTACH;FMTTYPE=image/jpeg:https://www.clarku.edu/events/wp-content/uploads/sites/7/2025/01/farmers-market-produce.jpg
END:VEVENT
BEGIN:VEVENT
DTSTART;TZID=America/New_York:20240906T160000
DTEND;TZID=America/New_York:20240906T173000
DTSTAMP:20260425T233000
CREATED:20240904T224120Z
LAST-MODIFIED:20250119T035710Z
UID:10000182-1725638400-1725643800@www.clarku.edu
SUMMARY:Defending Rights in an Era of Climate Crisis
DESCRIPTION:Extractives@Clark presents lessons from frontline activists in East and Southern Africa\, the Amazon\, and the American South. \nAndrew Bogrand\, senior policy advisor for natural resource justice at Oxfam America\, where he focuses on civic space\, inequality\, and corruption. He is a policy advocate and strategic communicator who supports organizations and communities fighting for natural resource justice and human rights. Bogrand has managed high-impact global campaigns\, secured the release of detained activists\, and managed programs and fundraising efforts for leading NGOs. His writing has appeared in The Washington Post\, Truthout\, and Mongabay\, among other outlets. He holds a master’s from Stanford University and a bachelor’s from Claremont McKenna College.
URL:https://www.clarku.edu/events/event/defending-rights-in-an-era-of-climate-crisis/
CATEGORIES:Education/Social Sciences,Environment/Sustainability
ATTACH;FMTTYPE=image/jpeg:https://www.clarku.edu/events/wp-content/uploads/sites/7/2025/01/Andrew-Bogrand.jpg
END:VEVENT
BEGIN:VEVENT
DTSTART;TZID=America/New_York:20240831T090000
DTEND;TZID=America/New_York:20240831T120000
DTSTAMP:20260425T233000
CREATED:20240726T005057Z
LAST-MODIFIED:20240726T005057Z
UID:10000590-1725094800-1725105600@www.clarku.edu
SUMMARY:University Park Farmers Market
DESCRIPTION:Right across from the Clark campus\, the University Park Farmers Market hosts local farmers and vendors each Saturday\, June through October. You’ll find fresh and local produce\, meats\, and more\, plus fun family activities and even a food truck. \nVisit the Regional Environmental Council on Facebook for each week’s schedule.
URL:https://www.clarku.edu/events/event/university-park-farmers-market-2/2024-08-31/
CATEGORIES:Campus/Community,Environment/Sustainability,Health/Wellness
ATTACH;FMTTYPE=image/jpeg:https://www.clarku.edu/events/wp-content/uploads/sites/7/2025/01/farmers-market-produce.jpg
END:VEVENT
BEGIN:VEVENT
DTSTART;TZID=America/New_York:20240824T090000
DTEND;TZID=America/New_York:20240824T120000
DTSTAMP:20260425T233000
CREATED:20240726T005057Z
LAST-MODIFIED:20240726T005057Z
UID:10000589-1724490000-1724500800@www.clarku.edu
SUMMARY:University Park Farmers Market
DESCRIPTION:Right across from the Clark campus\, the University Park Farmers Market hosts local farmers and vendors each Saturday\, June through October. You’ll find fresh and local produce\, meats\, and more\, plus fun family activities and even a food truck. \nVisit the Regional Environmental Council on Facebook for each week’s schedule.
URL:https://www.clarku.edu/events/event/university-park-farmers-market-2/2024-08-24/
CATEGORIES:Campus/Community,Environment/Sustainability,Health/Wellness
ATTACH;FMTTYPE=image/jpeg:https://www.clarku.edu/events/wp-content/uploads/sites/7/2025/01/farmers-market-produce.jpg
END:VEVENT
BEGIN:VEVENT
DTSTART;TZID=America/New_York:20240817T090000
DTEND;TZID=America/New_York:20240817T120000
DTSTAMP:20260425T233000
CREATED:20240726T005057Z
LAST-MODIFIED:20240726T005057Z
UID:10000588-1723885200-1723896000@www.clarku.edu
SUMMARY:University Park Farmers Market
DESCRIPTION:Right across from the Clark campus\, the University Park Farmers Market hosts local farmers and vendors each Saturday\, June through October. You’ll find fresh and local produce\, meats\, and more\, plus fun family activities and even a food truck. \nVisit the Regional Environmental Council on Facebook for each week’s schedule.
URL:https://www.clarku.edu/events/event/university-park-farmers-market-2/2024-08-17/
CATEGORIES:Campus/Community,Environment/Sustainability,Health/Wellness
ATTACH;FMTTYPE=image/jpeg:https://www.clarku.edu/events/wp-content/uploads/sites/7/2025/01/farmers-market-produce.jpg
END:VEVENT
BEGIN:VEVENT
DTSTART;TZID=America/New_York:20240810T090000
DTEND;TZID=America/New_York:20240810T120000
DTSTAMP:20260425T233000
CREATED:20240726T005057Z
LAST-MODIFIED:20240726T005057Z
UID:10000587-1723280400-1723291200@www.clarku.edu
SUMMARY:University Park Farmers Market
DESCRIPTION:Right across from the Clark campus\, the University Park Farmers Market hosts local farmers and vendors each Saturday\, June through October. You’ll find fresh and local produce\, meats\, and more\, plus fun family activities and even a food truck. \nVisit the Regional Environmental Council on Facebook for each week’s schedule.
URL:https://www.clarku.edu/events/event/university-park-farmers-market-2/2024-08-10/
CATEGORIES:Campus/Community,Environment/Sustainability,Health/Wellness
ATTACH;FMTTYPE=image/jpeg:https://www.clarku.edu/events/wp-content/uploads/sites/7/2025/01/farmers-market-produce.jpg
END:VEVENT
BEGIN:VEVENT
DTSTART;TZID=America/New_York:20240803T090000
DTEND;TZID=America/New_York:20240803T120000
DTSTAMP:20260425T233000
CREATED:20240726T005057Z
LAST-MODIFIED:20240726T005057Z
UID:10000586-1722675600-1722686400@www.clarku.edu
SUMMARY:University Park Farmers Market
DESCRIPTION:Right across from the Clark campus\, the University Park Farmers Market hosts local farmers and vendors each Saturday\, June through October. You’ll find fresh and local produce\, meats\, and more\, plus fun family activities and even a food truck. \nVisit the Regional Environmental Council on Facebook for each week’s schedule.
URL:https://www.clarku.edu/events/event/university-park-farmers-market-2/2024-08-03/
CATEGORIES:Campus/Community,Environment/Sustainability,Health/Wellness
ATTACH;FMTTYPE=image/jpeg:https://www.clarku.edu/events/wp-content/uploads/sites/7/2025/01/farmers-market-produce.jpg
END:VEVENT
BEGIN:VEVENT
DTSTART;TZID=America/New_York:20240727T090000
DTEND;TZID=America/New_York:20240727T120000
DTSTAMP:20260425T233000
CREATED:20240726T005057Z
LAST-MODIFIED:20240726T005057Z
UID:10000585-1722070800-1722081600@www.clarku.edu
SUMMARY:University Park Farmers Market
DESCRIPTION:Right across from the Clark campus\, the University Park Farmers Market hosts local farmers and vendors each Saturday\, June through October. You’ll find fresh and local produce\, meats\, and more\, plus fun family activities and even a food truck. \nVisit the Regional Environmental Council on Facebook for each week’s schedule.
URL:https://www.clarku.edu/events/event/university-park-farmers-market-2/2024-07-27/
CATEGORIES:Campus/Community,Environment/Sustainability,Health/Wellness
ATTACH;FMTTYPE=image/jpeg:https://www.clarku.edu/events/wp-content/uploads/sites/7/2025/01/farmers-market-produce.jpg
END:VEVENT
BEGIN:VEVENT
DTSTART;TZID=America/New_York:20240420T080000
DTEND;TZID=America/New_York:20240420T120000
DTSTAMP:20260425T233000
CREATED:20240415T191009Z
LAST-MODIFIED:20240415T191009Z
UID:10000011-1713600000-1713614400@www.clarku.edu
SUMMARY:Earth Day Cleanup of University Park
DESCRIPTION:Each year\, hundreds of volunteers across Worcester come together to make our city a healthy\, clean\, and beautiful place to live\, work\, and play. The Regional Environmental Council’s Earth Day Cleanup is on Saturday\, April 20\, from 9 a.m. to noon. The Office of Community Engagement and Volunteering invites volunteers from across campus to help with our site at University Park. \nThe cleanup will be followed by a community cookout from noon to 2 p.m. at the REC Office and YouthGROW Farm at 42 Lagrange St.\, Rear\, Worcester. \nRegister on GivePulse »
URL:https://www.clarku.edu/events/event/earth-day-cleanup-of-university-park/
CATEGORIES:Campus/Community,Environment/Sustainability
ATTACH;FMTTYPE=image/jpeg:https://www.clarku.edu/events/wp-content/uploads/sites/7/2025/01/university-park-event.jpg
END:VEVENT
BEGIN:VEVENT
DTSTART;TZID=UTC:20231004T140000
DTEND;TZID=UTC:20231004T170000
DTSTAMP:20260425T233000
CREATED:20230921T203834Z
LAST-MODIFIED:20250407T202740Z
UID:10000828-1696428000-1696438800@www.clarku.edu
SUMMARY:Panel discussion: Myanmar and the Politics of Humanitarianism: Diaspora\, Identity\, and Advocacy
DESCRIPTION:This event explores the transnational nature of humanitarian aid in Myanmar two years after a coup ushered in military rule there. We look at the challenges\, dilemmas\, and everyday politics of aid and advocacy in Myanmar\, including among a growing diaspora of Burmese activists abroad. Reception to follow.\n\nBurmese migrant labor camp\, Tak Province\, Thailand (Photo: Adam Saltsman)\n\nChair: Ardeth Maung Thawnghmung (Professor\, Department of Political Science\, UMass Lowell)\n\nPanelists:\n\n 	Adam Saltsman (Associate Professor\, Department of Urban Studies and Director\, Urban Action Institute\, Worcester State University)\n 	Sung Chin Par (Human Rights Advocate and Co-Founder\, Global Institute of Myanmar)\n 	Si Thura (Executive Director\, Community Partners International)\n\nDiscussant: Ken MacLean (Professor of International Development and Social Change and faculty member\, Strassler Center for Holocaust and Genocide Studies\, Clark University)\n\nSponsored by IDCE (Department of International Development\, Community\, and Environment)\, the Strassler Center for Holocaust and Genocide Studies\, and the Department of Political Science.\n\n 
URL:https://www.clarku.edu/events/event/panel-discussion-myanmar-and-the-politics-of-humanitarianism-diaspora-identity-and-advocacy/
CATEGORIES:Diversity/Equity/Inclusion,Environment/Sustainability,Humanities
ATTACH;FMTTYPE=image/jpeg:https://www.clarku.edu/events/wp-content/uploads/sites/7/2025/01/Burmese-migrant-labor-camp-Tak-Province-Thailand-Photo-by-Adam-Saltsman-scaled-1-e1696018889183.jpg
END:VEVENT
BEGIN:VEVENT
DTSTART;TZID=UTC:20230809T120000
DTEND;TZID=UTC:20230809T130000
DTSTAMP:20260425T233000
CREATED:20230724T171617Z
LAST-MODIFIED:20250407T202929Z
UID:10000831-1691582400-1691586000@www.clarku.edu
SUMMARY:The Belonging Talks: Sandra Grudić\, ‘The Messiness of Belonging’
DESCRIPTION:Join us for another installment of the Integration and Belonging Hub Webinar Series. \nSandra Grudić ponders the messiness of belonging\, drawing upon her refugee — and non-refugee — experiences.\n\n\n\nSandra Grudić was born in Bosnia and Hercegovina\, where she lived until she was thirteen years old. Due to the ethnic war and genocide in her home country\, Sandra and her family had to flee their hometown in 1993 and became refugees — first in Germany\, then in the United States. Barely a teen when she became a refugee\, Sandra learned German and English quickly and soon entered higher education. She attained her bachelor’s in secondary social science education from the University of South Florida\, and her master’s in comparative political science from the American Public University. Currently\, Sandra is a doctoral candidate at the Strassler Center for Holocaust and Genocide Studies at Clark University. Her dissertation is a microstudy of neighborliness and neighborhood violence in Bosanski Novi\, a small border town in northwestern Bosnia\, during the Bosnian conflict\, 1992–1995.
URL:https://www.clarku.edu/events/event/the-belonging-talks-sandra-grudic-the-messiness-of-belonging/
CATEGORIES:Diversity/Equity/Inclusion,Education/Social Sciences,Environment/Sustainability,Health/Wellness,Science/Technology
ATTACH;FMTTYPE=image/jpeg:https://www.clarku.edu/events/wp-content/uploads/sites/7/2025/01/Belonging-Talk-080923.jpg
END:VEVENT
BEGIN:VEVENT
DTSTART;TZID=America/New_York:20211103T170000
DTEND;TZID=America/New_York:20211103T183000
DTSTAMP:20260425T233000
CREATED:20211027T070723Z
LAST-MODIFIED:20250602T153054Z
UID:10000807-1635958800-1635964200@www.clarku.edu
SUMMARY:The Ecology of Genocide - Felipe Milanez
DESCRIPTION:Speaker: Felipe Milanez\, Professor at the Institute for Humanities\, Arts and Sciences Professor Milton Santos and the Multidisciplinary Postgraduate Program in Culture and Society\, of the Federal University of Bahia\, Brazil \nThis presentation investigates the relationships between the physical destruction of humans and of nature in the Brazilian Amazon. It pays particular attention to the extreme situation of the remaining indigenous peoples in isolation. Historically\, the Amazon has given refuge to massacre survivors and provided the means to rebuild worlds destroyed in wars of conquest. The capture of territories and the control of resources are perennial engines of contemporary genocide perpetrated against indigenous and traditional communities in Brazil\, despite the fundamental rights established by the Federal Constitution of 1988\, a contradiction which has accelerated with the rise of fascist military authoritarianism and the disproportional effect of the Covid-19 pandemic on indigenous and traditional peoples. Resisting genocide and defending forests\, rivers and the ecology of life are deeply interconnected. \nWatch video of event \nSponsored by A new Earth conversation (NEC) and the Strassler Center for Holocaust and Genocide Studies at Clark University. \n 
URL:https://www.clarku.edu/events/event/the-ecology-of-genocide-felipe-milanez/
CATEGORIES:Academic,Campus/Community,Education/Social Sciences,Environment/Sustainability
END:VEVENT
END:VCALENDAR