BEGIN:VCALENDAR
VERSION:2.0
PRODID:-//Events - ECPv6.15.20//NONSGML v1.0//EN
CALSCALE:GREGORIAN
METHOD:PUBLISH
X-ORIGINAL-URL:https://www.clarku.edu/events
X-WR-CALDESC:Events for Events
REFRESH-INTERVAL;VALUE=DURATION:PT1H
X-Robots-Tag:noindex
X-PUBLISHED-TTL:PT1H
BEGIN:VTIMEZONE
TZID:America/New_York
BEGIN:DAYLIGHT
TZOFFSETFROM:-0500
TZOFFSETTO:-0400
TZNAME:EDT
DTSTART:20240310T070000
END:DAYLIGHT
BEGIN:STANDARD
TZOFFSETFROM:-0400
TZOFFSETTO:-0500
TZNAME:EST
DTSTART:20241103T060000
END:STANDARD
BEGIN:DAYLIGHT
TZOFFSETFROM:-0500
TZOFFSETTO:-0400
TZNAME:EDT
DTSTART:20250309T070000
END:DAYLIGHT
BEGIN:STANDARD
TZOFFSETFROM:-0400
TZOFFSETTO:-0500
TZNAME:EST
DTSTART:20251102T060000
END:STANDARD
BEGIN:DAYLIGHT
TZOFFSETFROM:-0500
TZOFFSETTO:-0400
TZNAME:EDT
DTSTART:20260308T070000
END:DAYLIGHT
BEGIN:STANDARD
TZOFFSETFROM:-0400
TZOFFSETTO:-0500
TZNAME:EST
DTSTART:20261101T060000
END:STANDARD
END:VTIMEZONE
BEGIN:VEVENT
DTSTART;TZID=America/New_York:20251201T133000
DTEND;TZID=America/New_York:20251201T150000
DTSTAMP:20260425T234154
CREATED:20251113T201347Z
LAST-MODIFIED:20251121T141828Z
UID:10002124-1764595800-1764601200@www.clarku.edu
SUMMARY:Clark at COP30 Debriefing Panel
DESCRIPTION:Clark faculty who attended the United Nations Climate Change Conference in Brazil will share key takeaways from the global event. \n\n\n\nPanelists will include: \n\n\n\n\nLou Leonard\, D.J.A. Spencer Dean of the School of Climate\, Environment\, and Society \n\n\n\nFlorencia Sangermano\, Associate Professor of Geography\n\n\n\nAbby Frazier\, Assistant Professor of Geography\n\n\n\n\nHow did the absence of the United States affect the global negotiations? Did the location — Belém\, Brazil\, “gateway to the Amazon” — impact how Indigenous communities were represented? What roadmap did COP30 provide for the next decade?  \n\n\n\nThis panel discussion for the Clark community will be moderated by Biology Professor Kate Mathis and a representative of the student-run Environmental Action Council. 
URL:https://www.clarku.edu/events/event/clark-at-cop/
LOCATION:Dana Commons\, Higgins Lounge\, 01610
CATEGORIES:Environment/Sustainability
ATTACH;FMTTYPE=image/jpeg:https://www.clarku.edu/events/wp-content/uploads/sites/7/2025/11/COP30-Brazil.avif
END:VEVENT
END:VCALENDAR