BEGIN:VCALENDAR
VERSION:2.0
PRODID:-//Events - ECPv6.15.20//NONSGML v1.0//EN
CALSCALE:GREGORIAN
METHOD:PUBLISH
X-ORIGINAL-URL:https://www.clarku.edu/events
X-WR-CALDESC:Events for Events
REFRESH-INTERVAL;VALUE=DURATION:PT1H
X-Robots-Tag:noindex
X-PUBLISHED-TTL:PT1H
BEGIN:VTIMEZONE
TZID:America/New_York
BEGIN:DAYLIGHT
TZOFFSETFROM:-0500
TZOFFSETTO:-0400
TZNAME:EDT
DTSTART:20210314T070000
END:DAYLIGHT
BEGIN:STANDARD
TZOFFSETFROM:-0400
TZOFFSETTO:-0500
TZNAME:EST
DTSTART:20211107T060000
END:STANDARD
BEGIN:DAYLIGHT
TZOFFSETFROM:-0500
TZOFFSETTO:-0400
TZNAME:EDT
DTSTART:20220313T070000
END:DAYLIGHT
BEGIN:STANDARD
TZOFFSETFROM:-0400
TZOFFSETTO:-0500
TZNAME:EST
DTSTART:20221106T060000
END:STANDARD
BEGIN:DAYLIGHT
TZOFFSETFROM:-0500
TZOFFSETTO:-0400
TZNAME:EDT
DTSTART:20230312T070000
END:DAYLIGHT
BEGIN:STANDARD
TZOFFSETFROM:-0400
TZOFFSETTO:-0500
TZNAME:EST
DTSTART:20231105T060000
END:STANDARD
END:VTIMEZONE
BEGIN:VEVENT
DTSTART;TZID=America/New_York:20220810T133000
DTEND;TZID=America/New_York:20220810T150000
DTSTAMP:20260425T063955
CREATED:20220728T011405Z
LAST-MODIFIED:20220728T011405Z
UID:10000666-1660138200-1660143600@www.clarku.edu
SUMMARY:Bilingual Poetry Reading at Worcester Public Library
DESCRIPTION:Professor Belén Atienza will be one of the poets entertaining children and families during the Worcester Public Library’s Bilingual Poetry Reading. Other poets featured include Worcester Poet Laureate Juan Matos\, Worcester Youth Poet Laureate Adael Mejía\, and Dominican/American poet Rhina Espaillat.
URL:https://www.clarku.edu/events/event/bilingual-poetry-reading-at-worcester-public-library/
CATEGORIES:Arts/Music/Film,Diversity/Equity/Inclusion
END:VEVENT
BEGIN:VEVENT
DTSTART;TZID=America/New_York:20220617T180000
DTEND;TZID=America/New_York:20220617T210000
DTSTAMP:20260425T063955
CREATED:20220614T205607Z
LAST-MODIFIED:20220614T205607Z
UID:10000074-1655488800-1655499600@www.clarku.edu
SUMMARY:Juneteenth: The Social
DESCRIPTION:Juneteenth: The Social will include an authentic Puerto Rican buffet\, cash bar\, and Latin-Afrocentric dance lessons. \nThe cost is $20/person (cash or check) payable upon arrival. Capacity is limited to 50 guests. \nRSVP now » \nIf you have any questions\, please do not hesitate to reach out to the Office of Diversity and Inclusion.
URL:https://www.clarku.edu/events/event/juneteenth-social/
CATEGORIES:Diversity/Equity/Inclusion
ATTACH;FMTTYPE=image/png:https://www.clarku.edu/events/wp-content/uploads/sites/7/2025/01/Juneteenth16-9.2.png
END:VEVENT
END:VCALENDAR