BEGIN:VCALENDAR
VERSION:2.0
PRODID:-//Events - ECPv6.15.20//NONSGML v1.0//EN
CALSCALE:GREGORIAN
METHOD:PUBLISH
X-ORIGINAL-URL:https://www.clarku.edu/events
X-WR-CALDESC:Events for Events
REFRESH-INTERVAL;VALUE=DURATION:PT1H
X-Robots-Tag:noindex
X-PUBLISHED-TTL:PT1H
BEGIN:VTIMEZONE
TZID:UTC
BEGIN:STANDARD
TZOFFSETFROM:+0000
TZOFFSETTO:+0000
TZNAME:UTC
DTSTART:20230101T000000
END:STANDARD
END:VTIMEZONE
BEGIN:VTIMEZONE
TZID:America/New_York
BEGIN:DAYLIGHT
TZOFFSETFROM:-0500
TZOFFSETTO:-0400
TZNAME:EDT
DTSTART:20230312T070000
END:DAYLIGHT
BEGIN:STANDARD
TZOFFSETFROM:-0400
TZOFFSETTO:-0500
TZNAME:EST
DTSTART:20231105T060000
END:STANDARD
BEGIN:DAYLIGHT
TZOFFSETFROM:-0500
TZOFFSETTO:-0400
TZNAME:EDT
DTSTART:20240310T070000
END:DAYLIGHT
BEGIN:STANDARD
TZOFFSETFROM:-0400
TZOFFSETTO:-0500
TZNAME:EST
DTSTART:20241103T060000
END:STANDARD
BEGIN:DAYLIGHT
TZOFFSETFROM:-0500
TZOFFSETTO:-0400
TZNAME:EDT
DTSTART:20250309T070000
END:DAYLIGHT
BEGIN:STANDARD
TZOFFSETFROM:-0400
TZOFFSETTO:-0500
TZNAME:EST
DTSTART:20251102T060000
END:STANDARD
END:VTIMEZONE
BEGIN:VEVENT
DTSTART;TZID=UTC:20241119T130000
DTEND;TZID=UTC:20241119T150000
DTSTAMP:20260419T113632
CREATED:20241030T230506Z
LAST-MODIFIED:20241030T230506Z
UID:10000494-1732021200-1732028400@www.clarku.edu
SUMMARY:Study Abroad Tea House
DESCRIPTION:Enjoy a cup of tea in Jonas Clark 208(ALCI lounge) and learn about study abroad opportunities and faculty-led summer programs.
URL:https://www.clarku.edu/events/event/study-abroad-tea-house-2/
LOCATION:ALCI Lounge\, Jonas Clark 208
CATEGORIES:Academic,Campus/Community,Humanities
END:VEVENT
BEGIN:VEVENT
DTSTART;TZID=UTC:20241119T103000
DTEND;TZID=UTC:20241119T114500
DTSTAMP:20260419T113632
CREATED:20241030T230232Z
LAST-MODIFIED:20241030T230232Z
UID:10000493-1732012200-1732016700@www.clarku.edu
SUMMARY:Peace Corps Discussion
DESCRIPTION:Have you ever considered joining Peace Corps? Please come to Jefferson Room 320 to get informed by the regional Peace Corps Recruiter as they talk about their experiences and the application process. Additionally\, you will be informed on the new Peace Corps Prep program.
URL:https://www.clarku.edu/events/event/peace-corps-discussion/
LOCATION:Jefferson 320
CATEGORIES:Academic,Campus/Community,Humanities
END:VEVENT
BEGIN:VEVENT
DTSTART;TZID=America/New_York:20241119T100000
DTEND;TZID=America/New_York:20241119T170000
DTSTAMP:20260419T113632
CREATED:20241118T194806Z
LAST-MODIFIED:20241118T194806Z
UID:10000618-1732010400-1732035600@www.clarku.edu
SUMMARY:Campus Blood Drive for Rhode Island Blood Center
DESCRIPTION:The CEV office has partnered with the Rhode Island Blood Center to host a blood drive. Attending this event fulfills Navigator Journey programming: Connect & engage with communities. \nYou must sign up through the Rhode Island Blood Center directly\, using sponsor code M049\, as they will be the ones managing time slots. \nLearn about blood donation eligibility \nMore info on FDA regulations on LGBTQ blood donation \nHuman Rights Campaign article about LGBTQ federal blood donation policies
URL:https://www.clarku.edu/events/event/blood-drive-with-rhode-island-blood-center-2-2/
LOCATION:Clark University\, Tilton Hall\, Higgins University Center – 2nd Floor\, 950 Main Street\, Worcester\, MA\, 01610\, United States
CATEGORIES:Campus/Community
ATTACH;FMTTYPE=image/jpeg:https://www.clarku.edu/events/wp-content/uploads/sites/7/2025/01/blood-drive.jpg
END:VEVENT
BEGIN:VEVENT
DTSTART;TZID=UTC:20241118T190000
DTEND;TZID=UTC:20241118T200000
DTSTAMP:20260419T113632
CREATED:20241101T233540Z
LAST-MODIFIED:20241101T233540Z
UID:10000544-1731956400-1731960000@www.clarku.edu
SUMMARY:Kol Yisrael Learning Fellowship
DESCRIPTION:
URL:https://www.clarku.edu/events/event/kol-yisrael-learning-fellowship/2024-11-18/
LOCATION:Lurie Conference Room\, UC
CATEGORIES:Campus/Community
END:VEVENT
BEGIN:VEVENT
DTSTART;TZID=America/New_York:20241118T180000
DTEND;TZID=America/New_York:20241118T190000
DTSTAMP:20260419T113632
CREATED:20241018T000223Z
LAST-MODIFIED:20241018T000223Z
UID:10000299-1731952800-1731956400@www.clarku.edu
SUMMARY:Wheel With Zoë
DESCRIPTION:Come to Zoë’s Wheel Workshop on Mondays to get the rundown! Once you’ve been to a wheel workshop\, you can come to the Craft Studio anytime to put what you’ve learned to practice!
URL:https://www.clarku.edu/events/event/wheel-with-zoe-2/2024-11-18/
LOCATION:Craft Studio
CATEGORIES:Campus/Community
END:VEVENT
BEGIN:VEVENT
DTSTART;TZID=America/New_York:20241118T180000
DTEND;TZID=America/New_York:20241118T190000
DTSTAMP:20260419T113632
CREATED:20241018T000223Z
LAST-MODIFIED:20241018T000223Z
UID:10000395-1731952800-1731956400@www.clarku.edu
SUMMARY:Wheel With Zoë
DESCRIPTION:Come to Zoë’s Wheel Workshop on Mondays to get the rundown! Once you’ve been to a wheel workshop\, you can come to the Craft Studio anytime to put what you’ve learned to practice!
URL:https://www.clarku.edu/events/event/wheel-with-zoe-2-2/2024-11-18/
LOCATION:MA
CATEGORIES:Campus/Community
END:VEVENT
BEGIN:VEVENT
DTSTART;TZID=UTC:20241118T130000
DTEND;TZID=UTC:20241118T150000
DTSTAMP:20260419T113632
CREATED:20241030T225615Z
LAST-MODIFIED:20241030T225615Z
UID:10000492-1731934800-1731942000@www.clarku.edu
SUMMARY:International Education Week Kick Off
DESCRIPTION:Join us in Red Square for some international treats as we celebrate the start of international education week. We encourage students to come by to share stories and learn more about the week’s events.
URL:https://www.clarku.edu/events/event/international-education-week-kick-off-2/
LOCATION:Red Square
CATEGORIES:Campus/Community
ATTACH;FMTTYPE=image/jpeg:https://www.clarku.edu/events/wp-content/uploads/sites/7/2025/01/Flags-e1762877258160.jpg
END:VEVENT
BEGIN:VEVENT
DTSTART;TZID=America/New_York:20241118T120000
DTEND;TZID=America/New_York:20241118T130000
DTSTAMP:20260419T113633
CREATED:20241017T235207Z
LAST-MODIFIED:20241017T235207Z
UID:10000289-1731931200-1731934800@www.clarku.edu
SUMMARY:Bob Ross Painting with Renee
DESCRIPTION:
URL:https://www.clarku.edu/events/event/bob-ross-painting-with-renee-2/2024-11-18/
LOCATION:Craft Studio
CATEGORIES:Campus/Community
END:VEVENT
BEGIN:VEVENT
DTSTART;TZID=America/New_York:20241118T120000
DTEND;TZID=America/New_York:20241118T130000
DTSTAMP:20260419T113633
CREATED:20241017T235207Z
LAST-MODIFIED:20241017T235207Z
UID:10000389-1731931200-1731934800@www.clarku.edu
SUMMARY:Bob Ross Painting with Renee
DESCRIPTION:
URL:https://www.clarku.edu/events/event/bob-ross-painting-with-renee-2-2/2024-11-18/
LOCATION:MA
CATEGORIES:Campus/Community
END:VEVENT
BEGIN:VEVENT
DTSTART;TZID=America/New_York:20241117T140000
DTEND;TZID=America/New_York:20241117T160000
DTSTAMP:20260419T113633
CREATED:20241115T010939Z
LAST-MODIFIED:20241115T010939Z
UID:10000608-1731852000-1731859200@www.clarku.edu
SUMMARY:Friendsgiving with Best Buddies
DESCRIPTION:We will be having a dessert party\, so please bring a dessert to share with everyone! If it is homemade\, please make sure all ingredients are labeled. We will be making some thankful turkey art projects to express what we are thankful for this fall!  If you are planning on coming\, please register using this link: https://forms.bestbuddies.org/4903690?eventId=a18Uc00000Fg1Gr If you are not a member already\, please register to become a member at bestbuddies.org/join in order to attend the event!
URL:https://www.clarku.edu/events/event/friendsgiving-with-best-buddies/
LOCATION:Lurie Conference Room\, UC
CATEGORIES:Campus/Community
END:VEVENT
BEGIN:VEVENT
DTSTART;TZID=America/New_York:20241117T130000
DTEND;TZID=America/New_York:20241117T150000
DTSTAMP:20260419T113633
CREATED:20241115T011655Z
LAST-MODIFIED:20241115T011655Z
UID:10000610-1731848400-1731855600@www.clarku.edu
SUMMARY:Taste the Woo
DESCRIPTION:In this project\, participants will travel around Worcester\, try out Latin American restaurants\, and vlog their experiences. For this episode\, they will be going to Raices!
URL:https://www.clarku.edu/events/event/taste-the-woo/
LOCATION:Raices
CATEGORIES:Campus/Community
END:VEVENT
BEGIN:VEVENT
DTSTART;TZID=America/New_York:20241117T100000
DTEND;TZID=America/New_York:20241117T160000
DTSTAMP:20260419T113633
CREATED:20241115T011457Z
LAST-MODIFIED:20241115T011457Z
UID:10000609-1731837600-1731859200@www.clarku.edu
SUMMARY:SPLASH Educational Day
DESCRIPTION:
URL:https://www.clarku.edu/events/event/splash-educational-day/
LOCATION:Tilton Hall\, UC
CATEGORIES:Campus/Community
END:VEVENT
BEGIN:VEVENT
DTSTART;TZID=America/New_York:20241116T190000
DTEND;TZID=America/New_York:20241116T220000
DTSTAMP:20260419T113633
CREATED:20241115T010544Z
LAST-MODIFIED:20241115T010544Z
UID:10000607-1731783600-1731794400@www.clarku.edu
SUMMARY:HHC Show
DESCRIPTION:
URL:https://www.clarku.edu/events/event/hhc-show-2/
LOCATION:Atwood Hall – Daniels Theater
CATEGORIES:Campus/Community
END:VEVENT
BEGIN:VEVENT
DTSTART;TZID=America/New_York:20241116T180000
DTEND;TZID=America/New_York:20241116T210000
DTSTAMP:20260419T113633
CREATED:20241115T010259Z
LAST-MODIFIED:20241115T010259Z
UID:10000606-1731780000-1731790800@www.clarku.edu
SUMMARY:Clark University Alumni Hockey Game
DESCRIPTION:There will be a short warm-up followed by a game against the Clark alumni; it is free for all members to attend!
URL:https://www.clarku.edu/events/event/clark-university-alumni-hockey-game/
LOCATION:DCU Center\, 50 Foster St\, Worcester\, MA\, 01608\, United States
CATEGORIES:Campus/Community
END:VEVENT
BEGIN:VEVENT
DTSTART;TZID=America/New_York:20241116T170000
DTEND;TZID=America/New_York:20241116T180000
DTSTAMP:20260419T113633
CREATED:20241017T231218Z
LAST-MODIFIED:20241017T231218Z
UID:10000266-1731776400-1731780000@www.clarku.edu
SUMMARY:Drawing with Carter
DESCRIPTION:
URL:https://www.clarku.edu/events/event/drawing-with-carter-2/2024-11-16/
LOCATION:Craft Studio
CATEGORIES:Campus/Community
END:VEVENT
BEGIN:VEVENT
DTSTART;TZID=America/New_York:20241116T170000
DTEND;TZID=America/New_York:20241116T180000
DTSTAMP:20260419T113633
CREATED:20241017T231218Z
LAST-MODIFIED:20241017T231218Z
UID:10000366-1731776400-1731780000@www.clarku.edu
SUMMARY:Drawing with Carter
DESCRIPTION:
URL:https://www.clarku.edu/events/event/drawing-with-carter-2-2/2024-11-16/
LOCATION:MA
CATEGORIES:Campus/Community
END:VEVENT
BEGIN:VEVENT
DTSTART;TZID=America/New_York:20241116T140000
DTEND;TZID=America/New_York:20241116T150000
DTSTAMP:20260419T113633
CREATED:20241017T232014Z
LAST-MODIFIED:20241017T232014Z
UID:10000272-1731765600-1731769200@www.clarku.edu
SUMMARY:Wheel With Joshua
DESCRIPTION:
URL:https://www.clarku.edu/events/event/wheel-with-joshua-2/2024-11-16/
LOCATION:Craft Studio
CATEGORIES:Campus/Community
END:VEVENT
BEGIN:VEVENT
DTSTART;TZID=America/New_York:20241116T140000
DTEND;TZID=America/New_York:20241116T150000
DTSTAMP:20260419T113633
CREATED:20241017T232014Z
LAST-MODIFIED:20241017T232014Z
UID:10000372-1731765600-1731769200@www.clarku.edu
SUMMARY:Wheel With Joshua
DESCRIPTION:
URL:https://www.clarku.edu/events/event/wheel-with-joshua-2-2/2024-11-16/
LOCATION:MA
CATEGORIES:Campus/Community
END:VEVENT
BEGIN:VEVENT
DTSTART;TZID=America/New_York:20241115T220000
DTEND;TZID=America/New_York:20241116T010000
DTSTAMP:20260419T113633
CREATED:20241115T005216Z
LAST-MODIFIED:20241115T005216Z
UID:10000603-1731708000-1731718800@www.clarku.edu
SUMMARY:CASA White Lies Party
DESCRIPTION:
URL:https://www.clarku.edu/events/event/casa-white-lies-party/
LOCATION:Tilton Hall\, UC
CATEGORIES:Campus/Community
END:VEVENT
BEGIN:VEVENT
DTSTART;TZID=America/New_York:20241115T220000
DTEND;TZID=America/New_York:20241115T230000
DTSTAMP:20260419T113633
CREATED:20241115T010054Z
LAST-MODIFIED:20241115T010054Z
UID:10000605-1731708000-1731711600@www.clarku.edu
SUMMARY:Shenanigans November Show
DESCRIPTION:
URL:https://www.clarku.edu/events/event/shenanigans-november-show/
LOCATION:The Grind\, UC
CATEGORIES:Campus/Community
END:VEVENT
BEGIN:VEVENT
DTSTART;TZID=America/New_York:20241115T190000
DTEND;TZID=America/New_York:20241115T220000
DTSTAMP:20260419T113633
CREATED:20241115T005830Z
LAST-MODIFIED:20241115T005830Z
UID:10000604-1731697200-1731708000@www.clarku.edu
SUMMARY:HHC Show
DESCRIPTION:
URL:https://www.clarku.edu/events/event/hhc-show/
LOCATION:Atwood Hall – Daniels Theater
CATEGORIES:Campus/Community
END:VEVENT
BEGIN:VEVENT
DTSTART;TZID=America/New_York:20241115T190000
DTEND;TZID=America/New_York:20241115T210000
DTSTAMP:20260419T113633
CREATED:20241115T005013Z
LAST-MODIFIED:20241115T005013Z
UID:10000602-1731697200-1731704400@www.clarku.edu
SUMMARY:Dance for a Cause
DESCRIPTION:Dancers will compete doing Just Dance for various prizes. There will be a raffle aimed at raising money for that Worcester organization. There will also be other fun activities and free food.
URL:https://www.clarku.edu/events/event/dance-for-a-cause/
LOCATION:The Grind\, UC
CATEGORIES:Campus/Community
END:VEVENT
BEGIN:VEVENT
DTSTART;TZID=America/New_York:20241115T180000
DTEND;TZID=America/New_York:20241115T210000
DTSTAMP:20260419T113633
CREATED:20240920T232605Z
LAST-MODIFIED:20240920T232605Z
UID:10000196-1731693600-1731704400@www.clarku.edu
SUMMARY:ClarkU Hillel Weekly Shabbat Services & Dinner
DESCRIPTION:Join ClarkU Hillel for our weekly student-led Shabbat services in Lurie at 6 p.m.\, followed by a Kosher Shabbat dinner in Grace at 7. Dinner is provided by the Clark Dining Kosher kitchen. \nShabbat is the Jewish Sabbath\, which takes place from Friday evening through Saturday evening. Come for just the services\, just the dinner\, or both! All are welcome. \nCheck our Instagram\, @ClarkuHillel\, to see the weekly theme and any updates.
URL:https://www.clarku.edu/events/event/clarku-hillel-weekly-shabbat-services-dinner-2/2024-11-15/
LOCATION:MA
CATEGORIES:Campus/Community
END:VEVENT
BEGIN:VEVENT
DTSTART;TZID=America/New_York:20241114T180000
DTEND;TZID=America/New_York:20241114T190000
DTSTAMP:20260419T113633
CREATED:20241025T230600Z
LAST-MODIFIED:20241025T230600Z
UID:10000489-1731607200-1731610800@www.clarku.edu
SUMMARY:Sculpey With Julia
DESCRIPTION:Come make magnets\, trinkets\, whatever\, at Julia’s workshops on Thursdays at 6:00! Cover fee is $5 in cash!
URL:https://www.clarku.edu/events/event/sculpey-with-julia-4/2024-11-14/
LOCATION:MA
CATEGORIES:Campus/Community
END:VEVENT
BEGIN:VEVENT
DTSTART;TZID=America/New_York:20241114T170000
DTEND;TZID=America/New_York:20241114T180000
DTSTAMP:20260419T113633
CREATED:20241108T015400Z
LAST-MODIFIED:20241108T015400Z
UID:10000581-1731603600-1731607200@www.clarku.edu
SUMMARY:Tidying the Clark Garden
DESCRIPTION:We will be clearing the plots and helping prep them for the upcoming spring.Note: We recommend wearing clothes you don’t mind getting dirty as well as something that will keep you warm!
URL:https://www.clarku.edu/events/event/tidying-the-clark-garden-3/
LOCATION:Clark Garden at President’s Field
CATEGORIES:Campus/Community
END:VEVENT
BEGIN:VEVENT
DTSTART;TZID=America/New_York:20241114T150000
DTEND;TZID=America/New_York:20241114T160000
DTSTAMP:20260419T113633
CREATED:20241025T230144Z
LAST-MODIFIED:20241025T230144Z
UID:10000485-1731596400-1731600000@www.clarku.edu
SUMMARY:Collage with Abby
DESCRIPTION:Come down to the Craft Studio on Thursdays at 3:00 where Abby can answer all of your collaging dreams!
URL:https://www.clarku.edu/events/event/collage-with-abby-4/2024-11-14/
LOCATION:MA
CATEGORIES:Campus/Community
END:VEVENT
BEGIN:VEVENT
DTSTART;TZID=America/New_York:20241113T193000
DTEND;TZID=America/New_York:20241113T203000
DTSTAMP:20260419T113633
CREATED:20241108T013529Z
LAST-MODIFIED:20241108T013529Z
UID:10000576-1731526200-1731529800@www.clarku.edu
SUMMARY:Bending Your Gender with Makeup!
DESCRIPTION:In this panel from Katsucon 2024\, we will cover the basics of masculine and feminine makeup including contouring\, highlighting\, and more. A live makeup demonstration may be included.
URL:https://www.clarku.edu/events/event/bending-your-gender-with-makeup/
LOCATION:ASEC 304
CATEGORIES:Campus/Community
END:VEVENT
BEGIN:VEVENT
DTSTART;TZID=America/New_York:20241113T180000
DTEND;TZID=America/New_York:20241113T190000
DTSTAMP:20260419T113633
CREATED:20241108T015026Z
LAST-MODIFIED:20241108T015026Z
UID:10000579-1731520800-1731524400@www.clarku.edu
SUMMARY:Thinking Outside the Xbox — Why indies should care about new platforms
DESCRIPTION:
URL:https://www.clarku.edu/events/event/thinking-outside-the-xbox-why-indies-should-care-about-new-platforms/
LOCATION:MACD 103-104
CATEGORIES:Campus/Community
END:VEVENT
BEGIN:VEVENT
DTSTART;TZID=America/New_York:20241113T180000
DTEND;TZID=America/New_York:20241113T190000
DTSTAMP:20260419T113633
CREATED:20241108T014849Z
LAST-MODIFIED:20241108T014849Z
UID:10000578-1731520800-1731524400@www.clarku.edu
SUMMARY:Latines Out Loud! (LOL!) Affinity Space Meeting
DESCRIPTION:
URL:https://www.clarku.edu/events/event/latines-out-loud-lol-affinity-space-meeting/
LOCATION:Dana Commons – Fireside Lounge
CATEGORIES:Campus/Community
END:VEVENT
BEGIN:VEVENT
DTSTART;TZID=America/New_York:20241113T173000
DTEND;TZID=America/New_York:20241113T193000
DTSTAMP:20260419T113633
CREATED:20241106T083339Z
LAST-MODIFIED:20241106T083339Z
UID:10000560-1731519000-1731526200@www.clarku.edu
SUMMARY:Songs of Peace
DESCRIPTION:We are pleased to announce that we will be holding our second “Songs of Peace” event. We have invited performers of varying religious and cultural backgrounds together as they showcase their renditions of how peace and reconciliation can be translated through song\, words\, and dance. Performers include India Heritage Foundation\, Abyan Shire\, Adael Mejia\, Cecilia Bachana\, and more!* \nThe evening will begin with a reception at 5:30\, and performances will begin at 6. (Please arrive by 5:45 in order to ensure a smooth and prompt transition to performances.) \nRegistration is encouraged but not required. The event is open to the public. \n*performers subject to change
URL:https://www.clarku.edu/events/event/songs-of-peace/
LOCATION:Clark University\, Tilton Hall\, Higgins University Center – 2nd Floor\, 950 Main Street\, Worcester\, MA\, 01610\, United States
CATEGORIES:Arts/Music/Film,Campus/Community,Diversity/Equity/Inclusion
ATTACH;FMTTYPE=image/png:https://www.clarku.edu/events/wp-content/uploads/sites/7/2025/01/Songs-of-Peace-2024.png
ORGANIZER;CN="Clark University Office of Diversity and Inclusion":MAILTO:odi@clarku.edu
END:VEVENT
END:VCALENDAR