BEGIN:VCALENDAR
VERSION:2.0
PRODID:-//Events - ECPv6.15.20//NONSGML v1.0//EN
CALSCALE:GREGORIAN
METHOD:PUBLISH
X-ORIGINAL-URL:https://www.clarku.edu/events
X-WR-CALDESC:Events for Events
REFRESH-INTERVAL;VALUE=DURATION:PT1H
X-Robots-Tag:noindex
X-PUBLISHED-TTL:PT1H
BEGIN:VTIMEZONE
TZID:America/New_York
BEGIN:DAYLIGHT
TZOFFSETFROM:-0500
TZOFFSETTO:-0400
TZNAME:EDT
DTSTART:20230312T070000
END:DAYLIGHT
BEGIN:STANDARD
TZOFFSETFROM:-0400
TZOFFSETTO:-0500
TZNAME:EST
DTSTART:20231105T060000
END:STANDARD
BEGIN:DAYLIGHT
TZOFFSETFROM:-0500
TZOFFSETTO:-0400
TZNAME:EDT
DTSTART:20240310T070000
END:DAYLIGHT
BEGIN:STANDARD
TZOFFSETFROM:-0400
TZOFFSETTO:-0500
TZNAME:EST
DTSTART:20241103T060000
END:STANDARD
BEGIN:DAYLIGHT
TZOFFSETFROM:-0500
TZOFFSETTO:-0400
TZNAME:EDT
DTSTART:20250309T070000
END:DAYLIGHT
BEGIN:STANDARD
TZOFFSETFROM:-0400
TZOFFSETTO:-0500
TZNAME:EST
DTSTART:20251102T060000
END:STANDARD
END:VTIMEZONE
BEGIN:VTIMEZONE
TZID:UTC
BEGIN:STANDARD
TZOFFSETFROM:+0000
TZOFFSETTO:+0000
TZNAME:UTC
DTSTART:20230101T000000
END:STANDARD
END:VTIMEZONE
BEGIN:VEVENT
DTSTART;TZID=America/New_York:20241123T170000
DTEND;TZID=America/New_York:20241123T180000
DTSTAMP:20260419T091845
CREATED:20241017T231218Z
LAST-MODIFIED:20241017T231218Z
UID:10000267-1732381200-1732384800@www.clarku.edu
SUMMARY:Drawing with Carter
DESCRIPTION:
URL:https://www.clarku.edu/events/event/drawing-with-carter-2/2024-11-23/
LOCATION:Craft Studio
CATEGORIES:Campus/Community
END:VEVENT
BEGIN:VEVENT
DTSTART;TZID=America/New_York:20241123T170000
DTEND;TZID=America/New_York:20241123T180000
DTSTAMP:20260419T091845
CREATED:20241017T231218Z
LAST-MODIFIED:20241017T231218Z
UID:10000367-1732381200-1732384800@www.clarku.edu
SUMMARY:Drawing with Carter
DESCRIPTION:
URL:https://www.clarku.edu/events/event/drawing-with-carter-2-2/2024-11-23/
CATEGORIES:Campus/Community
END:VEVENT
BEGIN:VEVENT
DTSTART;TZID=America/New_York:20241123T140000
DTEND;TZID=America/New_York:20241123T150000
DTSTAMP:20260419T091845
CREATED:20241017T232014Z
LAST-MODIFIED:20241017T232014Z
UID:10000273-1732370400-1732374000@www.clarku.edu
SUMMARY:Wheel With Joshua
DESCRIPTION:
URL:https://www.clarku.edu/events/event/wheel-with-joshua-2/2024-11-23/
LOCATION:Craft Studio
CATEGORIES:Campus/Community
END:VEVENT
BEGIN:VEVENT
DTSTART;TZID=America/New_York:20241123T140000
DTEND;TZID=America/New_York:20241123T150000
DTSTAMP:20260419T091845
CREATED:20241017T232014Z
LAST-MODIFIED:20241017T232014Z
UID:10000373-1732370400-1732374000@www.clarku.edu
SUMMARY:Wheel With Joshua
DESCRIPTION:
URL:https://www.clarku.edu/events/event/wheel-with-joshua-2-2/2024-11-23/
CATEGORIES:Campus/Community
END:VEVENT
BEGIN:VEVENT
DTSTART;TZID=America/New_York:20241123T120000
DTEND;TZID=America/New_York:20241123T170000
DTSTAMP:20260419T091845
CREATED:20241122T010107Z
LAST-MODIFIED:20241122T010107Z
UID:10000625-1732363200-1732381200@www.clarku.edu
SUMMARY:Jazz Fest Fall 2024
DESCRIPTION:
URL:https://www.clarku.edu/events/event/jazz-fest-fall-2024/
LOCATION:The Grind\, UC
CATEGORIES:Campus/Community
END:VEVENT
BEGIN:VEVENT
DTSTART;TZID=America/New_York:20241123T120000
DTEND;TZID=America/New_York:20241123T150000
DTSTAMP:20260419T091845
CREATED:20241122T005758Z
LAST-MODIFIED:20241122T005758Z
UID:10000623-1732363200-1732374000@www.clarku.edu
SUMMARY:Trip to the WAM!
DESCRIPTION:We’ll be meeting at the Red Square and then riding on the bus together. No extra costs\, so just bring your enthusiasm and love of art! Hope to see you there!
URL:https://www.clarku.edu/events/event/trip-to-the-wam/
LOCATION:Red Square
CATEGORIES:Campus/Community
END:VEVENT
BEGIN:VEVENT
DTSTART;TZID=America/New_York:20241122T190000
DTEND;TZID=America/New_York:20241122T210000
DTSTAMP:20260419T091845
CREATED:20241122T005639Z
LAST-MODIFIED:20241122T005639Z
UID:10000622-1732302000-1732309200@www.clarku.edu
SUMMARY:Dance Society and Variant Dance Troupe Present: Peace\, Love\, Rock & Roll!
DESCRIPTION:Enjoy dance pieces in the styles of contemporary\, jazz\, tap\, and more all choreographed by the students in clubs! Doors will open a half an hour before show time. We’re so excited for you to come rock out with us!
URL:https://www.clarku.edu/events/event/dance-society-and-variant-dance-troupe-present-peace-love-rock-roll/
LOCATION:Atwood Hall – Daniels Theater
CATEGORIES:Campus/Community
END:VEVENT
BEGIN:VEVENT
DTSTART;TZID=America/New_York:20241122T180000
DTEND;TZID=America/New_York:20241122T210000
DTSTAMP:20260419T091845
CREATED:20240920T232605Z
LAST-MODIFIED:20240920T232605Z
UID:10000197-1732298400-1732309200@www.clarku.edu
SUMMARY:ClarkU Hillel Weekly Shabbat Services & Dinner
DESCRIPTION:Join ClarkU Hillel for our weekly student-led Shabbat services in Lurie at 6 p.m.\, followed by a Kosher Shabbat dinner in Grace at 7. Dinner is provided by the Clark Dining Kosher kitchen. \nShabbat is the Jewish Sabbath\, which takes place from Friday evening through Saturday evening. Come for just the services\, just the dinner\, or both! All are welcome. \nCheck our Instagram\, @ClarkuHillel\, to see the weekly theme and any updates.
URL:https://www.clarku.edu/events/event/clarku-hillel-weekly-shabbat-services-dinner-2/2024-11-22/
CATEGORIES:Campus/Community
END:VEVENT
BEGIN:VEVENT
DTSTART;TZID=UTC:20241122T120000
DTEND;TZID=UTC:20241122T140000
DTSTAMP:20260419T091845
CREATED:20241030T231436Z
LAST-MODIFIED:20241030T231436Z
UID:10000498-1732276800-1732284000@www.clarku.edu
SUMMARY:Passport to Deliciousness
DESCRIPTION:Join Clark Dining Services in the Higgins Dining Hall as they will have stations of international street food and desserts. Regular meal plan swipes and dining costs apply.
URL:https://www.clarku.edu/events/event/passport-to-deliciousness/
LOCATION:Higgins Dining Hall
CATEGORIES:Campus/Community
END:VEVENT
BEGIN:VEVENT
DTSTART;TZID=America/New_York:20241121T190000
DTEND;TZID=America/New_York:20241121T220000
DTSTAMP:20260419T091845
CREATED:20241101T220737Z
LAST-MODIFIED:20250119T041554Z
UID:10000504-1732215600-1732226400@www.clarku.edu
SUMMARY:Wallace W. Atwood Lecture: Mercedes Bustamante\, University of Brasilia
DESCRIPTION:Mercedes Bustamante\, ecologist and professor at the University of Brasilia\, Brazil\,  will deliver the annual Wallace W. Atwood Lecture. \nBeyond forests: non-forested ecosystems and global change\n \nNon-forested ecosystems dominate more than a quarter of the world’s land area. They are widespread in the tropics\, making up grasslands and savannas\, presenting significant carbon stocks and biodiversity. While important initiatives are concerned with the conservation of forest ecosystems\, non-forest ecosystems (NFE)\, in contrast\, have not received equal attention. The Brazilian Cerrado\, the second largest biome in South America and a global hotspot for biodiversity conservation due to its biological richness and rapid loss of habitats\, represents some of the most fundamental challenges of current global crises. Despite the successful reversal of deforestation trends in the Amazon\, Cerrado deforestation continues to increase\, imperiling a biome that has already lost more than 50% of its original cover. Environmental changes may exacerbate land-use competition due to complex feedback processes between human and biophysical components in the land system\, with more severe impacts seen in the tropics due to their more significant land-based mitigation potential. Such complexity highlights how careful spatial planning\, robust scientific evidence\, and a better understanding of the political context are essential for sustainable climate policies. The achievement of the Paris Agreement requires more robust and more ambitious climate action with emphasis on the integrity of all ecosystems and the protection of biodiversity\, as climate change\, biodiversity\, and ecosystems are inextricably linked. \nhttps://bustamantelab.com.br/en/mercedes-bustamante-2/
URL:https://www.clarku.edu/events/event/wallace-w-atwood-lecture-mercedes-bustamante-university-of-brasilia/
LOCATION:Clark University – Tilton Hall\, 950 Main Street\, Worcester\, MA\, 01610\, United States
CATEGORIES:Campus/Community,Diversity/Equity/Inclusion,Education/Social Sciences,Environment/Sustainability,Humanities,Science/Technology
ATTACH;FMTTYPE=image/png:https://www.clarku.edu/events/wp-content/uploads/sites/7/2025/01/mercedes-bustamante-featured.png
END:VEVENT
BEGIN:VEVENT
DTSTART;TZID=America/New_York:20241121T180000
DTEND;TZID=America/New_York:20241121T190000
DTSTAMP:20260419T091845
CREATED:20241025T230600Z
LAST-MODIFIED:20241025T230600Z
UID:10000490-1732212000-1732215600@www.clarku.edu
SUMMARY:Sculpey With Julia
DESCRIPTION:Come make magnets\, trinkets\, whatever\, at Julia’s workshops on Thursdays at 6:00! Cover fee is $5 in cash!
URL:https://www.clarku.edu/events/event/sculpey-with-julia-4/2024-11-21/
CATEGORIES:Campus/Community
END:VEVENT
BEGIN:VEVENT
DTSTART;TZID=UTC:20241121T173000
DTEND;TZID=UTC:20241121T190000
DTSTAMP:20260419T091845
CREATED:20241030T215455Z
LAST-MODIFIED:20241030T215455Z
UID:10000491-1732210200-1732215600@www.clarku.edu
SUMMARY:International Poetry Night
DESCRIPTION:Back by popular demand! \nIn honor of International Education Week\, ALCI and the Office of Global Engagement will be hosting International Poetry Night. Come hear poetry\, short stories\, and songs performed in their original language. There are 88 languages present among the Clark University student body\, faculty\, and staff. Let’s have a night of beautiful language and cultural exchange!
URL:https://www.clarku.edu/events/event/international-poetry-night/
LOCATION:The Grind\, Higgins University Center\, 950 Main Street\, Worcester\, 01610\, United States
CATEGORIES:Arts/Music/Film,Campus/Community,Diversity/Equity/Inclusion
ATTACH;FMTTYPE=image/jpeg:https://www.clarku.edu/events/wp-content/uploads/sites/7/2025/01/Poetry-book-at-sunset.jpg
GEO:71.8253253;42.2505181
X-APPLE-STRUCTURED-LOCATION;VALUE=URI;X-ADDRESS=The Grind Higgins University Center 950 Main Street Worcester 01610 United States;X-APPLE-RADIUS=500;X-TITLE=950 Main Street:geo:42.2505181,71.8253253
END:VEVENT
BEGIN:VEVENT
DTSTART;TZID=America/New_York:20241121T170000
DTEND;TZID=America/New_York:20241121T193000
DTSTAMP:20260419T091845
CREATED:20241118T224950Z
LAST-MODIFIED:20241118T224950Z
UID:10000619-1732208400-1732217400@www.clarku.edu
SUMMARY:CUSB Thanksgiving Dinner
DESCRIPTION:The Clark University School of Business is thankful for YOU! Kick off the holiday season with our annual Thanksgiving Dinner—a special celebration of food\, community\, and gratitude. \nStudents – If this is your first Thanksgiving\, come enjoy traditional favorites like turkey\, pumpkin pie\, and cranberry sauce\, along with plenty of vegetarian options. And yes\, there will be pie! \nTICKETS REQUIRED! Please pick up your ticket in advance by first emailing assistant dean\, Laura Burgess at LBurgess@clarku.edu \n  \n 
URL:https://www.clarku.edu/events/event/cusb-thanksgiving-dinner/
LOCATION:Grace & Lurie Conference Rooms\, Higgins University Center
CATEGORIES:Campus/Community
ATTACH;FMTTYPE=image/jpeg:https://www.clarku.edu/events/wp-content/uploads/sites/7/2025/01/thanksgiving-dinner-e1636658430890-1.jpg
END:VEVENT
BEGIN:VEVENT
DTSTART;TZID=America/New_York:20241121T150000
DTEND;TZID=America/New_York:20241121T160000
DTSTAMP:20260419T091845
CREATED:20241025T230144Z
LAST-MODIFIED:20241025T230144Z
UID:10000486-1732201200-1732204800@www.clarku.edu
SUMMARY:Collage with Abby
DESCRIPTION:Come down to the Craft Studio on Thursdays at 3:00 where Abby can answer all of your collaging dreams!
URL:https://www.clarku.edu/events/event/collage-with-abby-4/2024-11-21/
CATEGORIES:Campus/Community
END:VEVENT
BEGIN:VEVENT
DTSTART;TZID=America/New_York:20241121T120000
DTEND;TZID=America/New_York:20241121T133000
DTSTAMP:20260419T091845
CREATED:20241030T231238Z
LAST-MODIFIED:20241030T231238Z
UID:10000497-1732190400-1732195800@www.clarku.edu
SUMMARY:Taste of the World
DESCRIPTION:Join us for a celebration of food from around the world as we showcase international cuisine. Additionally\, there will be international desserts from local Worcester restaurants! Doors open at noon in Tilton Hall. \nPlease bring your traditional clothing to wear for the pictures if you’d like!
URL:https://www.clarku.edu/events/event/taste-of-the-world/
CATEGORIES:Campus/Community
ATTACH;FMTTYPE=image/jpeg:https://www.clarku.edu/events/wp-content/uploads/sites/7/2025/01/international_cuisine_ireland_chinese_food___getty-e1732198982848.jpg
END:VEVENT
BEGIN:VEVENT
DTSTART;TZID=America/New_York:20241120T200000
DTEND;TZID=America/New_York:20241120T210000
DTSTAMP:20260419T091845
CREATED:20241115T012041Z
LAST-MODIFIED:20241115T012041Z
UID:10000612-1732132800-1732136400@www.clarku.edu
SUMMARY:Friendship Bracelets - Kindness Week Day 3
DESCRIPTION:
URL:https://www.clarku.edu/events/event/friendship-bracelets-kindness-week-day-3/
LOCATION:Jefferson 202
CATEGORIES:Campus/Community
END:VEVENT
BEGIN:VEVENT
DTSTART;TZID=UTC:20241120T183000
DTEND;TZID=UTC:20241120T193000
DTSTAMP:20260419T091845
CREATED:20241101T232014Z
LAST-MODIFIED:20241101T232014Z
UID:10000533-1732127400-1732131000@www.clarku.edu
SUMMARY:Men of Color Alliance (MOCA) Affinity Space Meeting
DESCRIPTION:
URL:https://www.clarku.edu/events/event/men-of-color-alliance-moca-affinity-space-meeting/2024-11-20/
LOCATION:Dana Commons – Fireside Lounge
CATEGORIES:Campus/Community
END:VEVENT
BEGIN:VEVENT
DTSTART;TZID=UTC:20241120T171500
DTEND;TZID=UTC:20241120T191500
DTSTAMP:20260419T091845
CREATED:20241101T232304Z
LAST-MODIFIED:20241101T232304Z
UID:10000536-1732122900-1732130100@www.clarku.edu
SUMMARY:Office Hours with Dean K.
DESCRIPTION:Visit clarku.edu/success to learn more about Student Success. Dean K. is also your Dean of Students\, ultimately charged with ensuring that Clark University continues to be student-centered – any concerns as a student can be discussed with Dean K. Join Dean K. in the Academic Commons\, located on the first floor of the Goddard Library!Attending this event fulfills Navigator Pathway programming: Reflect\, design\, and plan.
URL:https://www.clarku.edu/events/event/office-hours-with-dean-k-2/2024-11-20/
LOCATION:Academic Commons
CATEGORIES:Campus/Community
END:VEVENT
BEGIN:VEVENT
DTSTART;TZID=America/New_York:20241120T171500
DTEND;TZID=America/New_York:20241120T191500
DTSTAMP:20260419T091845
CREATED:20240914T002859Z
LAST-MODIFIED:20240914T002859Z
UID:10000224-1732122900-1732130100@www.clarku.edu
SUMMARY:Office Hours with Dean K.
DESCRIPTION:Visit clarku.edu/success to learn more about Student Success. Dean K. is also your Dean of Students\, ultimately charged with ensuring that Clark University continues to be student-centered – any concerns as a student can be discussed with Dean K. Join Dean K. in the Academic Commons\, located on the first floor of the Goddard Library!Attending this event fulfills Navigator Pathway programming: Reflect\, design\, and plan.
URL:https://www.clarku.edu/events/event/office-hours-with-dean-k/2024-11-20/
CATEGORIES:Campus/Community
END:VEVENT
BEGIN:VEVENT
DTSTART;TZID=UTC:20241120T170000
DTEND;TZID=UTC:20241120T190000
DTSTAMP:20260419T091845
CREATED:20241030T231006Z
LAST-MODIFIED:20241030T231006Z
UID:10000496-1732122000-1732129200@www.clarku.edu
SUMMARY:International Trivia Night
DESCRIPTION:
URL:https://www.clarku.edu/events/event/international-trivia-night/
LOCATION:The Grind\, Higgins University Center\, 950 Main Street\, Worcester\, 01610\, United States
CATEGORIES:Campus/Community
GEO:71.8253253;42.2505181
X-APPLE-STRUCTURED-LOCATION;VALUE=URI;X-ADDRESS=The Grind Higgins University Center 950 Main Street Worcester 01610 United States;X-APPLE-RADIUS=500;X-TITLE=950 Main Street:geo:42.2505181,71.8253253
END:VEVENT
BEGIN:VEVENT
DTSTART;TZID=America/New_York:20241120T170000
DTEND;TZID=America/New_York:20241120T180000
DTSTAMP:20260419T091845
CREATED:20241024T232425Z
LAST-MODIFIED:20241024T232425Z
UID:10000421-1732122000-1732125600@www.clarku.edu
SUMMARY:Buttons/Pins with Nora
DESCRIPTION:If you’ve never made your own pins\, or you have and want to make more\, come to the Craft Studio on Wednesdays at 5:00pm for Noras buttons/pins workshop!
URL:https://www.clarku.edu/events/event/buttons-pins-with-nora-2-2/2024-11-20/
CATEGORIES:Campus/Community
END:VEVENT
BEGIN:VEVENT
DTSTART;TZID=UTC:20241120T153000
DTEND;TZID=UTC:20241120T160000
DTSTAMP:20260419T091845
CREATED:20241101T231743Z
LAST-MODIFIED:20241101T231743Z
UID:10000530-1732116600-1732118400@www.clarku.edu
SUMMARY:Walk It Out Wednesday
DESCRIPTION:All bodies and walking paces are welcome. We meet at 3:30pm at the corner of Main Street and Woodland Street. Come take advantage of getting outdoors\, moving your body\, and getting social! Plus\, earn free wellness swag by attending this and other wellness staples each week!Attending this event fulfills Navigator Journey programming: Reflect\, design\, and plan.
URL:https://www.clarku.edu/events/event/walk-it-out-wednesday/2024-11-20/
LOCATION:Corner of Main & Woodland
CATEGORIES:Campus/Community
ORGANIZER;CN="Clark Wellness Education":MAILTO:wellness@clarku.edu
END:VEVENT
BEGIN:VEVENT
DTSTART;TZID=America/New_York:20241120T120000
DTEND;TZID=America/New_York:20241120T130000
DTSTAMP:20260419T091845
CREATED:20241108T012902Z
LAST-MODIFIED:20250119T042054Z
UID:10000565-1732104000-1732107600@www.clarku.edu
SUMMARY:The Oakland Bloom Kitchen: Nurturing Seeds of Memory and Resistance through Food and Culture
DESCRIPTION:Registration required \nThis event is hosted by the Integration and Belonging Hub at Clark University as part of the Belonging Talks Series\, and is co-sponsored by the Department of Sustainability and Social Justice\, the Sustainable Food Systems Program\, the Office of Diversity and Inclusion\, the Sociology Department\, and the Political Science Department\, with the generous support of the Chester Bland Fund. \nSpeakers: Claudia Luz Suarez (Oakland Bloom staff and co-owner of Café con Cariño) and Chef Nicole Garcia (Member of the Chef’s Collective and owner of ASÚKAR\, a Palestinian Cuban Fusion restaurant in Oakland\, CA) \nFor the Fall ‘24 semester\, the Belonging Talks Series will explore the theme of “Food\, Migration\, and Belonging: Sustainable Practices for Integrated Communities.” Our speakers will present on the role of food and cooking in mobile homemaking and as contributing to sustainable and inclusive societies. \nThis talk highlights the resilience of communities who use food to reclaim their identities and preserve their stories. For their Belonging Talk\, Claudia and Chef Nikki will be discussing the power of food as a vessel for memory and resistance within the context of their Palestinian and Salvadoran cultures. As operators of Oakland Bloom’s shared restaurant space\, Open Test Kitchen (OTK)\, Claudia and Nikki are co-stewarding a community space along with other BIPOC chefs\, where food reclamation and cultural survival is at the center. Attend their talk to learn more about Oakland Bloom’s business training and incubator program and its transformative potential for the community of Oakland\, CA. \nModerator: Jude Fernando\, Associate Professor of Sustainability and Social Justice\, Clark University \nQuestions? Email the Integration and Belonging Hub (IBH@clarku.edu) or Anita Fábos (afabos@clarku.edu) \nFor information on future talks in this series\, please join the IBH Mailing List. 
URL:https://www.clarku.edu/events/event/the-oakland-bloom-kitchen-nurturing-seeds-of-memory-and-resistance-through-food-and-culture/
LOCATION:Online
CATEGORIES:Campus/Community,Diversity/Equity/Inclusion
ATTACH;FMTTYPE=image/png:https://www.clarku.edu/events/wp-content/uploads/sites/7/2025/01/Oakland-Bloom-Poster.png
END:VEVENT
BEGIN:VEVENT
DTSTART;TZID=America/New_York:20241119T173000
DTEND;TZID=America/New_York:20241119T183000
DTSTAMP:20260419T091845
CREATED:20241115T011917Z
LAST-MODIFIED:20241115T011917Z
UID:10000611-1732037400-1732041000@www.clarku.edu
SUMMARY:1GEN (First-Gen College Student) Affinity Space Meeting
DESCRIPTION:
URL:https://www.clarku.edu/events/event/1gen-first-gen-college-student-affinity-space-meeting/
LOCATION:McCann Resource Room (Dana Commons)
CATEGORIES:Campus/Community
END:VEVENT
BEGIN:VEVENT
DTSTART;TZID=UTC:20241119T130000
DTEND;TZID=UTC:20241119T150000
DTSTAMP:20260419T091845
CREATED:20241030T230506Z
LAST-MODIFIED:20241030T230506Z
UID:10000494-1732021200-1732028400@www.clarku.edu
SUMMARY:Study Abroad Tea House
DESCRIPTION:Enjoy a cup of tea in Jonas Clark 208(ALCI lounge) and learn about study abroad opportunities and faculty-led summer programs.
URL:https://www.clarku.edu/events/event/study-abroad-tea-house-2/
LOCATION:ALCI Lounge\, Jonas Clark 208
CATEGORIES:Academic,Campus/Community,Humanities
END:VEVENT
BEGIN:VEVENT
DTSTART;TZID=UTC:20241119T103000
DTEND;TZID=UTC:20241119T114500
DTSTAMP:20260419T091845
CREATED:20241030T230232Z
LAST-MODIFIED:20241030T230232Z
UID:10000493-1732012200-1732016700@www.clarku.edu
SUMMARY:Peace Corps Discussion
DESCRIPTION:Have you ever considered joining Peace Corps? Please come to Jefferson Room 320 to get informed by the regional Peace Corps Recruiter as they talk about their experiences and the application process. Additionally\, you will be informed on the new Peace Corps Prep program.
URL:https://www.clarku.edu/events/event/peace-corps-discussion/
LOCATION:Jefferson 320
CATEGORIES:Academic,Campus/Community,Humanities
END:VEVENT
BEGIN:VEVENT
DTSTART;TZID=America/New_York:20241119T100000
DTEND;TZID=America/New_York:20241119T170000
DTSTAMP:20260419T091845
CREATED:20241118T194806Z
LAST-MODIFIED:20241118T194806Z
UID:10000618-1732010400-1732035600@www.clarku.edu
SUMMARY:Campus Blood Drive for Rhode Island Blood Center
DESCRIPTION:The CEV office has partnered with the Rhode Island Blood Center to host a blood drive. Attending this event fulfills Navigator Journey programming: Connect & engage with communities. \nYou must sign up through the Rhode Island Blood Center directly\, using sponsor code M049\, as they will be the ones managing time slots. \nLearn about blood donation eligibility \nMore info on FDA regulations on LGBTQ blood donation \nHuman Rights Campaign article about LGBTQ federal blood donation policies
URL:https://www.clarku.edu/events/event/blood-drive-with-rhode-island-blood-center-2-2/
LOCATION:Clark University\, Tilton Hall\, Higgins University Center – 2nd Floor\, 950 Main Street\, Worcester\, MA\, 01610\, United States
CATEGORIES:Campus/Community
ATTACH;FMTTYPE=image/jpeg:https://www.clarku.edu/events/wp-content/uploads/sites/7/2025/01/blood-drive.jpg
END:VEVENT
BEGIN:VEVENT
DTSTART;TZID=UTC:20241118T190000
DTEND;TZID=UTC:20241118T200000
DTSTAMP:20260419T091845
CREATED:20241101T233540Z
LAST-MODIFIED:20241101T233540Z
UID:10000544-1731956400-1731960000@www.clarku.edu
SUMMARY:Kol Yisrael Learning Fellowship
DESCRIPTION:
URL:https://www.clarku.edu/events/event/kol-yisrael-learning-fellowship/2024-11-18/
LOCATION:Lurie Conference Room\, UC
CATEGORIES:Campus/Community
END:VEVENT
BEGIN:VEVENT
DTSTART;TZID=America/New_York:20241118T180000
DTEND;TZID=America/New_York:20241118T190000
DTSTAMP:20260419T091845
CREATED:20241018T000223Z
LAST-MODIFIED:20241018T000223Z
UID:10000299-1731952800-1731956400@www.clarku.edu
SUMMARY:Wheel With Zoë
DESCRIPTION:Come to Zoë’s Wheel Workshop on Mondays to get the rundown! Once you’ve been to a wheel workshop\, you can come to the Craft Studio anytime to put what you’ve learned to practice!
URL:https://www.clarku.edu/events/event/wheel-with-zoe-2/2024-11-18/
LOCATION:Craft Studio
CATEGORIES:Campus/Community
END:VEVENT
BEGIN:VEVENT
DTSTART;TZID=America/New_York:20241118T180000
DTEND;TZID=America/New_York:20241118T190000
DTSTAMP:20260419T091845
CREATED:20241018T000223Z
LAST-MODIFIED:20241018T000223Z
UID:10000395-1731952800-1731956400@www.clarku.edu
SUMMARY:Wheel With Zoë
DESCRIPTION:Come to Zoë’s Wheel Workshop on Mondays to get the rundown! Once you’ve been to a wheel workshop\, you can come to the Craft Studio anytime to put what you’ve learned to practice!
URL:https://www.clarku.edu/events/event/wheel-with-zoe-2-2/2024-11-18/
CATEGORIES:Campus/Community
END:VEVENT
END:VCALENDAR