BEGIN:VCALENDAR
VERSION:2.0
PRODID:-//Events - ECPv6.15.20//NONSGML v1.0//EN
CALSCALE:GREGORIAN
METHOD:PUBLISH
X-ORIGINAL-URL:https://www.clarku.edu/events
X-WR-CALDESC:Events for Events
REFRESH-INTERVAL;VALUE=DURATION:PT1H
X-Robots-Tag:noindex
X-PUBLISHED-TTL:PT1H
BEGIN:VTIMEZONE
TZID:America/New_York
BEGIN:DAYLIGHT
TZOFFSETFROM:-0500
TZOFFSETTO:-0400
TZNAME:EDT
DTSTART:20200308T070000
END:DAYLIGHT
BEGIN:STANDARD
TZOFFSETFROM:-0400
TZOFFSETTO:-0500
TZNAME:EST
DTSTART:20201101T060000
END:STANDARD
BEGIN:DAYLIGHT
TZOFFSETFROM:-0500
TZOFFSETTO:-0400
TZNAME:EDT
DTSTART:20210314T070000
END:DAYLIGHT
BEGIN:STANDARD
TZOFFSETFROM:-0400
TZOFFSETTO:-0500
TZNAME:EST
DTSTART:20211107T060000
END:STANDARD
BEGIN:DAYLIGHT
TZOFFSETFROM:-0500
TZOFFSETTO:-0400
TZNAME:EDT
DTSTART:20220313T070000
END:DAYLIGHT
BEGIN:STANDARD
TZOFFSETFROM:-0400
TZOFFSETTO:-0500
TZNAME:EST
DTSTART:20221106T060000
END:STANDARD
BEGIN:DAYLIGHT
TZOFFSETFROM:-0500
TZOFFSETTO:-0400
TZNAME:EDT
DTSTART:20230312T070000
END:DAYLIGHT
BEGIN:STANDARD
TZOFFSETFROM:-0400
TZOFFSETTO:-0500
TZNAME:EST
DTSTART:20231105T060000
END:STANDARD
BEGIN:DAYLIGHT
TZOFFSETFROM:-0500
TZOFFSETTO:-0400
TZNAME:EDT
DTSTART:20240310T070000
END:DAYLIGHT
BEGIN:STANDARD
TZOFFSETFROM:-0400
TZOFFSETTO:-0500
TZNAME:EST
DTSTART:20241103T060000
END:STANDARD
BEGIN:DAYLIGHT
TZOFFSETFROM:-0500
TZOFFSETTO:-0400
TZNAME:EDT
DTSTART:20250309T070000
END:DAYLIGHT
BEGIN:STANDARD
TZOFFSETFROM:-0400
TZOFFSETTO:-0500
TZNAME:EST
DTSTART:20251102T060000
END:STANDARD
END:VTIMEZONE
BEGIN:VTIMEZONE
TZID:UTC
BEGIN:STANDARD
TZOFFSETFROM:+0000
TZOFFSETTO:+0000
TZNAME:UTC
DTSTART:20210101T000000
END:STANDARD
END:VTIMEZONE
BEGIN:VEVENT
DTSTART;TZID=America/New_York:20240430T130000
DTEND;TZID=America/New_York:20240430T140000
DTSTAMP:20260421T045735
CREATED:20240425T183828Z
LAST-MODIFIED:20240425T183828Z
UID:10000028-1714482000-1714485600@www.clarku.edu
SUMMARY:Mindfulness & Meditation
DESCRIPTION:
URL:https://www.clarku.edu/events/event/mindfulness-meditation/
CATEGORIES:Campus/Community
END:VEVENT
BEGIN:VEVENT
DTSTART;TZID=America/New_York:20240430T100000
DTEND;TZID=America/New_York:20240430T120000
DTSTAMP:20260421T045735
CREATED:20240425T183613Z
LAST-MODIFIED:20240425T183613Z
UID:10000027-1714471200-1714478400@www.clarku.edu
SUMMARY:Choose Your Soothe - RLH - Feel Good Finals
DESCRIPTION:
URL:https://www.clarku.edu/events/event/choose-your-soothe-rlh-feel-good-finals/
CATEGORIES:Campus/Community
END:VEVENT
BEGIN:VEVENT
DTSTART;TZID=America/New_York:20240429T150000
DTEND;TZID=America/New_York:20240429T160000
DTSTAMP:20260421T045735
CREATED:20240425T183235Z
LAST-MODIFIED:20240425T183235Z
UID:10000026-1714402800-1714406400@www.clarku.edu
SUMMARY:Feel Good Finals: Decoupage Bookmarks
DESCRIPTION:Decoupage is the art of decorating an object by gluing colored paper cutouts onto it.
URL:https://www.clarku.edu/events/event/feel-good-finals-decoupage-bookmarks/
CATEGORIES:Campus/Community
END:VEVENT
BEGIN:VEVENT
DTSTART;TZID=UTC:20240429T150000
DTEND;TZID=UTC:20240429T160000
DTSTAMP:20260421T045735
CREATED:20240418T163833Z
LAST-MODIFIED:20240418T163833Z
UID:10000016-1714402800-1714406400@www.clarku.edu
SUMMARY:Staff Town Hall - Campus Climate Results
DESCRIPTION:Join the Office of Diversity and Inclusion as we go through the key themes from the Campus Climate Survey data. \nThe session will be held via Zoom and there will be time for Q&A at the end. \nPlease contact odi@clarku.edu with any questions. \nWe look forward to seeing you there!
URL:https://www.clarku.edu/events/event/staff-town-hall-campus-climate-results/
CATEGORIES:Campus/Community,Diversity/Equity/Inclusion
ATTACH;FMTTYPE=image/jpeg:https://www.clarku.edu/events/wp-content/uploads/sites/7/2025/01/OurClarkBug-Final-100623-HiRes-2.jpg
END:VEVENT
BEGIN:VEVENT
DTSTART;TZID=America/New_York:20240429T130000
DTEND;TZID=America/New_York:20240429T140000
DTSTAMP:20260421T045735
CREATED:20240425T183022Z
LAST-MODIFIED:20240425T183022Z
UID:10000025-1714395600-1714399200@www.clarku.edu
SUMMARY:Coloring with CCC - Feel Good Finals
DESCRIPTION:
URL:https://www.clarku.edu/events/event/coloring-with-ccc-feel-good-finals/
CATEGORIES:Campus/Community
END:VEVENT
BEGIN:VEVENT
DTSTART;TZID=America/New_York:20240425T120000
DTEND;TZID=America/New_York:20240425T130000
DTSTAMP:20260421T045735
CREATED:20240425T182556Z
LAST-MODIFIED:20240425T182556Z
UID:10000024-1714046400-1714050000@www.clarku.edu
SUMMARY:Personal Safety and Street Smarts
DESCRIPTION:We will learn about wellness and personal safety in the city\, on campus\, and even in your vehicle. We will also learn about self-defense\, and reporting incidents that happen on and off campus.
URL:https://www.clarku.edu/events/event/personal-safety-and-street-smarts/
CATEGORIES:Campus/Community
END:VEVENT
BEGIN:VEVENT
DTSTART;TZID=UTC:20240425T100000
DTEND;TZID=UTC:20240425T110000
DTSTAMP:20260421T045735
CREATED:20240418T163607Z
LAST-MODIFIED:20240418T163607Z
UID:10000015-1714039200-1714042800@www.clarku.edu
SUMMARY:Graduate Student Town Hall - Campus Climate Results
DESCRIPTION:Join the Office of Diversity and Inclusion as we go through the key themes from the Campus Climate Survey data. \nThe session will be held via Zoom and there will be time for Q&A at the end. \nPlease contact odi@clarku.edu with any questions. \nWe look forward to seeing you there!
URL:https://www.clarku.edu/events/event/graduate-student-town-hall-campus-climate-results/
CATEGORIES:Campus/Community,Diversity/Equity/Inclusion
ATTACH;FMTTYPE=image/jpeg:https://www.clarku.edu/events/wp-content/uploads/sites/7/2025/01/OurClarkBug-Final-100623-HiRes-1.jpg
END:VEVENT
BEGIN:VEVENT
DTSTART;TZID=America/New_York:20240420T080000
DTEND;TZID=America/New_York:20240420T120000
DTSTAMP:20260421T045735
CREATED:20240415T191009Z
LAST-MODIFIED:20240415T191009Z
UID:10000011-1713600000-1713614400@www.clarku.edu
SUMMARY:Earth Day Cleanup of University Park
DESCRIPTION:Each year\, hundreds of volunteers across Worcester come together to make our city a healthy\, clean\, and beautiful place to live\, work\, and play. The Regional Environmental Council’s Earth Day Cleanup is on Saturday\, April 20\, from 9 a.m. to noon. The Office of Community Engagement and Volunteering invites volunteers from across campus to help with our site at University Park. \nThe cleanup will be followed by a community cookout from noon to 2 p.m. at the REC Office and YouthGROW Farm at 42 Lagrange St.\, Rear\, Worcester. \nRegister on GivePulse »
URL:https://www.clarku.edu/events/event/earth-day-cleanup-of-university-park/
CATEGORIES:Campus/Community,Environment/Sustainability
ATTACH;FMTTYPE=image/jpeg:https://www.clarku.edu/events/wp-content/uploads/sites/7/2025/01/university-park-event.jpg
END:VEVENT
BEGIN:VEVENT
DTSTART;TZID=America/New_York:20231207T120000
DTEND;TZID=America/New_York:20231207T133000
DTSTAMP:20260421T045735
CREATED:20231203T182041Z
LAST-MODIFIED:20250407T202556Z
UID:10000826-1701950400-1701955800@www.clarku.edu
SUMMARY:Conversation about Oct. 7 and Gaza
DESCRIPTION:Please join us for a conversation about the attacks in Israel on October 7\, what is currently happening in Gaza\, and what it has to do with us. We will discuss several topics\, including antisemitism\, Islamophobia\, and violence. The format will allow participants to ask questions and to discuss. The conversation will be led by Zoé Samudzi and Frances Tanzer\, professors with the Strassler Center for Holocaust and Genocide Studies.
URL:https://www.clarku.edu/events/event/conversation-about-october-7-and-gaza-hosted-by-faculty-of-the-strassler-center-for-holocaust-and-genocide-studies/
CATEGORIES:Campus/Community,Diversity/Equity/Inclusion
ATTACH;FMTTYPE=image/jpeg:https://www.clarku.edu/events/wp-content/uploads/sites/7/2025/01/Carved-Seal-1024x.jpg
END:VEVENT
BEGIN:VEVENT
DTSTART;TZID=UTC:20231004T150000
DTEND;TZID=UTC:20231004T160000
DTSTAMP:20260421T045735
CREATED:20240819T225022Z
LAST-MODIFIED:20250119T035220Z
UID:10000140-1696431600-1696435200@www.clarku.edu
SUMMARY:Poetry Reading and Discussion with Adael Mejía\, Worcester’s Youth Poet Laureate
DESCRIPTION:Join us for a special event in honor of Latine/Latinx Heritage Month. Adael “Ace” Mejía\, Worcester’s Youth Poet Laureate\, will be at Clark University for a poetry reading and moderated discussion. Mejía is a multifaceted artist\, youth worker\, and performer of Ecuadorean heritage. He will read from his recent works and share more about his journey. \nAdmission to the event is free and open to the public. Refreshments will be provided. \n\nThis event is part of the CEV Speaker Series and is sponsored by the Community Engagement and Volunteering Office and the Higgins School of Humanities at Clark University. \nFor Clark Students:\nThis event fulfills Navigator Journey programming: Connect and Engage with Communities.
URL:https://www.clarku.edu/events/event/poetry-reading-and-discussion-with-adael-mejia-worcesters-youth-poet-laureate-2/
CATEGORIES:Academic,Campus/Community,Humanities
ATTACH;FMTTYPE=image/jpeg:https://www.clarku.edu/events/wp-content/uploads/sites/7/2025/01/Youth-Poet-Laureate-1.jpg
END:VEVENT
BEGIN:VEVENT
DTSTART;TZID=America/New_York:20221201T120000
DTEND;TZID=America/New_York:20221201T131500
DTSTAMP:20260421T045735
CREATED:20221014T174427Z
LAST-MODIFIED:20250407T201348Z
UID:10000815-1669896000-1669900500@www.clarku.edu
SUMMARY:Exploring/Recording Stories of Survival: Gatumba Survivors Project
DESCRIPTION:Exploring/Recording Stories of Survival: Gatumba Survivors Project\nWith Professor Chris Davey and guest\, Espoir Nindeba\n\nExplore Professor Davey’s Open Digital Project at https://commons.clarku.edu/gatumba/\n\nOn Aug. 13\, 2004\, 166 people were massacred\, and around a hundred were injured\, at a UN refugee camp near Gatumba\, Burundi. Most of the victims were members of the Banyamulenge community — a Congolese Tutsi ethnic group — fleeing outbreaks of violence in the Democratic Republic of Congo. Banyamulenge refugees were deliberately targeted by the Forces Nationales de Libération (FNL)\, a Hutu supremacist rebel group fighting in Burundi’s civil war. During the massacre\, hundreds of FNL fighters beat drums and sang Christian hymns as they shot\, stabbed\, and burned refugees. The next day\, an FNL spokesman claimed responsibility for the attack.\n\nDespite investigations by the UN and Human Rights Watch confirming the involvement of the FNL and its then-leader Agathon Rwasa\, the justice system stalled for political reasons. Most survivors of Gatumba have resettled from Burundi as refugees in the US\, UK\, Rwanda\, Kenya\, and other countries.\n\nThe purpose of this archive is to preserve witnesses to this massacre and evidence its lifelong impact on survivors\, as well as document the lives of this refugee group.\n\nThis will be a hybrid event. https://clarku.zoom.us/j/98578069306\n\nProfessor Chris Davey is Charles E. Scheidt Visiting Assistant Professor of Genocide Studies and Genocide Prevention\, Strassler Center for Holocaust and Genocide Studies.\n\nThe Goddard Library Open Project Series is an event series dedicated to highlighting open collections made available through Clark University’s Institutional Repository\, Digital Commons.
URL:https://www.clarku.edu/events/event/exploring-recording-stories-of-survival-gatumba-survivors-project/
CATEGORIES:Campus/Community,Education/Social Sciences,Humanities
ATTACH;FMTTYPE=image/jpeg:https://www.clarku.edu/events/wp-content/uploads/sites/7/2025/01/gatumba-aftermath.jpg
END:VEVENT
BEGIN:VEVENT
DTSTART;TZID=UTC:20221116T120000
DTEND;TZID=UTC:20221116T130000
DTSTAMP:20260421T045735
CREATED:20240819T232205Z
LAST-MODIFIED:20250119T035228Z
UID:10000141-1668600000-1668603600@www.clarku.edu
SUMMARY:Community Conversation: Growing the Pie
DESCRIPTION:  \n \n**This event is open only to the Clark community.** \nJoin us for the final installment of our series\, Nourishing Teaching\, Learning & Research in the Arts & Humanities. These discussions will provide an opportunity for Clark faculty\, staff\, and students to engage in conversation around the strategic priorities of the Higgins School in partnership with the University’s strategic framework team. Lunch will be provided at each event. Reservations are required using the link below. \nSession 4: Growing the Pie\nA conversation about Improving financial support for research/creative work\nRSVP Here: https://forms.office.com/r/Mv1S0cjjyn. \nSponsored by the Higgins School of Humanities at Clark University
URL:https://www.clarku.edu/events/event/community-conversation-growing-the-pie/
CATEGORIES:Academic,Arts/Music/Film,Campus/Community,Humanities
ATTACH;FMTTYPE=image/png:https://www.clarku.edu/events/wp-content/uploads/sites/7/2025/01/Purple-Logo-10-19-1.png
END:VEVENT
BEGIN:VEVENT
DTSTART;TZID=UTC:20221027T120000
DTEND;TZID=UTC:20221027T130000
DTSTAMP:20260421T045735
CREATED:20240819T233049Z
LAST-MODIFIED:20250119T035238Z
UID:10000142-1666872000-1666875600@www.clarku.edu
SUMMARY:Community Conversation: Cooking Up Some Scholarship and Creative Work\, Together
DESCRIPTION:  \n \nPlease join us for the next installment of our series\, Nourishing Teaching\, Learning & Research in the Arts & Humanities. These discussions will provide an opportunity for Clark faculty\, staff\, and students to engage in conversation around the strategic priorities of the Higgins School in partnership with the University’s strategic framework team. This event is open only to the Clark community; please register at the link below. Lunch will be provided at each event. \nSession 2: Cooking Up Some Scholarship and Creative Work\, Together\nA conversation about research collaboratives and other supports\nRSVP Here: https://forms.office.com/r/Mv1S0cjjyn. \nSponsored by the Higgins School of Humanities at Clark University
URL:https://www.clarku.edu/events/event/community-conversation-cooking-up-some-scholarship-and-creative-work-together/
CATEGORIES:Academic,Arts/Music/Film,Campus/Community,Humanities
ATTACH;FMTTYPE=image/png:https://www.clarku.edu/events/wp-content/uploads/sites/7/2025/01/10-27-Banner-1.png
END:VEVENT
BEGIN:VEVENT
DTSTART;TZID=America/New_York:20221012T130000
DTEND;TZID=America/New_York:20221012T140000
DTSTAMP:20260421T045735
CREATED:20220927T222536Z
LAST-MODIFIED:20250407T201422Z
UID:10000816-1665579600-1665583200@www.clarku.edu
SUMMARY:Faculty Conversation on First-Year Common Read
DESCRIPTION:Come join us for an interdisciplinary faculty panel on how “Parable of the Sower: A Graphic Novel Adaptation” inspires research\, teaching\, and activism. Panelists will include Dean of the Faculty Esther Jones (English)\, Professor Jacqueline Dresch (Biology)\, and Professor Chris Davies (Strassler Center for Holocaust and Genocide Studies). \n\nThis panel is part of Clark University’s Common Academic Experience program\, which introduces the first-year class to a common text on pressing issues that inspire the academic and research programs at Clark.  \n\nAll are welcome to attend; light refreshments will be served. \n\nThe text is available as an e-book through Goddard Library.
URL:https://www.clarku.edu/events/event/clark-faculty-conversation-on-first-year-common-read-parable-of-the-sower-a-graphic-novel-adaptation/
CATEGORIES:Campus/Community,Diversity/Equity/Inclusion,Humanities
ATTACH;FMTTYPE=image/jpeg:https://www.clarku.edu/events/wp-content/uploads/sites/7/2025/01/Parable-of-the-Sower-1-1.jpg
END:VEVENT
BEGIN:VEVENT
DTSTART;TZID=America/New_York:20211103T170000
DTEND;TZID=America/New_York:20211103T183000
DTSTAMP:20260421T045735
CREATED:20211027T070723Z
LAST-MODIFIED:20250602T153054Z
UID:10000807-1635958800-1635964200@www.clarku.edu
SUMMARY:The Ecology of Genocide - Felipe Milanez
DESCRIPTION:Speaker: Felipe Milanez\, Professor at the Institute for Humanities\, Arts and Sciences Professor Milton Santos and the Multidisciplinary Postgraduate Program in Culture and Society\, of the Federal University of Bahia\, Brazil \nThis presentation investigates the relationships between the physical destruction of humans and of nature in the Brazilian Amazon. It pays particular attention to the extreme situation of the remaining indigenous peoples in isolation. Historically\, the Amazon has given refuge to massacre survivors and provided the means to rebuild worlds destroyed in wars of conquest. The capture of territories and the control of resources are perennial engines of contemporary genocide perpetrated against indigenous and traditional communities in Brazil\, despite the fundamental rights established by the Federal Constitution of 1988\, a contradiction which has accelerated with the rise of fascist military authoritarianism and the disproportional effect of the Covid-19 pandemic on indigenous and traditional peoples. Resisting genocide and defending forests\, rivers and the ecology of life are deeply interconnected. \nWatch video of event \nSponsored by A new Earth conversation (NEC) and the Strassler Center for Holocaust and Genocide Studies at Clark University. \n 
URL:https://www.clarku.edu/events/event/the-ecology-of-genocide-felipe-milanez/
CATEGORIES:Academic,Campus/Community,Education/Social Sciences,Environment/Sustainability
END:VEVENT
END:VCALENDAR