BEGIN:VCALENDAR
VERSION:2.0
PRODID:-//Events - ECPv6.15.20//NONSGML v1.0//EN
CALSCALE:GREGORIAN
METHOD:PUBLISH
X-ORIGINAL-URL:https://www.clarku.edu/events
X-WR-CALDESC:Events for Events
REFRESH-INTERVAL;VALUE=DURATION:PT1H
X-Robots-Tag:noindex
X-PUBLISHED-TTL:PT1H
BEGIN:VTIMEZONE
TZID:America/New_York
BEGIN:DAYLIGHT
TZOFFSETFROM:-0500
TZOFFSETTO:-0400
TZNAME:EDT
DTSTART:20230312T070000
END:DAYLIGHT
BEGIN:STANDARD
TZOFFSETFROM:-0400
TZOFFSETTO:-0500
TZNAME:EST
DTSTART:20231105T060000
END:STANDARD
BEGIN:DAYLIGHT
TZOFFSETFROM:-0500
TZOFFSETTO:-0400
TZNAME:EDT
DTSTART:20240310T070000
END:DAYLIGHT
BEGIN:STANDARD
TZOFFSETFROM:-0400
TZOFFSETTO:-0500
TZNAME:EST
DTSTART:20241103T060000
END:STANDARD
BEGIN:DAYLIGHT
TZOFFSETFROM:-0500
TZOFFSETTO:-0400
TZNAME:EDT
DTSTART:20250309T070000
END:DAYLIGHT
BEGIN:STANDARD
TZOFFSETFROM:-0400
TZOFFSETTO:-0500
TZNAME:EST
DTSTART:20251102T060000
END:STANDARD
END:VTIMEZONE
BEGIN:VTIMEZONE
TZID:UTC
BEGIN:STANDARD
TZOFFSETFROM:+0000
TZOFFSETTO:+0000
TZNAME:UTC
DTSTART:20230101T000000
END:STANDARD
END:VTIMEZONE
BEGIN:VEVENT
DTSTART;TZID=America/New_York:20240925T171500
DTEND;TZID=America/New_York:20240925T191500
DTSTAMP:20260420T165143
CREATED:20240914T002859Z
LAST-MODIFIED:20240914T002859Z
UID:10000216-1727284500-1727291700@www.clarku.edu
SUMMARY:Office Hours with Dean K.
DESCRIPTION:Visit clarku.edu/success to learn more about Student Success. Dean K. is also your Dean of Students\, ultimately charged with ensuring that Clark University continues to be student-centered – any concerns as a student can be discussed with Dean K. Join Dean K. in the Academic Commons\, located on the first floor of the Goddard Library!Attending this event fulfills Navigator Pathway programming: Reflect\, design\, and plan.
URL:https://www.clarku.edu/events/event/office-hours-with-dean-k/2024-09-25/
CATEGORIES:Campus/Community
END:VEVENT
BEGIN:VEVENT
DTSTART;TZID=UTC:20240925T150000
DTEND;TZID=UTC:20240925T160000
DTSTAMP:20260420T165143
CREATED:20240904T210954Z
LAST-MODIFIED:20240904T210954Z
UID:10000099-1727276400-1727280000@www.clarku.edu
SUMMARY:Welcome Back with ODI
DESCRIPTION:Join the Office of Diversity and Inclusion in our annual Welcome Back event! You will be able to meet the office staff\, learn about what we do and how we can help\, and meet new people from Clark. \nLight refreshments and entertainment provided! \nThis event is open to all of Clark students\, staff\, and faculty.
URL:https://www.clarku.edu/events/event/welcome-back-with-odi/
CATEGORIES:Campus/Community,Diversity/Equity/Inclusion
ATTACH;FMTTYPE=image/png:https://www.clarku.edu/events/wp-content/uploads/sites/7/2025/01/Office-of-Diversity-and-Inclusion-7-e1726845171922.png
END:VEVENT
BEGIN:VEVENT
DTSTART;TZID=America/New_York:20240925T120000
DTEND;TZID=America/New_York:20240925T130000
DTSTAMP:20260420T165143
CREATED:20240923T032954Z
LAST-MODIFIED:20240923T032954Z
UID:10000238-1727265600-1727269200@www.clarku.edu
SUMMARY:Higher Education’s Pivotal Moment: The Intersection of Academic Capitalism and the Public Good
DESCRIPTION:Join the conversation as our own Associate Provost for Student Success and Dean of Students\, Kamala Kiem\, Ph.D\, shares the research she completed for her Ph.D. dissertation at the University of Massachusetts\, Boston. \nDr. Kiem will be interviewed by University Librarian Laura Robinson and audience engagement is highly encouraged. \nAll students\, faculty\, and staff are invited to attend. \nLight refreshments will be served. \nView Dr. Kiem’s dissertation »
URL:https://www.clarku.edu/events/event/higher-educations-pivotal-moment-the-intersection-of-academic-capitalism-and-the-public-good/
CATEGORIES:Campus/Community
ATTACH;FMTTYPE=image/jpeg:https://www.clarku.edu/events/wp-content/uploads/sites/7/2025/01/Kiem-for-calendar.jpg
END:VEVENT
BEGIN:VEVENT
DTSTART;TZID=America/New_York:20240921T180000
DTEND;TZID=America/New_York:20240921T200000
DTSTAMP:20260420T165143
CREATED:20240920T235039Z
LAST-MODIFIED:20240920T235039Z
UID:10000236-1726941600-1726948800@www.clarku.edu
SUMMARY:Music Bingo by PEC!
DESCRIPTION:Free food and water will be provided. Attending this event fulfills Navigator Journey programming: Connect and Engage with Communities.
URL:https://www.clarku.edu/events/event/music-bingo-by-pec/
CATEGORIES:Campus/Community
END:VEVENT
BEGIN:VEVENT
DTSTART;TZID=America/New_York:20240921T180000
DTEND;TZID=America/New_York:20240921T200000
DTSTAMP:20260420T165143
CREATED:20240920T234810Z
LAST-MODIFIED:20240920T234810Z
UID:10000235-1726941600-1726948800@www.clarku.edu
SUMMARY:Ice Skating
DESCRIPTION:No experience is required. We will have licensed coaches to help improve your skating skills regardless of your level\, or you can skate around freely. The first 20 students to RSVP will be guaranteed free skate rentals. For everyone else\, skate rentals may be $7 (although they will most likely be free for everyone). Those that assist with transportation will be reimbursed.*Please note that a maximum of 50 people will be able to skate due to safety reasons\, and those that RSVP will be accounted for first*We will meet at the Red Square (rain / snow location on the first floor of the library by the cafe) then head over to the rink together.
URL:https://www.clarku.edu/events/event/ice-skating-2/
CATEGORIES:Campus/Community
END:VEVENT
BEGIN:VEVENT
DTSTART;TZID=America/New_York:20240921T130000
DTEND;TZID=America/New_York:20240921T150000
DTSTAMP:20260420T165143
CREATED:20240920T233959Z
LAST-MODIFIED:20240920T233959Z
UID:10000234-1726923600-1726930800@www.clarku.edu
SUMMARY:Bubbles and Whine
DESCRIPTION:
URL:https://www.clarku.edu/events/event/bubbles-and-whine/
CATEGORIES:Campus/Community
END:VEVENT
BEGIN:VEVENT
DTSTART;TZID=America/New_York:20240921T130000
DTEND;TZID=America/New_York:20240921T143000
DTSTAMP:20260420T165143
CREATED:20240920T233650Z
LAST-MODIFIED:20240920T233650Z
UID:10000233-1726923600-1726929000@www.clarku.edu
SUMMARY:Collage Night!
DESCRIPTION:Come join us as we snip and glue magazines\, stickers\, and whatever else we can find to make some one-of-a-kind collages. Materials will be provided\, but anyone is encouraged to bring additional materials if they’d like. Hope to see you there!
URL:https://www.clarku.edu/events/event/collage-night/
CATEGORIES:Campus/Community
END:VEVENT
BEGIN:VEVENT
DTSTART;TZID=America/New_York:20240921T090000
DTEND;TZID=America/New_York:20240921T120000
DTSTAMP:20260420T165143
CREATED:20240816T212242Z
LAST-MODIFIED:20240816T212242Z
UID:10000121-1726909200-1726920000@www.clarku.edu
SUMMARY:University Park Farmers Market 2024
DESCRIPTION:Right across from the Clark campus\, the University Park Farmers Market hosts local farmers and vendors each Saturday\, June through October. You’ll find fresh and local produce\, meats\, and more\, plus fun family activities and even a food truck. \nVisit the Regional Environmental Council on Facebook for each week’s schedule.
URL:https://www.clarku.edu/events/event/university-park-farmers-market-2024/2024-09-21/
CATEGORIES:Campus/Community
ATTACH;FMTTYPE=image/jpeg:https://www.clarku.edu/events/wp-content/uploads/sites/7/2025/01/farmers-market-produce.jpg
END:VEVENT
BEGIN:VEVENT
DTSTART;TZID=America/New_York:20240921T090000
DTEND;TZID=America/New_York:20240921T120000
DTSTAMP:20260420T165143
CREATED:20240726T005057Z
LAST-MODIFIED:20240726T005057Z
UID:10000593-1726909200-1726920000@www.clarku.edu
SUMMARY:University Park Farmers Market
DESCRIPTION:Right across from the Clark campus\, the University Park Farmers Market hosts local farmers and vendors each Saturday\, June through October. You’ll find fresh and local produce\, meats\, and more\, plus fun family activities and even a food truck. \nVisit the Regional Environmental Council on Facebook for each week’s schedule.
URL:https://www.clarku.edu/events/event/university-park-farmers-market-2/2024-09-21/
CATEGORIES:Campus/Community,Environment/Sustainability,Health/Wellness
ATTACH;FMTTYPE=image/jpeg:https://www.clarku.edu/events/wp-content/uploads/sites/7/2025/01/farmers-market-produce.jpg
END:VEVENT
BEGIN:VEVENT
DTSTART;TZID=America/New_York:20240920T190000
DTEND;TZID=America/New_York:20240920T213000
DTSTAMP:20260420T165143
CREATED:20240920T231319Z
LAST-MODIFIED:20240920T231319Z
UID:10000231-1726858800-1726867800@www.clarku.edu
SUMMARY:"Pet Fish" Adoption
DESCRIPTION:Head over for a new “pet” that is perfect for college life. These colorful artificial fish require no food or maintenance\, but are sure to be a conversation-starter. You’ll also be able to decorate their new home!Fish\, fish bowls\, and decorations will be available while supplies last.Make sure you have your Corq event pass ready to check in at this event! Attending this event fulfills Navigator Pathway programming: Connect & engage with communities.
URL:https://www.clarku.edu/events/event/pet-fish-adoption/
CATEGORIES:Campus/Community
END:VEVENT
BEGIN:VEVENT
DTSTART;TZID=America/New_York:20240920T180000
DTEND;TZID=America/New_York:20240920T210000
DTSTAMP:20260420T165143
CREATED:20240920T232605Z
LAST-MODIFIED:20240920T232605Z
UID:10000189-1726855200-1726866000@www.clarku.edu
SUMMARY:ClarkU Hillel Weekly Shabbat Services & Dinner
DESCRIPTION:Join ClarkU Hillel for our weekly student-led Shabbat services in Lurie at 6 p.m.\, followed by a Kosher Shabbat dinner in Grace at 7. Dinner is provided by the Clark Dining Kosher kitchen. \nShabbat is the Jewish Sabbath\, which takes place from Friday evening through Saturday evening. Come for just the services\, just the dinner\, or both! All are welcome. \nCheck our Instagram\, @ClarkuHillel\, to see the weekly theme and any updates.
URL:https://www.clarku.edu/events/event/clarku-hillel-weekly-shabbat-services-dinner-2/2024-09-20/
CATEGORIES:Campus/Community
END:VEVENT
BEGIN:VEVENT
DTSTART;TZID=America/New_York:20240920T180000
DTEND;TZID=America/New_York:20240920T193000
DTSTAMP:20260420T165143
CREATED:20240814T183650Z
LAST-MODIFIED:20240814T183650Z
UID:10000100-1726855200-1726860600@www.clarku.edu
SUMMARY:Mid Autumn Moon Festival
DESCRIPTION:We’ll have mooncakes\, lanterns\, rabbit candy\, and tea packets for you. Mooncakes will be free to take; for the rest of our festivities\, answer some trivia questions and receive a ticket to trade it in!
URL:https://www.clarku.edu/events/event/mid-autumn-moon-festival/
CATEGORIES:Campus/Community
END:VEVENT
BEGIN:VEVENT
DTSTART;TZID=America/New_York:20240920T160000
DTEND;TZID=America/New_York:20240920T180000
DTSTAMP:20260420T165143
CREATED:20240920T231611Z
LAST-MODIFIED:20240920T231611Z
UID:10000232-1726848000-1726855200@www.clarku.edu
SUMMARY:Sip & Paint
DESCRIPTION:Whether you prefer painting solo or joining friends\, we guarantee a great time as you unleash your creativity while sipping delicious mock-tails and chilling! Seats are limited! Register Today! https://forms.office.com/r/3MrA7PsbMy
URL:https://www.clarku.edu/events/event/sip-paint/
CATEGORIES:Campus/Community
END:VEVENT
BEGIN:VEVENT
DTSTART;TZID=America/New_York:20240920T150000
DTEND;TZID=America/New_York:20240920T160000
DTSTAMP:20260420T165143
CREATED:20240920T233209Z
LAST-MODIFIED:20240920T233209Z
UID:10000200-1726844400-1726848000@www.clarku.edu
SUMMARY:Voter Registration Hour
DESCRIPTION:As college students\, you are eligible to vote in Worcester with Clark as your address (you can only be registered in one state/city at a time). Every Friday\, the Community Engagement Office is hosting a dedicated voter registration hour\, to assist any students interested in getting registered. You will need your license number or the last four digits of your Social Security number. You can use your Clark address or your home address if you live in Worcester. When you’re finished\, drop the form into the box on the CEV table. A staff member will take all completed forms to City Hall and will make sure they make it there safely.
URL:https://www.clarku.edu/events/event/voter-registration-hour-2/2024-09-20/2/
CATEGORIES:Campus/Community
END:VEVENT
BEGIN:VEVENT
DTSTART;TZID=America/New_York:20240920T080000
DTEND;TZID=America/New_York:20240920T170000
DTSTAMP:20260420T165143
CREATED:20240920T233209Z
LAST-MODIFIED:20240920T233209Z
UID:10000199-1726819200-1726851600@www.clarku.edu
SUMMARY:Voter Registration Hour
DESCRIPTION:As college students\, you are eligible to vote in Worcester with Clark as your address (you can only be registered in one state/city at a time). Every Friday\, the Community Engagement Office is hosting a dedicated voter registration hour\, to assist any students interested in getting registered. You will need your license number or the last four digits of your Social Security number. You can use your Clark address or your home address if you live in Worcester. When you’re finished\, drop the form into the box on the CEV table. A staff member will take all completed forms to City Hall and will make sure they make it there safely.
URL:https://www.clarku.edu/events/event/voter-registration-hour-2/2024-09-20/1/
CATEGORIES:Campus/Community
END:VEVENT
BEGIN:VEVENT
DTSTART;TZID=America/New_York:20240919T180000
DTEND;TZID=America/New_York:20240919T233000
DTSTAMP:20260420T165143
CREATED:20240722T203941Z
LAST-MODIFIED:20240722T203941Z
UID:10000079-1726768800-1726788600@www.clarku.edu
SUMMARY:Movies on the Common: In the Heights (2021)
DESCRIPTION:Head to the Worcester Common to watch “In the Heights\,” from the creator of “Hamilton.” Lights up on Washington Heights … The scent of a cafecito caliente hangs in the air just outside of the 181st Street subway stop\, where a kaleidoscope of dreams rallies this vibrant and tight-knit community. At the intersection of it all is the likable\, magnetic bodega owner Usnavi (Anthony Ramos)\, who saves every penny from his daily grind as he hopes\, imagines\, and sings about a better life. \nArrive at the Common by 6 p.m. for the pre-movie entertainment\, featuring free salsa lessons and performances from Raices Latin Dance. Arrive by 6pm and be the first to pick your spot and learn some new dance moves! \n“In the Heights” is rated PG-13 and runs 2 hours\, 23 minutes.
URL:https://www.clarku.edu/events/event/movies-on-the-common-in-the-heights-2021/
CATEGORIES:Campus/Community
END:VEVENT
BEGIN:VEVENT
DTSTART;TZID=America/New_York:20240919T121500
DTEND;TZID=America/New_York:20240919T131500
DTSTAMP:20260420T165143
CREATED:20240806T200709Z
LAST-MODIFIED:20240806T200709Z
UID:10000093-1726748100-1726751700@www.clarku.edu
SUMMARY:Considerations on Reducing Climate Change Impacts in Urban Environments: A Case Study on Water Infrastructure in Worcester
DESCRIPTION:Each year\, the Marsh Institute sponsors formal lectures and seminars that expose faculty and students to contemporary research on human-environment interactions\, foster rich discussions\, and catalyze future research. \nThe 2024–25 lecture series begins with Paul Mathisen\, associate professor and director of sustainability at Worcester Polytechnic Institute.
URL:https://www.clarku.edu/events/event/paul-mathisen/
CATEGORIES:Campus/Community,Environment/Sustainability
ATTACH;FMTTYPE=image/jpeg:https://www.clarku.edu/events/wp-content/uploads/sites/7/2025/01/water-faucet.jpg
END:VEVENT
BEGIN:VEVENT
DTSTART;TZID=America/New_York:20240918T171500
DTEND;TZID=America/New_York:20240918T191500
DTSTAMP:20260420T165143
CREATED:20240914T002859Z
LAST-MODIFIED:20240914T002859Z
UID:10000215-1726679700-1726686900@www.clarku.edu
SUMMARY:Office Hours with Dean K.
DESCRIPTION:Visit clarku.edu/success to learn more about Student Success. Dean K. is also your Dean of Students\, ultimately charged with ensuring that Clark University continues to be student-centered – any concerns as a student can be discussed with Dean K. Join Dean K. in the Academic Commons\, located on the first floor of the Goddard Library!Attending this event fulfills Navigator Pathway programming: Reflect\, design\, and plan.
URL:https://www.clarku.edu/events/event/office-hours-with-dean-k/2024-09-18/
CATEGORIES:Campus/Community
END:VEVENT
BEGIN:VEVENT
DTSTART;TZID=America/New_York:20240918T170000
DTEND;TZID=America/New_York:20240918T200000
DTSTAMP:20260420T165143
CREATED:20240913T234527Z
LAST-MODIFIED:20240913T234527Z
UID:10000213-1726678800-1726689600@www.clarku.edu
SUMMARY:CUPS Auditions: 12 Angry Jurors
DESCRIPTION:Please prepare a one-minute contemporary monologue to perform. \nSign up for an audition slot » \nAuditions will be from 5 to 8 p.m. on Tuesday\, September 17\, and from 5 to 6:30 p.m. on Wednesday\, September 18\, with callbacks on Wednesday from 6:30 to 8 p.m.
URL:https://www.clarku.edu/events/event/auditions-and-callbacks-for-12-angry-jurors/2024-09-18/
CATEGORIES:Campus/Community
END:VEVENT
BEGIN:VEVENT
DTSTART;TZID=America/New_York:20240918T160000
DTEND;TZID=America/New_York:20240918T170000
DTSTAMP:20260420T165143
CREATED:20240913T235101Z
LAST-MODIFIED:20240913T235101Z
UID:10000214-1726675200-1726678800@www.clarku.edu
SUMMARY:Info Session - Hosted by College for Social Innovation (also known as Semester in the City)
DESCRIPTION:Join us for an informative session to learn about our exciting social impact internships. Discover how you can gain valuable experience\, develop your skills\, obtain academic credit\, and contribute to meaningful causes. What you’ll learn: – Opportunities to make a real difference in your community – How to develop your social impact skills – The benefits of joining our internship program Next steps to apply Don’t miss this chance to learn more about how you can make a lasting impact.
URL:https://www.clarku.edu/events/event/info-session-hosted-by-college-for-social-innovation-also-known-as-semester-in-the-city/
CATEGORIES:Campus/Community
END:VEVENT
BEGIN:VEVENT
DTSTART;TZID=America/New_York:20240918T093000
DTEND;TZID=America/New_York:20240918T160000
DTSTAMP:20260420T165143
CREATED:20240914T003058Z
LAST-MODIFIED:20240914T003058Z
UID:10000226-1726651800-1726675200@www.clarku.edu
SUMMARY:Vaccine Clinic for Students
DESCRIPTION:To support students’ compliance with immunization requirements\, Health Services has arranged a vaccine clinic. We strongly encourage you to take advantage of this clinic and take steps toward immunization compliance. No appointment necessary! \nPlease bring a valid ID and health insurance card\, and wear a short-sleeve shirt. \nCOVID and flu shots are not available at this time — stay tuned for that clinic in October.
URL:https://www.clarku.edu/events/event/vaccine-clinic-complete-your-immunization-requirements/
CATEGORIES:Campus/Community,Health/Wellness
END:VEVENT
BEGIN:VEVENT
DTSTART;TZID=America/New_York:20240917T170000
DTEND;TZID=America/New_York:20240917T200000
DTSTAMP:20260420T165143
CREATED:20240913T234527Z
LAST-MODIFIED:20240913T234527Z
UID:10000212-1726592400-1726603200@www.clarku.edu
SUMMARY:CUPS Auditions: 12 Angry Jurors
DESCRIPTION:Please prepare a one-minute contemporary monologue to perform. \nSign up for an audition slot » \nAuditions will be from 5 to 8 p.m. on Tuesday\, September 17\, and from 5 to 6:30 p.m. on Wednesday\, September 18\, with callbacks on Wednesday from 6:30 to 8 p.m.
URL:https://www.clarku.edu/events/event/auditions-and-callbacks-for-12-angry-jurors/2024-09-17/
CATEGORIES:Campus/Community
END:VEVENT
BEGIN:VEVENT
DTSTART;TZID=America/New_York:20240917T120000
DTEND;TZID=America/New_York:20240917T140000
DTSTAMP:20260420T165143
CREATED:20240916T192545Z
LAST-MODIFIED:20240916T192545Z
UID:10000229-1726574400-1726581600@www.clarku.edu
SUMMARY:National Voter Registration Day
DESCRIPTION:Do you want to vote in Worcester for the upcoming presidential election? As college students\, you are eligible to vote in Worcester with Clark as your address OR in your hometown (you can only be registered in one state and city at a time). \nThe Office of Community Engagement and Volunteering will be tabling outside The Table at Higgins to help you register to vote.
URL:https://www.clarku.edu/events/event/national-voter-registration-day/
CATEGORIES:Campus/Community
ATTACH;FMTTYPE=image/jpeg:https://www.clarku.edu/events/wp-content/uploads/sites/7/2025/01/vote-stickers.jpg
END:VEVENT
BEGIN:VEVENT
DTSTART;TZID=America/New_York:20240915T170000
DTEND;TZID=America/New_York:20240915T200000
DTSTAMP:20260420T165143
CREATED:20240913T234100Z
LAST-MODIFIED:20240913T234100Z
UID:10000210-1726419600-1726430400@www.clarku.edu
SUMMARY:2024 Harvest Game Jam Finale
DESCRIPTION:Come have pizza\, and watch us announce the winners of the first jam of the year! Attending this event fulfills Navigator Pathway programming: Discover and pursue passions.
URL:https://www.clarku.edu/events/event/2024-harvest-game-jam-finale/
CATEGORIES:Campus/Community
END:VEVENT
BEGIN:VEVENT
DTSTART;TZID=America/New_York:20240915T120000
DTEND;TZID=America/New_York:20240915T160000
DTSTAMP:20260420T165143
CREATED:20240913T233520Z
LAST-MODIFIED:20240913T233520Z
UID:10000208-1726401600-1726416000@www.clarku.edu
SUMMARY:Blackstone Public Paddle and River Celebration
DESCRIPTION:A small group from the Blackstone Watershed Collaborative will be paddling the entire 60 miles of the river from Worcester to Providence to explore access and stewardship on the river.  You may bring your own kayak or canoe or free boats available. Register here by Sept. 8th! Carpooling options available by email (cuarboretumadvocates@gmail.com) or by messaging our instagram (@clarkhadwenarboretum).
URL:https://www.clarku.edu/events/event/blackstone-public-paddle-and-river-celebration/
CATEGORIES:Campus/Community
END:VEVENT
BEGIN:VEVENT
DTSTART;TZID=America/New_York:20240915T110000
DTEND;TZID=America/New_York:20240915T180000
DTSTAMP:20260420T165143
CREATED:20240913T233821Z
LAST-MODIFIED:20240913T233821Z
UID:10000209-1726398000-1726423200@www.clarku.edu
SUMMARY:StART on the Street
DESCRIPTION:stART provides activities for children and families\, and dozens of dining options\, including food trucks\, local restaurants\, and vegan options. Music and performances at stART are diverse and right on the street\, allowing all to become part of the acts! The festival is FREE! Attending this event fulfills Navigator Pathway programming: Discover and pursue passions.
URL:https://www.clarku.edu/events/event/start-on-the-street/
CATEGORIES:Campus/Community
END:VEVENT
BEGIN:VEVENT
DTSTART;TZID=America/New_York:20240915T110000
DTEND;TZID=America/New_York:20240915T130000
DTSTAMP:20260420T165143
CREATED:20240913T234338Z
LAST-MODIFIED:20240913T234338Z
UID:10000211-1726398000-1726405200@www.clarku.edu
SUMMARY:Mycology Foray at Hadwen Arboretum
DESCRIPTION:Learn how to find and identify various native fungi! The Hadwen Arboretum is within walking distance\, however\, transportation by vehicle will be through groupcarpool. Meet us at the entrance to Lasry Center\, on Sunday 9/15 at 11:00 am! It may be muddy\, so dress for a hike! Hope to see you there!
URL:https://www.clarku.edu/events/event/mycology-foray-at-hadwen-arboretum/
CATEGORIES:Campus/Community
END:VEVENT
BEGIN:VEVENT
DTSTART;TZID=America/New_York:20240914T141500
DTEND;TZID=America/New_York:20240914T193000
DTSTAMP:20260420T165143
CREATED:20240913T233303Z
LAST-MODIFIED:20240913T233303Z
UID:10000207-1726323300-1726342200@www.clarku.edu
SUMMARY:Daytrippin' Weekend - WooSox Game
DESCRIPTION:We will provide a shuttle that will leave campus at 2:30pm\, the opening pitch is at 4:05. There will be a small fee to attend the trip\, but your contribution will ensure you receive the shuttle ride and your ticket to the game! If you plan to purchase anything\, please bring your own funds as you can buy WooSox merch in the gift shop and food/drinks for the game. This event requires a sign up form. Please keep checking emails from Campus_Life@clarku.edu for when the form comes out\, as well as check SLP’s instagram @ClarkU_campuslife for updates.
URL:https://www.clarku.edu/events/event/daytrippin-weekend-woosox-game/
CATEGORIES:Campus/Community
END:VEVENT
BEGIN:VEVENT
DTSTART;TZID=America/New_York:20240914T110000
DTEND;TZID=America/New_York:20240914T160000
DTSTAMP:20260420T165143
CREATED:20240913T232719Z
LAST-MODIFIED:20240913T232719Z
UID:10000206-1726311600-1726329600@www.clarku.edu
SUMMARY:Day of Play
DESCRIPTION:Day of Play is looking for volunteers to help run different activities like finger painting\, tag\, and hopscotch! Volunteers get a t-shirt and free food before and after their shifts. It takes a village to make Day of Play possible each year\, volunteer and be a part of that village. For more information and to sign up via their website use the link below: https://forms.office.com/pages/responsepage.aspx?id=Fbm2Dow6ZEyYSpgyq2EuOgtRGhHCRDZLjOectCwM78lUNEhHRllGODQxTjdLVExBUUdTWVhCRTY5WC4u&route=shorturl
URL:https://www.clarku.edu/events/event/day-of-play/
CATEGORIES:Campus/Community
END:VEVENT
BEGIN:VEVENT
DTSTART;TZID=America/New_York:20240914T090000
DTEND;TZID=America/New_York:20240914T120000
DTSTAMP:20260420T165143
CREATED:20240816T212242Z
LAST-MODIFIED:20240816T212242Z
UID:10000120-1726304400-1726315200@www.clarku.edu
SUMMARY:University Park Farmers Market 2024
DESCRIPTION:Right across from the Clark campus\, the University Park Farmers Market hosts local farmers and vendors each Saturday\, June through October. You’ll find fresh and local produce\, meats\, and more\, plus fun family activities and even a food truck. \nVisit the Regional Environmental Council on Facebook for each week’s schedule.
URL:https://www.clarku.edu/events/event/university-park-farmers-market-2024/2024-09-14/
CATEGORIES:Campus/Community
ATTACH;FMTTYPE=image/jpeg:https://www.clarku.edu/events/wp-content/uploads/sites/7/2025/01/farmers-market-produce.jpg
END:VEVENT
END:VCALENDAR