BEGIN:VCALENDAR
VERSION:2.0
PRODID:-//Events - ECPv6.15.20//NONSGML v1.0//EN
CALSCALE:GREGORIAN
METHOD:PUBLISH
X-ORIGINAL-URL:https://www.clarku.edu/events
X-WR-CALDESC:Events for Events
REFRESH-INTERVAL;VALUE=DURATION:PT1H
X-Robots-Tag:noindex
X-PUBLISHED-TTL:PT1H
BEGIN:VTIMEZONE
TZID:America/New_York
BEGIN:DAYLIGHT
TZOFFSETFROM:-0500
TZOFFSETTO:-0400
TZNAME:EDT
DTSTART:20230312T070000
END:DAYLIGHT
BEGIN:STANDARD
TZOFFSETFROM:-0400
TZOFFSETTO:-0500
TZNAME:EST
DTSTART:20231105T060000
END:STANDARD
BEGIN:DAYLIGHT
TZOFFSETFROM:-0500
TZOFFSETTO:-0400
TZNAME:EDT
DTSTART:20240310T070000
END:DAYLIGHT
BEGIN:STANDARD
TZOFFSETFROM:-0400
TZOFFSETTO:-0500
TZNAME:EST
DTSTART:20241103T060000
END:STANDARD
BEGIN:DAYLIGHT
TZOFFSETFROM:-0500
TZOFFSETTO:-0400
TZNAME:EDT
DTSTART:20250309T070000
END:DAYLIGHT
BEGIN:STANDARD
TZOFFSETFROM:-0400
TZOFFSETTO:-0500
TZNAME:EST
DTSTART:20251102T060000
END:STANDARD
END:VTIMEZONE
BEGIN:VEVENT
DTSTART;TZID=America/New_York:20241023T170000
DTEND;TZID=America/New_York:20241023T180000
DTSTAMP:20260420T025610
CREATED:20241018T002336Z
LAST-MODIFIED:20241018T002336Z
UID:10000404-1729702800-1729706400@www.clarku.edu
SUMMARY:Buttons/Pins with Nora
DESCRIPTION:If you’ve never made your own pins\, or you have and want to make more\, come to the Craft Studio on Wednesdays at 5:00pm for Noras buttons/pins workshop!
URL:https://www.clarku.edu/events/event/buttons-pins-with-nora-2/
CATEGORIES:Campus/Community
END:VEVENT
BEGIN:VEVENT
DTSTART;TZID=America/New_York:20241023T150000
DTEND;TZID=America/New_York:20241023T160000
DTSTAMP:20260420T025610
CREATED:20241017T234502Z
LAST-MODIFIED:20241017T234502Z
UID:10000345-1729695600-1729699200@www.clarku.edu
SUMMARY:World Cup Players and Volunteers' Meeting
DESCRIPTION:
URL:https://www.clarku.edu/events/event/world-cup-players-and-volunteers-meeting/
CATEGORIES:Campus/Community
END:VEVENT
BEGIN:VEVENT
DTSTART;TZID=America/New_York:20241023T150000
DTEND;TZID=America/New_York:20241023T160000
DTSTAMP:20260420T025610
CREATED:20241017T234502Z
LAST-MODIFIED:20241017T234502Z
UID:10000384-1729695600-1729699200@www.clarku.edu
SUMMARY:World Cup Players and Volunteers' Meeting
DESCRIPTION:
URL:https://www.clarku.edu/events/event/world-cup-players-and-volunteers-meeting-2/
CATEGORIES:Campus/Community
END:VEVENT
BEGIN:VEVENT
DTSTART;TZID=America/New_York:20241023T143000
DTEND;TZID=America/New_York:20241023T153000
DTSTAMP:20260420T025610
CREATED:20241018T000705Z
LAST-MODIFIED:20241018T000705Z
UID:10000346-1729693800-1729697400@www.clarku.edu
SUMMARY:New Undergraduate Club Info Session
DESCRIPTION:Attend this information session to learn all about the process\, including application information\, requirements\, and timeline\, and to ask questions.Attendance at an info session is strongly recommended to promote a smooth approval and onboarding process for new clubs!Please note that this information session is geared toward undergraduate students looking to start a new club. Graduate students looking to start a new club should contact their graduate school for more information!Attending this event fulfills Navigator Pathway programming:Discover & Pursue Passions.
URL:https://www.clarku.edu/events/event/new-undergraduate-club-info-session/
CATEGORIES:Campus/Community
END:VEVENT
BEGIN:VEVENT
DTSTART;TZID=America/New_York:20241023T143000
DTEND;TZID=America/New_York:20241023T153000
DTSTAMP:20260420T025610
CREATED:20241018T000705Z
LAST-MODIFIED:20241018T000705Z
UID:10000397-1729693800-1729697400@www.clarku.edu
SUMMARY:New Undergraduate Club Info Session
DESCRIPTION:Attend this information session to learn all about the process\, including application information\, requirements\, and timeline\, and to ask questions.Attendance at an info session is strongly recommended to promote a smooth approval and onboarding process for new clubs!Please note that this information session is geared toward undergraduate students looking to start a new club. Graduate students looking to start a new club should contact their graduate school for more information!Attending this event fulfills Navigator Pathway programming:Discover & Pursue Passions.
URL:https://www.clarku.edu/events/event/new-undergraduate-club-info-session-2/
CATEGORIES:Campus/Community
END:VEVENT
BEGIN:VEVENT
DTSTART;TZID=America/New_York:20241023T140000
DTEND;TZID=America/New_York:20241023T150000
DTSTAMP:20260420T025610
CREATED:20241018T002204Z
LAST-MODIFIED:20241018T002204Z
UID:10000302-1729692000-1729695600@www.clarku.edu
SUMMARY:Unlocking Financial Freedom - A Financial Literacy workshop series
DESCRIPTION:Join us this October as guest speaker\, Mike Ford (a Clark alum’s dad!) leads a series of financial literacy workshops through the month of October. Come learn money related topics like taxes\, how money works\, investing\, and reducing and managing debt! Each week is a new topic!
URL:https://www.clarku.edu/events/event/unlocking-financial-freedom-a-financial-literacy-workshop-series-2/
CATEGORIES:Campus/Community
END:VEVENT
BEGIN:VEVENT
DTSTART;TZID=America/New_York:20241023T140000
DTEND;TZID=America/New_York:20241023T150000
DTSTAMP:20260420T025610
CREATED:20241018T002204Z
LAST-MODIFIED:20241018T002204Z
UID:10000403-1729692000-1729695600@www.clarku.edu
SUMMARY:Unlocking Financial Freedom - A Financial Literacy workshop series
DESCRIPTION:Join us this October as guest speaker\, Mike Ford (a Clark alum’s dad!) leads a series of financial literacy workshops through the month of October. Come learn money related topics like taxes\, how money works\, investing\, and reducing and managing debt! Each week is a new topic!
URL:https://www.clarku.edu/events/event/unlocking-financial-freedom-a-financial-literacy-workshop-series-2-2/
CATEGORIES:Campus/Community
END:VEVENT
BEGIN:VEVENT
DTSTART;TZID=America/New_York:20241023T080000
DTEND;TZID=America/New_York:20241023T170000
DTSTAMP:20260420T025610
CREATED:20241010T043846Z
LAST-MODIFIED:20241010T043846Z
UID:10000320-1729670400-1729702800@www.clarku.edu
SUMMARY:Career Closet Donation Drive
DESCRIPTION:The Career Connections Center\, in collaboration with the Clark Thrift Store\, recently launched the Clark University Career Closet\, which offers free professional attire for students. The Closet is now located at the Clark Thrift Store on Main Street. \nAs the seasons change\, we ask that you consider donating professional clothing items during the Career Closet Donation Drive\, particularly the following: \n\nSuits\nDress shirts\nBlouses\nCardigan sweaters\nWork dresses and skirts\nDress pants\nTies and belts \n\nPlease note that we are not accepting shoes at this time.  All donated items should be clean.   \nDonations may be brought to the Career Connections Center front desk in the Shaich Family Alumni and Student Engagement Center or to ASEC Room 116. \n\nHelp our students look their best for their professional endeavors! If you have any questions\, please email the Career Connections Center.
URL:https://www.clarku.edu/events/event/career-closet-donation-drive/2024-10-23/
CATEGORIES:Campus/Community,Careers
ATTACH;FMTTYPE=image/jpeg:https://www.clarku.edu/events/wp-content/uploads/sites/7/2025/01/Young-people-dressed-professionally.jpg
END:VEVENT
BEGIN:VEVENT
DTSTART;TZID=America/New_York:20241022T180000
DTEND;TZID=America/New_York:20241022T200000
DTSTAMP:20260420T025610
CREATED:20241018T001342Z
LAST-MODIFIED:20241018T001342Z
UID:10000301-1729620000-1729627200@www.clarku.edu
SUMMARY:Strengthening Community Through Restorative Practice
DESCRIPTION:This facilitated session is designed to allow students to share their thoughts on the codes\, discuss their potential contributions to them\, and explore students’ rights and freedom of speech policies.”
URL:https://www.clarku.edu/events/event/strengthening-community-through-restorative-practice-2/
CATEGORIES:Campus/Community
END:VEVENT
BEGIN:VEVENT
DTSTART;TZID=America/New_York:20241022T180000
DTEND;TZID=America/New_York:20241022T200000
DTSTAMP:20260420T025610
CREATED:20241018T001342Z
LAST-MODIFIED:20241018T001342Z
UID:10000400-1729620000-1729627200@www.clarku.edu
SUMMARY:Strengthening Community Through Restorative Practice
DESCRIPTION:This facilitated session is designed to allow students to share their thoughts on the codes\, discuss their potential contributions to them\, and explore students’ rights and freedom of speech policies.
URL:https://www.clarku.edu/events/event/strengthening-community-through-restorative-practice-2-2/
CATEGORIES:Campus/Community
END:VEVENT
BEGIN:VEVENT
DTSTART;TZID=America/New_York:20241022T143000
DTEND;TZID=America/New_York:20241022T153000
DTSTAMP:20260420T025610
CREATED:20241018T001614Z
LAST-MODIFIED:20241018T001614Z
UID:10000326-1729607400-1729611000@www.clarku.edu
SUMMARY:Pancakes and Politics
DESCRIPTION:Join RLH for Pancakes and Politics! Learn about civic engagement\, voter education\, and more.
URL:https://www.clarku.edu/events/event/pancakes-and-politics-2/
CATEGORIES:Campus/Community
END:VEVENT
BEGIN:VEVENT
DTSTART;TZID=America/New_York:20241022T143000
DTEND;TZID=America/New_York:20241022T153000
DTSTAMP:20260420T025610
CREATED:20241018T001614Z
LAST-MODIFIED:20241018T001614Z
UID:10000401-1729607400-1729611000@www.clarku.edu
SUMMARY:Pancakes and Politics
DESCRIPTION:Join RLH for Pancakes and Politics! Learn about civic engagement\, voter education\, and more.
URL:https://www.clarku.edu/events/event/pancakes-and-politics-2-2/
CATEGORIES:Campus/Community
END:VEVENT
BEGIN:VEVENT
DTSTART;TZID=America/New_York:20241022T100000
DTEND;TZID=America/New_York:20241022T110000
DTSTAMP:20260420T025610
CREATED:20241018T001040Z
LAST-MODIFIED:20241018T001040Z
UID:10000293-1729591200-1729594800@www.clarku.edu
SUMMARY:Hatha Yoga
DESCRIPTION:Attending this event fulfills Navigator Journey programming: Reflect\, Design\, and Plan.
URL:https://www.clarku.edu/events/event/hatha-yoga-2/2024-10-22/
CATEGORIES:Campus/Community
END:VEVENT
BEGIN:VEVENT
DTSTART;TZID=America/New_York:20241022T100000
DTEND;TZID=America/New_York:20241022T110000
DTSTAMP:20260420T025610
CREATED:20241018T001040Z
LAST-MODIFIED:20241018T001040Z
UID:10000398-1729591200-1729594800@www.clarku.edu
SUMMARY:Hatha Yoga
DESCRIPTION:Attending this event fulfills Navigator Journey programming: Reflect\, Design\, and Plan.
URL:https://www.clarku.edu/events/event/hatha-yoga-2-2/2024-10-22/
CATEGORIES:Campus/Community
END:VEVENT
BEGIN:VEVENT
DTSTART;TZID=America/New_York:20241022T080000
DTEND;TZID=America/New_York:20241022T170000
DTSTAMP:20260420T025610
CREATED:20241010T043846Z
LAST-MODIFIED:20241010T043846Z
UID:10000319-1729584000-1729616400@www.clarku.edu
SUMMARY:Career Closet Donation Drive
DESCRIPTION:The Career Connections Center\, in collaboration with the Clark Thrift Store\, recently launched the Clark University Career Closet\, which offers free professional attire for students. The Closet is now located at the Clark Thrift Store on Main Street. \nAs the seasons change\, we ask that you consider donating professional clothing items during the Career Closet Donation Drive\, particularly the following: \n\nSuits\nDress shirts\nBlouses\nCardigan sweaters\nWork dresses and skirts\nDress pants\nTies and belts \n\nPlease note that we are not accepting shoes at this time.  All donated items should be clean.   \nDonations may be brought to the Career Connections Center front desk in the Shaich Family Alumni and Student Engagement Center or to ASEC Room 116. \n\nHelp our students look their best for their professional endeavors! If you have any questions\, please email the Career Connections Center.
URL:https://www.clarku.edu/events/event/career-closet-donation-drive/2024-10-22/
CATEGORIES:Campus/Community,Careers
ATTACH;FMTTYPE=image/jpeg:https://www.clarku.edu/events/wp-content/uploads/sites/7/2025/01/Young-people-dressed-professionally.jpg
END:VEVENT
BEGIN:VEVENT
DTSTART;TZID=America/New_York:20241021T180000
DTEND;TZID=America/New_York:20241021T190000
DTSTAMP:20260420T025610
CREATED:20241018T000223Z
LAST-MODIFIED:20241018T000223Z
UID:10000295-1729533600-1729537200@www.clarku.edu
SUMMARY:Wheel With Zoë
DESCRIPTION:Come to Zoë’s Wheel Workshop on Mondays to get the rundown! Once you’ve been to a wheel workshop\, you can come to the Craft Studio anytime to put what you’ve learned to practice!
URL:https://www.clarku.edu/events/event/wheel-with-zoe-2/2024-10-21/
LOCATION:Craft Studio
CATEGORIES:Campus/Community
END:VEVENT
BEGIN:VEVENT
DTSTART;TZID=America/New_York:20241021T180000
DTEND;TZID=America/New_York:20241021T190000
DTSTAMP:20260420T025610
CREATED:20241018T000223Z
LAST-MODIFIED:20241018T000223Z
UID:10000391-1729533600-1729537200@www.clarku.edu
SUMMARY:Wheel With Zoë
DESCRIPTION:Come to Zoë’s Wheel Workshop on Mondays to get the rundown! Once you’ve been to a wheel workshop\, you can come to the Craft Studio anytime to put what you’ve learned to practice!
URL:https://www.clarku.edu/events/event/wheel-with-zoe-2-2/2024-10-21/
CATEGORIES:Campus/Community
END:VEVENT
BEGIN:VEVENT
DTSTART;TZID=America/New_York:20241021T120000
DTEND;TZID=America/New_York:20241021T130000
DTSTAMP:20260420T025610
CREATED:20241017T235207Z
LAST-MODIFIED:20241017T235207Z
UID:10000285-1729512000-1729515600@www.clarku.edu
SUMMARY:Bob Ross Painting with Renee
DESCRIPTION:
URL:https://www.clarku.edu/events/event/bob-ross-painting-with-renee-2/2024-10-21/
LOCATION:Craft Studio
CATEGORIES:Campus/Community
END:VEVENT
BEGIN:VEVENT
DTSTART;TZID=America/New_York:20241021T120000
DTEND;TZID=America/New_York:20241021T130000
DTSTAMP:20260420T025610
CREATED:20241017T235207Z
LAST-MODIFIED:20241017T235207Z
UID:10000385-1729512000-1729515600@www.clarku.edu
SUMMARY:Bob Ross Painting with Renee
DESCRIPTION:
URL:https://www.clarku.edu/events/event/bob-ross-painting-with-renee-2-2/2024-10-21/
CATEGORIES:Campus/Community
END:VEVENT
BEGIN:VEVENT
DTSTART;TZID=America/New_York:20241021T110000
DTEND;TZID=America/New_York:20241021T120000
DTSTAMP:20260420T025610
CREATED:20241017T234239Z
LAST-MODIFIED:20241017T234239Z
UID:10000344-1729508400-1729512000@www.clarku.edu
SUMMARY:Tidying the Clark Garden
DESCRIPTION:We will be weeding and tidying up the garden and seeing if there is any produce that’s ripe for picking!
URL:https://www.clarku.edu/events/event/tidying-the-clark-garden/
CATEGORIES:Campus/Community
END:VEVENT
BEGIN:VEVENT
DTSTART;TZID=America/New_York:20241021T110000
DTEND;TZID=America/New_York:20241021T120000
DTSTAMP:20260420T025610
CREATED:20241017T234239Z
LAST-MODIFIED:20241017T234239Z
UID:10000383-1729508400-1729512000@www.clarku.edu
SUMMARY:Tidying the Clark Garden
DESCRIPTION:We will be weeding and tidying up the garden and seeing if there is any produce that’s ripe for picking!
URL:https://www.clarku.edu/events/event/tidying-the-clark-garden-2/
CATEGORIES:Campus/Community
END:VEVENT
BEGIN:VEVENT
DTSTART;TZID=America/New_York:20241021T080000
DTEND;TZID=America/New_York:20241021T170000
DTSTAMP:20260420T025610
CREATED:20241010T043846Z
LAST-MODIFIED:20241010T043846Z
UID:10000318-1729497600-1729530000@www.clarku.edu
SUMMARY:Career Closet Donation Drive
DESCRIPTION:The Career Connections Center\, in collaboration with the Clark Thrift Store\, recently launched the Clark University Career Closet\, which offers free professional attire for students. The Closet is now located at the Clark Thrift Store on Main Street. \nAs the seasons change\, we ask that you consider donating professional clothing items during the Career Closet Donation Drive\, particularly the following: \n\nSuits\nDress shirts\nBlouses\nCardigan sweaters\nWork dresses and skirts\nDress pants\nTies and belts \n\nPlease note that we are not accepting shoes at this time.  All donated items should be clean.   \nDonations may be brought to the Career Connections Center front desk in the Shaich Family Alumni and Student Engagement Center or to ASEC Room 116. \n\nHelp our students look their best for their professional endeavors! If you have any questions\, please email the Career Connections Center.
URL:https://www.clarku.edu/events/event/career-closet-donation-drive/2024-10-21/
CATEGORIES:Campus/Community,Careers
ATTACH;FMTTYPE=image/jpeg:https://www.clarku.edu/events/wp-content/uploads/sites/7/2025/01/Young-people-dressed-professionally.jpg
END:VEVENT
BEGIN:VEVENT
DTSTART;TZID=America/New_York:20241019T210000
DTEND;TZID=America/New_York:20241019T220000
DTSTAMP:20260420T025610
CREATED:20241017T230716Z
LAST-MODIFIED:20241017T230716Z
UID:10000330-1729371600-1729375200@www.clarku.edu
SUMMARY:Peapod Show
DESCRIPTION:
URL:https://www.clarku.edu/events/event/peapod-show-2/
CATEGORIES:Campus/Community
END:VEVENT
BEGIN:VEVENT
DTSTART;TZID=America/New_York:20241019T210000
DTEND;TZID=America/New_York:20241019T220000
DTSTAMP:20260420T025610
CREATED:20241017T230716Z
LAST-MODIFIED:20241017T230716Z
UID:10000361-1729371600-1729375200@www.clarku.edu
SUMMARY:Peapod Show
DESCRIPTION:
URL:https://www.clarku.edu/events/event/peapod-show-2-2/
CATEGORIES:Campus/Community
END:VEVENT
BEGIN:VEVENT
DTSTART;TZID=America/New_York:20241019T190000
DTEND;TZID=America/New_York:20241019T220000
DTSTAMP:20260420T025610
CREATED:20241011T234719Z
LAST-MODIFIED:20241011T234719Z
UID:10000334-1729364400-1729375200@www.clarku.edu
SUMMARY:Night Market
DESCRIPTION:The specific activities\, foods\, and entertainment are to be determined as we organize this event.Attending this event fulfills Navigator Journey programming: Connect and Engage with Communities.
URL:https://www.clarku.edu/events/event/night-market/
CATEGORIES:Campus/Community
END:VEVENT
BEGIN:VEVENT
DTSTART;TZID=America/New_York:20241019T170000
DTEND;TZID=America/New_York:20241019T180000
DTSTAMP:20260420T025610
CREATED:20241017T231218Z
LAST-MODIFIED:20241017T231218Z
UID:10000262-1729357200-1729360800@www.clarku.edu
SUMMARY:Drawing with Carter
DESCRIPTION:
URL:https://www.clarku.edu/events/event/drawing-with-carter-2/2024-10-19/
LOCATION:Craft Studio
CATEGORIES:Campus/Community
END:VEVENT
BEGIN:VEVENT
DTSTART;TZID=America/New_York:20241019T170000
DTEND;TZID=America/New_York:20241019T180000
DTSTAMP:20260420T025610
CREATED:20241017T231218Z
LAST-MODIFIED:20241017T231218Z
UID:10000362-1729357200-1729360800@www.clarku.edu
SUMMARY:Drawing with Carter
DESCRIPTION:
URL:https://www.clarku.edu/events/event/drawing-with-carter-2-2/2024-10-19/
CATEGORIES:Campus/Community
END:VEVENT
BEGIN:VEVENT
DTSTART;TZID=America/New_York:20241019T140000
DTEND;TZID=America/New_York:20241019T150000
DTSTAMP:20260420T025610
CREATED:20241017T232014Z
LAST-MODIFIED:20241017T232014Z
UID:10000268-1729346400-1729350000@www.clarku.edu
SUMMARY:Wheel With Joshua
DESCRIPTION:
URL:https://www.clarku.edu/events/event/wheel-with-joshua-2/2024-10-19/
LOCATION:Craft Studio
CATEGORIES:Campus/Community
END:VEVENT
BEGIN:VEVENT
DTSTART;TZID=America/New_York:20241019T140000
DTEND;TZID=America/New_York:20241019T150000
DTSTAMP:20260420T025610
CREATED:20241017T232014Z
LAST-MODIFIED:20241017T232014Z
UID:10000368-1729346400-1729350000@www.clarku.edu
SUMMARY:Wheel With Joshua
DESCRIPTION:
URL:https://www.clarku.edu/events/event/wheel-with-joshua-2-2/2024-10-19/
CATEGORIES:Campus/Community
END:VEVENT
BEGIN:VEVENT
DTSTART;TZID=America/New_York:20241019T110000
DTEND;TZID=America/New_York:20241019T170000
DTSTAMP:20260420T025610
CREATED:20241017T232316Z
LAST-MODIFIED:20241017T232316Z
UID:10000343-1729335600-1729357200@www.clarku.edu
SUMMARY:CMT & CUPS Stage Management Workshop
DESCRIPTION:
URL:https://www.clarku.edu/events/event/cmt-cups-stage-management-workshop/
CATEGORIES:Campus/Community
END:VEVENT
END:VCALENDAR