BEGIN:VCALENDAR
VERSION:2.0
PRODID:-//Events - ECPv6.15.20//NONSGML v1.0//EN
CALSCALE:GREGORIAN
METHOD:PUBLISH
X-WR-CALNAME:Events
X-ORIGINAL-URL:https://www.clarku.edu/events
X-WR-CALDESC:Events for Events
REFRESH-INTERVAL;VALUE=DURATION:PT1H
X-Robots-Tag:noindex
X-PUBLISHED-TTL:PT1H
BEGIN:VTIMEZONE
TZID:America/New_York
BEGIN:DAYLIGHT
TZOFFSETFROM:-0500
TZOFFSETTO:-0400
TZNAME:EDT
DTSTART:20240310T070000
END:DAYLIGHT
BEGIN:STANDARD
TZOFFSETFROM:-0400
TZOFFSETTO:-0500
TZNAME:EST
DTSTART:20241103T060000
END:STANDARD
BEGIN:DAYLIGHT
TZOFFSETFROM:-0500
TZOFFSETTO:-0400
TZNAME:EDT
DTSTART:20250309T070000
END:DAYLIGHT
BEGIN:STANDARD
TZOFFSETFROM:-0400
TZOFFSETTO:-0500
TZNAME:EST
DTSTART:20251102T060000
END:STANDARD
BEGIN:DAYLIGHT
TZOFFSETFROM:-0500
TZOFFSETTO:-0400
TZNAME:EDT
DTSTART:20260308T070000
END:DAYLIGHT
BEGIN:STANDARD
TZOFFSETFROM:-0400
TZOFFSETTO:-0500
TZNAME:EST
DTSTART:20261101T060000
END:STANDARD
END:VTIMEZONE
BEGIN:VEVENT
DTSTART;TZID=America/New_York:20251001T123000
DTEND;TZID=America/New_York:20251001T133000
DTSTAMP:20260419T114016
CREATED:20250923T183627Z
LAST-MODIFIED:20250923T183628Z
UID:10001169-1759321800-1759325400@www.clarku.edu
SUMMARY:School of Business Faculty Research Seminar
DESCRIPTION:For the first fall faculty research seminar\, Xiaodong Zhang\, a visiting scholar\, will be presenting his research on political career concerns and firm-level credit rationing. The seminar will take place in CH203 and via Zoom. All comments and feedback are welcome. His talk will be offered both in person and online. Please find the presentation topics below.  \n\n\n\nZoom Meeting ID: 923 2657 7294Passcode: 539642 \n\n\n\nTitle: Political Career Concerns and Firm-Level Credit Rationing: Evidence from Chinese Cities \n\n\n\nAbstract: Efficient credit allocation is central to private-sector growth\, yet political incentives often redirect financial resources. Using China’s cadre promotion system\, we show that mayors eligible for promotion expand infrastructure investment through bank-financed debt\, raising local government liabilities by 13% of GDP. This debt expansion crowds out private firms\, reducing their credit access\, investment\, employment\, and productivity. The distortion is weaker for state-owned and infrastructure-related firms\, highlighting unequal access to finance. Our findings reveal how career concerns of local officials translate into financial repression\, offering new evidence on the institutional origins of capital misallocation in developing economies.
URL:https://www.clarku.edu/events/event/school-of-business-faculty-research-seminar-3/
LOCATION:Carlson 203
CATEGORIES:Business/Entrepreneurs,Campus/Community
ATTACH;FMTTYPE=image/png:https://www.clarku.edu/events/wp-content/uploads/sites/7/2025/09/Research-seminar_header.png
END:VEVENT
BEGIN:VEVENT
DTSTART;TZID=America/New_York:20251017T000000
DTEND;TZID=America/New_York:20251019T235959
DTSTAMP:20260419T114016
CREATED:20250814T152149Z
LAST-MODIFIED:20251017T200640Z
UID:10000914-1760659200-1760918399@www.clarku.edu
SUMMARY:Family and Friends Weekend
DESCRIPTION:Join us on campus and in the city of Worcester for special events\, signature programming\, and the opportunity to create fun-filled memories. \n\n\n\nOn-site registration will take place in the Academic Commons\, located on the first floor of Goddard Library\, on Friday\, October 17\, from 6 to 8 p.m.\, and on Saturday\, October 18\, from 9 a.m. to 2 p.m. \n\n\n\nIf you have any questions\, please contact Clark’s Alumni & Friends Engagement team at alumni@clarku.edu or 800-793-6246. \n\n\n\n \n\n\n\n\nlearn more and register for Family and Friends Weekend
URL:https://www.clarku.edu/events/event/family-and-friends-weekend/
LOCATION:Clark University\, 950 Main Street\, Worcester\, MA\, 01610\, United States
CATEGORIES:Campus/Community
ATTACH;FMTTYPE=image/jpeg:https://www.clarku.edu/events/wp-content/uploads/sites/7/2025/01/2021-Family-Weekend-94.jpg
END:VEVENT
BEGIN:VEVENT
DTSTART;TZID=America/New_York:20251018T130000
DTEND;TZID=America/New_York:20251018T170000
DTSTAMP:20260419T114016
CREATED:20251006T151238Z
LAST-MODIFIED:20251006T202141Z
UID:10001224-1760792400-1760806800@www.clarku.edu
SUMMARY:Art in the Heart of Main South Opening Reception
DESCRIPTION:Art in the Heart of Main South returns to University Park and the Clark campus for a third installation of original artwork. A partnership between Clark University and Art in the Park\, this series was created specifically to make art accessible to the Main South community. \n\n\n\nThe opening reception will include free food from local vendors\, music from Dan and the Royal Treatment along with DJ Cortes\, tours of the eight new sculptures\, family trick or treating (children are encouraged to wear their costumes!)\, and tabling by community partners. \n\n\n\nThe event is free and open to the public\, and coincides with Clark’s Family and Friends Weekend.
URL:https://www.clarku.edu/events/event/art-in-the-heart-of-main-south-opening-reception/
LOCATION:University Park\, 965 Main Street\, Worcester\, MA\, United States
CATEGORIES:Arts/Music/Film,Campus/Community
ATTACH;FMTTYPE=image/jpeg:https://www.clarku.edu/events/wp-content/uploads/sites/7/2025/01/2024_South_Main_Street_Sculptures-010.jpg
END:VEVENT
BEGIN:VEVENT
DTSTART;TZID=America/New_York:20251022T150000
DTEND;TZID=America/New_York:20251022T170000
DTSTAMP:20260419T114016
CREATED:20251016T204532Z
LAST-MODIFIED:20251016T204534Z
UID:10001360-1761145200-1761152400@www.clarku.edu
SUMMARY:Mosakowski Institute Open House
DESCRIPTION:The Mosakowski Institute for Public Enterprise invites the Clark community to an open house.  \n\n\n\nThis special gathering is a chance to: \n\n\n\n\nLearn more about the Institute’s mission and impact.\n\n\n\nExplore our latest projects and innovations.\n\n\n\nCelebrate the collaborative spirit that drives our work.\n\n\n\n\nEnjoy light refreshments\, live music\, and good company as we open our doors to the campus community. \n\n\n\nWe look forward to seeing you in Gates House\, on the corner of Charlotte and Clifton streets.
URL:https://www.clarku.edu/events/event/mosakowski-institute-open-house/
LOCATION:Gates House\, 24 Charlotte Street\, Worcester\, MA\, 01610\, United States
CATEGORIES:Campus/Community,Health/Wellness
ATTACH;FMTTYPE=image/jpeg:https://www.clarku.edu/events/wp-content/uploads/sites/7/2025/10/Gates-House-Mosakowski-Institute.jpg
END:VEVENT
BEGIN:VEVENT
DTSTART;TZID=America/New_York:20251022T160000
DTEND;TZID=America/New_York:20251022T170000
DTSTAMP:20260419T114016
CREATED:20250915T153659Z
LAST-MODIFIED:20251021T174751Z
UID:10001115-1761148800-1761152400@www.clarku.edu
SUMMARY:Open Access: A Clark Conversation
DESCRIPTION:In celebration of International Open Access Week\, join us for a panel discussion on the impacts of open access and how it affects scholarship at Clark. Faculty and librarians will share their perspectives on how open access shapes their research\, teaching\, and professional work\, highlighting disciplinary concerns and the evolving academic publishing landscape.  \n\n\n\nResearch Services Librarian Katie Wind will moderate the discussion\, which will include panelists: \n\n\n\n\nProfessor Arshad Kudrolli\, Physics\n\n\n\nProfessor James Murphy\, Geography\n\n\n\nAssistant Professor Javier Tabima Restrepo\, Biology\n\n\n\nAssociate Provost and Dean of Research Jennifer Hanselman\n\n\n\nHead of Collections and Systems Katherine Collins\, Goddard Library\n\n\n\n\nLight refreshments will be provided.  
URL:https://www.clarku.edu/events/event/open-access-a-clark-conversation/
LOCATION:Clark University\, Higgins Lounge\, Dana Commons – 2nd Floor\, 36 Maywood Street\, Worcester\, MA\, 01603\, United States
CATEGORIES:Academic,Campus/Community
ATTACH;FMTTYPE=image/jpeg:https://www.clarku.edu/events/wp-content/uploads/sites/7/2025/09/October.jpg
END:VEVENT
BEGIN:VEVENT
DTSTART;TZID=America/New_York:20251023T140000
DTEND;TZID=America/New_York:20251023T150000
DTSTAMP:20260419T114016
CREATED:20250915T155314Z
LAST-MODIFIED:20251021T175055Z
UID:10001116-1761228000-1761231600@www.clarku.edu
SUMMARY:Navigating Open Access: From Discovery to Publication 
DESCRIPTION:This library workshop introduces participants to the principles of Open Access (OA) publishing\, exploring what it is\, why it matters\, and how to engage with it in their own research. Participants will define Open Access\, learn strategies for finding and evaluating OA resources\, consider both the risks and benefits of publishing openly and recognize how the library can support this endeavor.  By the end of the session\, participants will understand how OA scholarship continues to shape the future of academic publishing. 
URL:https://www.clarku.edu/events/event/navigating-open-access-from-discovery-to-publication/
LOCATION:Fuller Room (Goddard Library 422)
CATEGORIES:Academic,Campus/Community
ATTACH;FMTTYPE=image/jpeg:https://www.clarku.edu/events/wp-content/uploads/sites/7/2025/09/October-1.jpg
END:VEVENT
BEGIN:VEVENT
DTSTART;TZID=America/New_York:20251023T193000
DTEND;TZID=America/New_York:20251023T210000
DTSTAMP:20260419T114016
CREATED:20251006T162537Z
LAST-MODIFIED:20251020T143615Z
UID:10001225-1761247800-1761253200@www.clarku.edu
SUMMARY:CANCELLED: Creating Large-Scale Participatory Public Installations
DESCRIPTION:Located along the Port Authority Bus Terminal at West 42nd Street and 8th Avenue in Times Square\, this 72-foot\, 5.5 million pixel\, high-resolution LED display featured full multi-person interaction along its entire length via the NOIRFLUX interaction framework.\n\n\n\nRegretfully\, we have had to cancel this week’s lecture\, “Creating Large Scale Participatory Public Installations\,” by Clark alums Lorne Covington and Bill Saiff on Thursday\, October 23 at 7:30pm. We apologize for any inconvenience and hope to see you at future events sponsored by our Interactive Arts Collaborative. More to come soon! \n\n\n\n \n\n\n\nHow do you create public art and experiences that respond to people—not just one person\, but many\, all at once? Artists\, technologists\, and Clark University alumni Lorne Covington ’81 and Bill Saiff ’81 of NOIRFLUX will share how they design large-scale interactive environments where curious—but non-specialist—audiences become participants. Their work blends readily available technologies with their own custom-built tools to create installations that can sense\, respond to\, and engage any number of people in real time. \n\n\n\nIn this talk\, Covington and Saiff will describe how they use design methods that focus on the participants’ experiences to make intuitive\, engaging\, and rewarding installations. They will show examples across art\, education\, research\, and entertainment\, and will invite the audience to join in and interact with some of their work firsthand. \n\n\n\nCovington and Saiff’s creative journey began in the late 1970s\, experimenting with Clark’s PDP-11/70 computer in the Goddard Library basement. By the early 1980s they were already designing some of the world’s first interactive video systems and applications. While their professional careers took them down separate paths—Lorne as a filmmaker\, technologist\, and creative innovator\, and Bill as a leader in user experience research and design—they remained collaborators\, continually refining their shared vision of how people engage with technology. Since founding NOIRFLUX in 2011\, they have combined Lorne’s expertise in interactive media and sensing technologies with Bill’s decades of UX leadership to create installations that transform spectators into collective participants through interaction\, exploration\, and play. \n\n\n\n\n\n\n\nAdmission is free and open to the public. This event is sponsored by the Interactive Arts Collaborative through the Arts + Technology Program and is hosted by the Alice Coonley Higgins Institute for Arts and Humanities\, the Becker School of Design and Technology\, and the Department of Visual and Performing Arts at Clark University.
URL:https://www.clarku.edu/events/event/creating-large-scale-participatory-public-installations/
LOCATION:Center for Media Arts\, Computing\, and Design\, Worcester\, MA\, 01464\, United States
CATEGORIES:Academic,Arts/Music/Film,Campus/Community,Science/Technology
ATTACH;FMTTYPE=image/jpeg:https://www.clarku.edu/events/wp-content/uploads/sites/7/2025/10/PABT-Wide-2-scaled.jpg
ORGANIZER;CN="Alice Coonley Higgins Institute for Arts and Humanities":MAILTO:higginsinstitute@clarku.edu
END:VEVENT
END:VCALENDAR