BEGIN:VCALENDAR
VERSION:2.0
PRODID:-//Events - ECPv6.15.20//NONSGML v1.0//EN
CALSCALE:GREGORIAN
METHOD:PUBLISH
X-WR-CALNAME:Events
X-ORIGINAL-URL:https://www.clarku.edu/events
X-WR-CALDESC:Events for Events
REFRESH-INTERVAL;VALUE=DURATION:PT1H
X-Robots-Tag:noindex
X-PUBLISHED-TTL:PT1H
BEGIN:VTIMEZONE
TZID:America/New_York
BEGIN:DAYLIGHT
TZOFFSETFROM:-0500
TZOFFSETTO:-0400
TZNAME:EDT
DTSTART:20240310T070000
END:DAYLIGHT
BEGIN:STANDARD
TZOFFSETFROM:-0400
TZOFFSETTO:-0500
TZNAME:EST
DTSTART:20241103T060000
END:STANDARD
BEGIN:DAYLIGHT
TZOFFSETFROM:-0500
TZOFFSETTO:-0400
TZNAME:EDT
DTSTART:20250309T070000
END:DAYLIGHT
BEGIN:STANDARD
TZOFFSETFROM:-0400
TZOFFSETTO:-0500
TZNAME:EST
DTSTART:20251102T060000
END:STANDARD
BEGIN:DAYLIGHT
TZOFFSETFROM:-0500
TZOFFSETTO:-0400
TZNAME:EDT
DTSTART:20260308T070000
END:DAYLIGHT
BEGIN:STANDARD
TZOFFSETFROM:-0400
TZOFFSETTO:-0500
TZNAME:EST
DTSTART:20261101T060000
END:STANDARD
END:VTIMEZONE
BEGIN:VEVENT
DTSTART;TZID=America/New_York:20250411T090000
DTEND;TZID=America/New_York:20250411T100000
DTSTAMP:20260419T191744
CREATED:20250405T155538Z
LAST-MODIFIED:20250405T174517Z
UID:10000804-1744362000-1744365600@www.clarku.edu
SUMMARY:Home and Belonging: The Predicament of Arriving and Returning
DESCRIPTION:Registration required: https://clarku.zoom.us/webinar/register/WN_HLt5rOvMQh6eQAb7aoDiPw \n\n\n\nThis event is hosted by the Integration and Belonging Hub at Clark University. \n\n\n\nSpeaker: Dr. John Nassari\, https://www.johnnassari.co.uk \n\n\n\nNassari is a forced migration scholar and an award-winning photographer\, author and filmmaker based in London. Nassari was a Senior Lecturer in Refugee Studies at the University of East London from 2007 to 2013 and served as Program Committee Chair for the 12th International Association for the Study of Forced Migration (IASFM) conference held in Nicosia\, Cyprus. His interests include refugee identity\, memory and narrative\, and the formation of refugee lives in visual practice. He has conducted extensive research on Cypriot refugees and has published numerous journal articles\, including ‘Postmemory blues: the predicament of arriving and returning\,’ which he will be discussing during this talk. \n\n\n\n\n\n\n\nQuestions? Email the Integration and Belonging Hub (IBH@clarku.edu) or Anita Fábos (afabos@clarku.edu)
URL:https://www.clarku.edu/events/event/home-and-belonging-the-predicament-of-arriving-and-returning/
LOCATION:Virtual Event via Zoom Webinar
CATEGORIES:Academic,Campus/Community,Diversity/Equity/Inclusion,Education/Social Sciences
ATTACH;FMTTYPE=image/jpeg:https://www.clarku.edu/events/wp-content/uploads/sites/7/2025/04/download.jpg
ORGANIZER;CN="The Integration and Belonging Hub":MAILTO:IBH@clarku.edu
END:VEVENT
BEGIN:VEVENT
DTSTART;TZID=America/New_York:20250424T120000
DTEND;TZID=America/New_York:20250424T130000
DTSTAMP:20260419T191744
CREATED:20241218T001508Z
LAST-MODIFIED:20250421T160043Z
UID:10000659-1745496000-1745499600@www.clarku.edu
SUMMARY:Colloquium Speaker Series: Jason W. Moore
DESCRIPTION:Jason Moore\, an environmental historian and historical geographer at Binghamton University\, will present “Climate Revolts\, Climate Crises\, or\, Why Climate Doomism is Bad History\, Terrible Geography\, and Even Worse Politics.”
URL:https://www.clarku.edu/events/event/colloquium-speaker-series-jason-w-moore/
LOCATION:Lurie Conference Room\, Higgins University Center
CATEGORIES:Campus/Community,Diversity/Equity/Inclusion,Education/Social Sciences,Environment/Sustainability,Humanities,Science/Technology
ATTACH;FMTTYPE=image/jpeg:https://www.clarku.edu/events/wp-content/uploads/sites/7/2024/12/Jason-Moore-16-9.jpg
END:VEVENT
BEGIN:VEVENT
DTSTART;TZID=America/New_York:20250425T180000
DTEND;TZID=America/New_York:20250425T200000
DTSTAMP:20260419T191744
CREATED:20250423T173108Z
LAST-MODIFIED:20250424T182305Z
UID:10000849-1745604000-1745611200@www.clarku.edu
SUMMARY:Connections@Clark Celebration
DESCRIPTION:Join us in celebrating and honoring the first-year and graduating class of Connections@Clark participants\, including mentors. We will have a ceremony for the graduating seniors\, a superlative celebration for current first-years\, and a mix-and-mingle portion with food for the event. \n\n\n\nRSVP on Clark Engage »
URL:https://www.clarku.edu/events/event/connectionsclarkcelebration/
LOCATION:Higgins Lounge\, Dana Commons\, Dana Commons
CATEGORIES:Campus/Community,Diversity/Equity/Inclusion
ATTACH;FMTTYPE=image/jpeg:https://www.clarku.edu/events/wp-content/uploads/sites/7/2025/04/Tree-budding-in-front-of-JC-Hall-16-9.jpg
END:VEVENT
BEGIN:VEVENT
DTSTART;TZID=America/New_York:20250426T120000
DTEND;TZID=America/New_York:20250426T150000
DTSTAMP:20260419T191744
CREATED:20250423T211356Z
LAST-MODIFIED:20250423T211621Z
UID:10000854-1745668800-1745679600@www.clarku.edu
SUMMARY:Arbor Day Festival
DESCRIPTION:Join the Arboretum Advocates\, other student organizations\, and members of the local community to celebrate Arbor Day. Refreshments\, activities — including invasive plant removal — and free items will be available.  \n\n\n\nMore on Clark Engage »
URL:https://www.clarku.edu/events/event/arbordayfestival/
LOCATION:Clark University Red Square\, 950 Main Street\, Worcester\, MA\, 01610\, United States
CATEGORIES:Campus/Community,Environment/Sustainability
ATTACH;FMTTYPE=image/jpeg:https://www.clarku.edu/events/wp-content/uploads/sites/7/2025/01/Hadwen-Arboretum.jpg
END:VEVENT
BEGIN:VEVENT
DTSTART;TZID=America/New_York:20250426T130000
DTEND;TZID=America/New_York:20250426T160000
DTSTAMP:20260419T191744
CREATED:20250424T181212Z
LAST-MODIFIED:20250424T181214Z
UID:10000860-1745672400-1745683200@www.clarku.edu
SUMMARY:Multicultural End-of-the-Year Celebration
DESCRIPTION:Please join us for an end-of-the-year celebration of all of the many cultures at Clark. There will be food\, music\, and alumni engagement.  \n\n\n\nRSVP on Clark Engage »
URL:https://www.clarku.edu/events/event/multicultural-end-of-the-year-celebration/
LOCATION:Alden Quad and Dana Commons\, Maywood Street\, Worcester\, Massachusetts\, 01610\, United States
CATEGORIES:Campus/Community,Diversity/Equity/Inclusion
END:VEVENT
BEGIN:VEVENT
DTSTART;TZID=America/New_York:20250429T223000
DTEND;TZID=America/New_York:20250430T000000
DTSTAMP:20260419T191744
CREATED:20250424T182110Z
LAST-MODIFIED:20250428T150917Z
UID:10000863-1745965800-1745971200@www.clarku.edu
SUMMARY:Late-Night Breakfast
DESCRIPTION:Come gather in The Table at Higgins for this long-standing tradition where your Clark staff and administrators are there to greet you\, wish you good luck as you close out your semester\, and serve you a late-night meal! Late Night Breakfast is a part of Wellness Education’s coordinated “Feel Good Finals” and is a joyful time to take a break from working hard and come together for a community study break. Just bring your Clark ID with you and have your event pass ready.
URL:https://www.clarku.edu/events/event/late-night-breakfast-2/
LOCATION:The Table at Higgins (University Center)\, 950 Main Street\, Worcester\, Massachusetts\, 01610\, United States
CATEGORIES:Campus/Community,Health/Wellness
ATTACH;FMTTYPE=image/jpeg:https://www.clarku.edu/events/wp-content/uploads/sites/7/2025/04/Late-Night-Breakfast-89.jpg
END:VEVENT
END:VCALENDAR