BEGIN:VCALENDAR
VERSION:2.0
PRODID:-//Events - ECPv6.15.20//NONSGML v1.0//EN
CALSCALE:GREGORIAN
METHOD:PUBLISH
X-ORIGINAL-URL:https://www.clarku.edu/events
X-WR-CALDESC:Events for Events
REFRESH-INTERVAL;VALUE=DURATION:PT1H
X-Robots-Tag:noindex
X-PUBLISHED-TTL:PT1H
BEGIN:VTIMEZONE
TZID:America/New_York
BEGIN:DAYLIGHT
TZOFFSETFROM:-0500
TZOFFSETTO:-0400
TZNAME:EDT
DTSTART:20240310T070000
END:DAYLIGHT
BEGIN:STANDARD
TZOFFSETFROM:-0400
TZOFFSETTO:-0500
TZNAME:EST
DTSTART:20241103T060000
END:STANDARD
BEGIN:DAYLIGHT
TZOFFSETFROM:-0500
TZOFFSETTO:-0400
TZNAME:EDT
DTSTART:20250309T070000
END:DAYLIGHT
BEGIN:STANDARD
TZOFFSETFROM:-0400
TZOFFSETTO:-0500
TZNAME:EST
DTSTART:20251102T060000
END:STANDARD
BEGIN:DAYLIGHT
TZOFFSETFROM:-0500
TZOFFSETTO:-0400
TZNAME:EDT
DTSTART:20260308T070000
END:DAYLIGHT
BEGIN:STANDARD
TZOFFSETFROM:-0400
TZOFFSETTO:-0500
TZNAME:EST
DTSTART:20261101T060000
END:STANDARD
END:VTIMEZONE
BEGIN:VEVENT
DTSTART;TZID=America/New_York:20250206T120000
DTEND;TZID=America/New_York:20250206T130000
DTSTAMP:20260419T215756
CREATED:20241213T214653Z
LAST-MODIFIED:20250119T042847Z
UID:10000651-1738843200-1738846800@www.clarku.edu
SUMMARY:Colloquium Speaker Series: Amy Frazier
DESCRIPTION:A Geographic Approach for Co-designing and Implementing ‘30×30’ Conservation Goals\n\nThe world is at a tipping point for biodiversity\, with over a million species threatened with extinction and climate change driving a redistribution of life on Earth. The recent Kunming-Montreal Global Biodiversity Framework addresses some of these grand challenges by recommending that at least 30% of land and water be protected by 2030 (colloquially called “30×30”). However\, while agreements like these are a good start\, they are rarely successful in practice\, in part because there is often a disconnect between the geographic data and models being produced by scientists and the information that is needed for conservation decision-making on the ground. \nIn this talk\, Dr. Frazier will discuss how her team is working with various partners around the world to implement conservation projects to protect the planet and how an effective co-design approach can overcome some of the challenges of using geographic methods for conservation decision-making. Woven throughout are examples of how a geographic approach\, and particularly an understanding of the impacts of scale on analyses\, can enhance this decision-making. \nAmy Frazier is the Jack and Laura Dangermond Endowed Chair of Conservation Science at the University of California\, Santa Barbara. She previously held faculty appointments at Arizona State University and Oklahoma State University. Dr. Frazier holds an A.B. in environmental earth science from Dartmouth College\, an M.A. in geography from West Chester University\, and a Ph.D. in geography from the University at Buffalo. Dr. Frazier’s research focuses on integrating remote sensing\, GIS\, and landscape ecology to study global environmental change\, specifically to prevent the loss of biodiversity and ecosystem services.
URL:https://www.clarku.edu/events/event/colloquium-speaker-series-amy-frazier/
LOCATION:Zoom (Online)
CATEGORIES:Campus/Community,Environment/Sustainability,Science/Technology
ATTACH;FMTTYPE=image/png:https://www.clarku.edu/events/wp-content/uploads/sites/7/2025/01/Amy-Frazier.png
END:VEVENT
BEGIN:VEVENT
DTSTART;TZID=America/New_York:20250206T190000
DTEND;TZID=America/New_York:20250206T210000
DTSTAMP:20260419T215756
CREATED:20250121T192354Z
LAST-MODIFIED:20250121T192354Z
UID:10000715-1738868400-1738875600@www.clarku.edu
SUMMARY:Terror at the Opera
DESCRIPTION:Join professional opera performers Rachel Hippert and Jose Heredia as they take you on a journey of horror music from the gothic to contemporary in Terror at the Opera! Part of Clark’s Women In Horror Month events.
URL:https://www.clarku.edu/events/event/terror-at-the-opera/
LOCATION:Jefferson 320
CATEGORIES:Academic,Arts/Music/Film,Campus/Community,Diversity/Equity/Inclusion,Humanities
ATTACH;FMTTYPE=image/jpeg:https://www.clarku.edu/events/wp-content/uploads/sites/7/2025/03/Terror-at-the-Opera.jpg
ORGANIZER;CN="Alice Coonley Higgins Institute for Arts and Humanities":MAILTO:higginsinstitute@clarku.edu
END:VEVENT
BEGIN:VEVENT
DTSTART;TZID=America/New_York:20250215T140000
DTEND;TZID=America/New_York:20250215T170000
DTSTAMP:20260419T215756
CREATED:20250129T213924Z
LAST-MODIFIED:20250310T135234Z
UID:10000741-1739628000-1739638800@www.clarku.edu
SUMMARY:Black Arts Explosion
DESCRIPTION:Support your local Black artists at our annual pop-up market featuring BIPOC artists from Clark and the larger Worcester community.
URL:https://www.clarku.edu/events/event/black-arts-explosion/
LOCATION:Dana Commons\, Higgins Lounge\, 01610
CATEGORIES:Campus/Community,Diversity/Equity/Inclusion
ATTACH;FMTTYPE=image/jpeg:https://www.clarku.edu/events/wp-content/uploads/sites/7/2025/03/BHM-paint-background.jpg
END:VEVENT
END:VCALENDAR