BEGIN:VCALENDAR
VERSION:2.0
PRODID:-//Events - ECPv6.15.20//NONSGML v1.0//EN
CALSCALE:GREGORIAN
METHOD:PUBLISH
X-ORIGINAL-URL:https://www.clarku.edu/events
X-WR-CALDESC:Events for Events
REFRESH-INTERVAL;VALUE=DURATION:PT1H
X-Robots-Tag:noindex
X-PUBLISHED-TTL:PT1H
BEGIN:VTIMEZONE
TZID:America/New_York
BEGIN:DAYLIGHT
TZOFFSETFROM:-0500
TZOFFSETTO:-0400
TZNAME:EDT
DTSTART:20230312T070000
END:DAYLIGHT
BEGIN:STANDARD
TZOFFSETFROM:-0400
TZOFFSETTO:-0500
TZNAME:EST
DTSTART:20231105T060000
END:STANDARD
BEGIN:DAYLIGHT
TZOFFSETFROM:-0500
TZOFFSETTO:-0400
TZNAME:EDT
DTSTART:20240310T070000
END:DAYLIGHT
BEGIN:STANDARD
TZOFFSETFROM:-0400
TZOFFSETTO:-0500
TZNAME:EST
DTSTART:20241103T060000
END:STANDARD
BEGIN:DAYLIGHT
TZOFFSETFROM:-0500
TZOFFSETTO:-0400
TZNAME:EDT
DTSTART:20250309T070000
END:DAYLIGHT
BEGIN:STANDARD
TZOFFSETFROM:-0400
TZOFFSETTO:-0500
TZNAME:EST
DTSTART:20251102T060000
END:STANDARD
END:VTIMEZONE
BEGIN:VEVENT
DTSTART;TZID=America/New_York:20240803T090000
DTEND;TZID=America/New_York:20240803T120000
DTSTAMP:20260420T140534
CREATED:20240726T005057Z
LAST-MODIFIED:20240726T005057Z
UID:10000586-1722675600-1722686400@www.clarku.edu
SUMMARY:University Park Farmers Market
DESCRIPTION:Right across from the Clark campus\, the University Park Farmers Market hosts local farmers and vendors each Saturday\, June through October. You’ll find fresh and local produce\, meats\, and more\, plus fun family activities and even a food truck. \nVisit the Regional Environmental Council on Facebook for each week’s schedule.
URL:https://www.clarku.edu/events/event/university-park-farmers-market-2/2024-08-03/
CATEGORIES:Campus/Community,Environment/Sustainability,Health/Wellness
ATTACH;FMTTYPE=image/jpeg:https://www.clarku.edu/events/wp-content/uploads/sites/7/2025/01/farmers-market-produce.jpg
END:VEVENT
BEGIN:VEVENT
DTSTART;TZID=America/New_York:20240810T090000
DTEND;TZID=America/New_York:20240810T120000
DTSTAMP:20260420T140534
CREATED:20240726T005057Z
LAST-MODIFIED:20240726T005057Z
UID:10000587-1723280400-1723291200@www.clarku.edu
SUMMARY:University Park Farmers Market
DESCRIPTION:Right across from the Clark campus\, the University Park Farmers Market hosts local farmers and vendors each Saturday\, June through October. You’ll find fresh and local produce\, meats\, and more\, plus fun family activities and even a food truck. \nVisit the Regional Environmental Council on Facebook for each week’s schedule.
URL:https://www.clarku.edu/events/event/university-park-farmers-market-2/2024-08-10/
CATEGORIES:Campus/Community,Environment/Sustainability,Health/Wellness
ATTACH;FMTTYPE=image/jpeg:https://www.clarku.edu/events/wp-content/uploads/sites/7/2025/01/farmers-market-produce.jpg
END:VEVENT
BEGIN:VEVENT
DTSTART;TZID=America/New_York:20240815T180000
DTEND;TZID=America/New_York:20240815T230000
DTSTAMP:20260420T140534
CREATED:20240722T202856Z
LAST-MODIFIED:20240722T202856Z
UID:10000078-1723744800-1723762800@www.clarku.edu
SUMMARY:Movies on the Common: Clue (1985)
DESCRIPTION:
URL:https://www.clarku.edu/events/event/movies-on-the-common-clue-1985/
CATEGORIES:Campus/Community
END:VEVENT
BEGIN:VEVENT
DTSTART;TZID=America/New_York:20240817T090000
DTEND;TZID=America/New_York:20240817T120000
DTSTAMP:20260420T140534
CREATED:20240726T005057Z
LAST-MODIFIED:20240726T005057Z
UID:10000588-1723885200-1723896000@www.clarku.edu
SUMMARY:University Park Farmers Market
DESCRIPTION:Right across from the Clark campus\, the University Park Farmers Market hosts local farmers and vendors each Saturday\, June through October. You’ll find fresh and local produce\, meats\, and more\, plus fun family activities and even a food truck. \nVisit the Regional Environmental Council on Facebook for each week’s schedule.
URL:https://www.clarku.edu/events/event/university-park-farmers-market-2/2024-08-17/
CATEGORIES:Campus/Community,Environment/Sustainability,Health/Wellness
ATTACH;FMTTYPE=image/jpeg:https://www.clarku.edu/events/wp-content/uploads/sites/7/2025/01/farmers-market-produce.jpg
END:VEVENT
BEGIN:VEVENT
DTSTART;TZID=America/New_York:20240817T090000
DTEND;TZID=America/New_York:20240817T120000
DTSTAMP:20260420T140534
CREATED:20240816T212242Z
LAST-MODIFIED:20240816T212242Z
UID:10000116-1723885200-1723896000@www.clarku.edu
SUMMARY:University Park Farmers Market 2024
DESCRIPTION:Right across from the Clark campus\, the University Park Farmers Market hosts local farmers and vendors each Saturday\, June through October. You’ll find fresh and local produce\, meats\, and more\, plus fun family activities and even a food truck. \nVisit the Regional Environmental Council on Facebook for each week’s schedule.
URL:https://www.clarku.edu/events/event/university-park-farmers-market-2024/2024-08-17/
CATEGORIES:Campus/Community
ATTACH;FMTTYPE=image/jpeg:https://www.clarku.edu/events/wp-content/uploads/sites/7/2025/01/farmers-market-produce.jpg
END:VEVENT
BEGIN:VEVENT
DTSTART;TZID=America/New_York:20240819T080000
DTEND;TZID=America/New_York:20240820T170000
DTSTAMP:20260420T140534
CREATED:20240731T224509Z
LAST-MODIFIED:20250119T034735Z
UID:10000089-1724054400-1724173200@www.clarku.edu
SUMMARY:Clark University Career Closet Donation Drive
DESCRIPTION:The Career Connections Center\, in collaboration with the Clark Thrift Store\, is excited to announce the launch of a new section of the Thrift Store that will offer free professional attire for students. During our two-day donation drive\, we will accept donations of professional clothing\, including: \n\nSuits\nDress shirts\nBlouses\nCardigan sweaters\nWork dresses and skirts\nDress pants\nTies and belts \n\nPlease note that we are not accepting shoes at this time.  All donated items should be clean.   \n\nHelp our students look their best for their professional endeavors! If you have any questions\, please email Career Services.
URL:https://www.clarku.edu/events/event/clark-university-career-closet/
CATEGORIES:Campus/Community,Careers
ATTACH;FMTTYPE=image/jpeg:https://www.clarku.edu/events/wp-content/uploads/sites/7/2025/01/Young-people-dressed-professionally.jpg
END:VEVENT
BEGIN:VEVENT
DTSTART;VALUE=DATE:20240822
DTEND;VALUE=DATE:20240826
DTSTAMP:20260420T140534
CREATED:20240628T202424Z
LAST-MODIFIED:20240628T202424Z
UID:10000075-1724284800-1724630399@www.clarku.edu
SUMMARY:Orientation 2024
DESCRIPTION:Our Orientation programming is designed to help new students transition to life and learning at Clark. \nLearn more: \n\nUndergraduate Student Orientation\n\nAugust 22–25\n\n\nTransfer Student Orientation\n\nAugust 23–25\n\n\nGraduate Orientation\n\nAugust 23; dates may vary by program\n\n\nInternational Student Welcome\n\nAugust 19–22\n\n\nFirst-Year Undergraduate Family Orientation\n\nAugust 22\n\n\n\nClark also offers several pre-orientation programs for first-year students. \n\nConnections@Clark (August 17–24)\nACE Summer Institute (August 4–24)\nStudent Accessibility Services Early Orientation (August 20–21)
URL:https://www.clarku.edu/events/event/orientation-2024/
CATEGORIES:Campus/Community
ATTACH;FMTTYPE=image/jpeg:https://www.clarku.edu/events/wp-content/uploads/sites/7/2025/01/2019-Move-in-day-morning-109-copy-e1755269485724.jpg
END:VEVENT
BEGIN:VEVENT
DTSTART;TZID=America/New_York:20240824T090000
DTEND;TZID=America/New_York:20240824T120000
DTSTAMP:20260420T140534
CREATED:20240726T005057Z
LAST-MODIFIED:20240726T005057Z
UID:10000589-1724490000-1724500800@www.clarku.edu
SUMMARY:University Park Farmers Market
DESCRIPTION:Right across from the Clark campus\, the University Park Farmers Market hosts local farmers and vendors each Saturday\, June through October. You’ll find fresh and local produce\, meats\, and more\, plus fun family activities and even a food truck. \nVisit the Regional Environmental Council on Facebook for each week’s schedule.
URL:https://www.clarku.edu/events/event/university-park-farmers-market-2/2024-08-24/
CATEGORIES:Campus/Community,Environment/Sustainability,Health/Wellness
ATTACH;FMTTYPE=image/jpeg:https://www.clarku.edu/events/wp-content/uploads/sites/7/2025/01/farmers-market-produce.jpg
END:VEVENT
BEGIN:VEVENT
DTSTART;TZID=America/New_York:20240824T090000
DTEND;TZID=America/New_York:20240824T120000
DTSTAMP:20260420T140534
CREATED:20240816T212242Z
LAST-MODIFIED:20240816T212242Z
UID:10000117-1724490000-1724500800@www.clarku.edu
SUMMARY:University Park Farmers Market 2024
DESCRIPTION:Right across from the Clark campus\, the University Park Farmers Market hosts local farmers and vendors each Saturday\, June through October. You’ll find fresh and local produce\, meats\, and more\, plus fun family activities and even a food truck. \nVisit the Regional Environmental Council on Facebook for each week’s schedule.
URL:https://www.clarku.edu/events/event/university-park-farmers-market-2024/2024-08-24/
CATEGORIES:Campus/Community
ATTACH;FMTTYPE=image/jpeg:https://www.clarku.edu/events/wp-content/uploads/sites/7/2025/01/farmers-market-produce.jpg
END:VEVENT
BEGIN:VEVENT
DTSTART;TZID=America/New_York:20240824T100000
DTEND;TZID=America/New_York:20240826T170000
DTSTAMP:20260420T140534
CREATED:20240514T182208Z
LAST-MODIFIED:20240514T182208Z
UID:10000058-1724493600-1724691600@www.clarku.edu
SUMMARY:Thrift Store Fall Grand Opening Weekend
DESCRIPTION:Stop by the Thrift Store’s Fall Grand Opening Weekend\, August 24–26\, for special sales and exciting shopping. \nThe store\, located at 930 Main Street\, will be open 10 a.m. to 5 p.m. each day.
URL:https://www.clarku.edu/events/event/thrift-store-fall-grand-opening-weekend/
CATEGORIES:Campus/Community
ATTACH;FMTTYPE=image/jpeg:https://www.clarku.edu/events/wp-content/uploads/sites/7/2025/01/ThriftStoreRe-Opening-15-scaled-1-e1723577331517.jpg
END:VEVENT
BEGIN:VEVENT
DTSTART;TZID=America/New_York:20240825T110000
DTEND;TZID=America/New_York:20240825T123000
DTSTAMP:20260420T140534
CREATED:20240814T190546Z
LAST-MODIFIED:20240814T190546Z
UID:10000107-1724583600-1724589000@www.clarku.edu
SUMMARY:Common Academic Experience
DESCRIPTION:
URL:https://www.clarku.edu/events/event/common-academic-experience/
CATEGORIES:Campus/Community
END:VEVENT
BEGIN:VEVENT
DTSTART;TZID=America/New_York:20240826T150000
DTEND;TZID=America/New_York:20240826T170000
DTSTAMP:20260420T140534
CREATED:20240814T185457Z
LAST-MODIFIED:20240814T185457Z
UID:10000104-1724684400-1724691600@www.clarku.edu
SUMMARY:WBW: Welcome Back Waffles
DESCRIPTION:Enjoy these delicious sweets with your choice of topping: Belgian chocolate\, Nutella\, caramel or whipped cream.
URL:https://www.clarku.edu/events/event/wbw-welcome-back-waffles/
CATEGORIES:Campus/Community
END:VEVENT
BEGIN:VEVENT
DTSTART;TZID=America/New_York:20240827T100000
DTEND;TZID=America/New_York:20240827T120000
DTSTAMP:20260420T140534
CREATED:20240814T185721Z
LAST-MODIFIED:20240814T185721Z
UID:10000105-1724752800-1724760000@www.clarku.edu
SUMMARY:Meet the Dean of Student Success!
DESCRIPTION:
URL:https://www.clarku.edu/events/event/meet-the-dean-of-student-success/
CATEGORIES:Campus/Community
END:VEVENT
BEGIN:VEVENT
DTSTART;TZID=America/New_York:20240827T120000
DTEND;TZID=America/New_York:20240827T140000
DTSTAMP:20260420T140534
CREATED:20240815T223759Z
LAST-MODIFIED:20240815T223759Z
UID:10000113-1724760000-1724767200@www.clarku.edu
SUMMARY:Harvest Table: Welcome Home ‘WOW’
DESCRIPTION:Join Harvest Table in Red Square for an afternoon of connection\, fun\, and great vibes. Whether you’re a new face or a familiar one\, this is the perfect opportunity to meet fellow students\, discover what we have to offer\, and explore the offerings from some of our favorite local vendors. \nRead more about Harvest Table at Clark →
URL:https://www.clarku.edu/events/event/harvest-table-welcome-home-wow/
CATEGORIES:Campus/Community
ATTACH;FMTTYPE=image/jpeg:https://www.clarku.edu/events/wp-content/uploads/sites/7/2025/01/Harvst-Table-16-9.jpg
END:VEVENT
BEGIN:VEVENT
DTSTART;TZID=America/New_York:20240831T090000
DTEND;TZID=America/New_York:20240831T120000
DTSTAMP:20260420T140534
CREATED:20240726T005057Z
LAST-MODIFIED:20240726T005057Z
UID:10000590-1725094800-1725105600@www.clarku.edu
SUMMARY:University Park Farmers Market
DESCRIPTION:Right across from the Clark campus\, the University Park Farmers Market hosts local farmers and vendors each Saturday\, June through October. You’ll find fresh and local produce\, meats\, and more\, plus fun family activities and even a food truck. \nVisit the Regional Environmental Council on Facebook for each week’s schedule.
URL:https://www.clarku.edu/events/event/university-park-farmers-market-2/2024-08-31/
CATEGORIES:Campus/Community,Environment/Sustainability,Health/Wellness
ATTACH;FMTTYPE=image/jpeg:https://www.clarku.edu/events/wp-content/uploads/sites/7/2025/01/farmers-market-produce.jpg
END:VEVENT
BEGIN:VEVENT
DTSTART;TZID=America/New_York:20240831T090000
DTEND;TZID=America/New_York:20240831T120000
DTSTAMP:20260420T140534
CREATED:20240816T212242Z
LAST-MODIFIED:20240816T212242Z
UID:10000118-1725094800-1725105600@www.clarku.edu
SUMMARY:University Park Farmers Market 2024
DESCRIPTION:Right across from the Clark campus\, the University Park Farmers Market hosts local farmers and vendors each Saturday\, June through October. You’ll find fresh and local produce\, meats\, and more\, plus fun family activities and even a food truck. \nVisit the Regional Environmental Council on Facebook for each week’s schedule.
URL:https://www.clarku.edu/events/event/university-park-farmers-market-2024/2024-08-31/
CATEGORIES:Campus/Community
ATTACH;FMTTYPE=image/jpeg:https://www.clarku.edu/events/wp-content/uploads/sites/7/2025/01/farmers-market-produce.jpg
END:VEVENT
BEGIN:VEVENT
DTSTART;TZID=America/New_York:20240831T130000
DTEND;TZID=America/New_York:20240831T160000
DTSTAMP:20260420T140534
CREATED:20240814T190134Z
LAST-MODIFIED:20240814T190134Z
UID:10000106-1725109200-1725120000@www.clarku.edu
SUMMARY:Welcome Back Week Carnival
DESCRIPTION:The Student Activities Board is kicking off the fall semester with carnival full of games\, rides\, crafts\, and more.
URL:https://www.clarku.edu/events/event/welcome-back-week-carnival/
CATEGORIES:Campus/Community
ATTACH;FMTTYPE=image/jpeg:https://www.clarku.edu/events/wp-content/uploads/sites/7/2025/01/health-and-wellness.jpg
END:VEVENT
END:VCALENDAR