BEGIN:VCALENDAR
VERSION:2.0
PRODID:-//Events - ECPv6.15.20//NONSGML v1.0//EN
CALSCALE:GREGORIAN
METHOD:PUBLISH
X-ORIGINAL-URL:https://www.clarku.edu/events
X-WR-CALDESC:Events for Events
REFRESH-INTERVAL;VALUE=DURATION:PT1H
X-Robots-Tag:noindex
X-PUBLISHED-TTL:PT1H
BEGIN:VTIMEZONE
TZID:UTC
BEGIN:STANDARD
TZOFFSETFROM:+0000
TZOFFSETTO:+0000
TZNAME:UTC
DTSTART:20230101T000000
END:STANDARD
END:VTIMEZONE
BEGIN:VEVENT
DTSTART;TZID=UTC:20240606T140000
DTEND;TZID=UTC:20240606T160000
DTSTAMP:20260420T182238
CREATED:20240522T160756Z
LAST-MODIFIED:20250119T034414Z
UID:10000061-1717682400-1717689600@www.clarku.edu
SUMMARY:All for Love: Pride Day @ Clark
DESCRIPTION:We are excited to welcome June as Pride Month and to host our Pride Day event. We will have a Rainbow Candy Bar\, bracelet making\, and giveaways! \n \nIn the event of rain\, which is looking very likely\, we will be in the Grace and Lurie conference rooms on the first floor of the Higgins University Center. \nThis event is open to the entire campus community. \n 
URL:https://www.clarku.edu/events/event/pride-day-clark/
CATEGORIES:Campus/Community,Diversity/Equity/Inclusion
ATTACH;FMTTYPE=image/jpeg:https://www.clarku.edu/events/wp-content/uploads/sites/7/2025/01/jonas-clark-hall-pride.jpeg
END:VEVENT
END:VCALENDAR