BEGIN:VCALENDAR
VERSION:2.0
PRODID:-//Events - ECPv6.15.20//NONSGML v1.0//EN
CALSCALE:GREGORIAN
METHOD:PUBLISH
X-WR-CALNAME:Events
X-ORIGINAL-URL:https://www.clarku.edu/events
X-WR-CALDESC:Events for Events
REFRESH-INTERVAL;VALUE=DURATION:PT1H
X-Robots-Tag:noindex
X-PUBLISHED-TTL:PT1H
BEGIN:VTIMEZONE
TZID:UTC
BEGIN:STANDARD
TZOFFSETFROM:+0000
TZOFFSETTO:+0000
TZNAME:UTC
DTSTART:20210101T000000
END:STANDARD
END:VTIMEZONE
BEGIN:VEVENT
DTSTART;TZID=UTC:20221110T103000
DTEND;TZID=UTC:20221110T113000
DTSTAMP:20260420T130642
CREATED:20220624T195724Z
LAST-MODIFIED:20220624T195724Z
UID:10000500-1668076200-1668079800@www.clarku.edu
SUMMARY:Research Methods: Skills Session
DESCRIPTION:Join the American Language and Culture Institute (ALCI) for a workshop on research methods.
URL:https://www.clarku.edu/events/event/research-methods-skills-session/
LOCATION:MA
CATEGORIES:Academic
END:VEVENT
BEGIN:VEVENT
DTSTART;TZID=UTC:20221116T120000
DTEND;TZID=UTC:20221116T130000
DTSTAMP:20260420T130642
CREATED:20240819T232205Z
LAST-MODIFIED:20250119T035228Z
UID:10000141-1668600000-1668603600@www.clarku.edu
SUMMARY:Community Conversation: Growing the Pie
DESCRIPTION:  \n \n**This event is open only to the Clark community.** \nJoin us for the final installment of our series\, Nourishing Teaching\, Learning & Research in the Arts & Humanities. These discussions will provide an opportunity for Clark faculty\, staff\, and students to engage in conversation around the strategic priorities of the Higgins School in partnership with the University’s strategic framework team. Lunch will be provided at each event. Reservations are required using the link below. \nSession 4: Growing the Pie\nA conversation about Improving financial support for research/creative work\nRSVP Here: https://forms.office.com/r/Mv1S0cjjyn. \nSponsored by the Higgins School of Humanities at Clark University
URL:https://www.clarku.edu/events/event/community-conversation-growing-the-pie/
LOCATION:MA
CATEGORIES:Academic,Arts/Music/Film,Campus/Community,Humanities
ATTACH;FMTTYPE=image/png:https://www.clarku.edu/events/wp-content/uploads/sites/7/2025/01/Purple-Logo-10-19-1.png
END:VEVENT
END:VCALENDAR