BEGIN:VCALENDAR
VERSION:2.0
PRODID:-//Events - ECPv6.15.20//NONSGML v1.0//EN
CALSCALE:GREGORIAN
METHOD:PUBLISH
X-WR-CALNAME:Events
X-ORIGINAL-URL:https://www.clarku.edu/events
X-WR-CALDESC:Events for Events
REFRESH-INTERVAL;VALUE=DURATION:PT1H
X-Robots-Tag:noindex
X-PUBLISHED-TTL:PT1H
BEGIN:VTIMEZONE
TZID:America/New_York
BEGIN:DAYLIGHT
TZOFFSETFROM:-0500
TZOFFSETTO:-0400
TZNAME:EDT
DTSTART:20250309T070000
END:DAYLIGHT
BEGIN:STANDARD
TZOFFSETFROM:-0400
TZOFFSETTO:-0500
TZNAME:EST
DTSTART:20251102T060000
END:STANDARD
BEGIN:DAYLIGHT
TZOFFSETFROM:-0500
TZOFFSETTO:-0400
TZNAME:EDT
DTSTART:20260308T070000
END:DAYLIGHT
BEGIN:STANDARD
TZOFFSETFROM:-0400
TZOFFSETTO:-0500
TZNAME:EST
DTSTART:20261101T060000
END:STANDARD
BEGIN:DAYLIGHT
TZOFFSETFROM:-0500
TZOFFSETTO:-0400
TZNAME:EDT
DTSTART:20270314T070000
END:DAYLIGHT
BEGIN:STANDARD
TZOFFSETFROM:-0400
TZOFFSETTO:-0500
TZNAME:EST
DTSTART:20271107T060000
END:STANDARD
END:VTIMEZONE
BEGIN:VEVENT
DTSTART;TZID=America/New_York:20260421T120000
DTEND;TZID=America/New_York:20260421T131500
DTSTAMP:20260421T014650
CREATED:20260408T132359Z
LAST-MODIFIED:20260408T132400Z
UID:10003073-1776772800-1776777300@www.clarku.edu
SUMMARY:Indigenous Soil Knowledge and Grain Mixtures Decision-Making Among Smallholder Farmers in South Wollo\, Ethiopia
DESCRIPTION:Student Presentation of Research in Ethiopia by Marshall Fredericksen\, MS ES&P ’26
URL:https://www.clarku.edu/events/event/indigenous-soil-knowledge-and-grain-mixtures-decision-making-among-smallholder-farmers-in-south-wollo-ethiopia/
LOCATION:JC 101
ATTACH;FMTTYPE=image/jpeg:https://www.clarku.edu/events/wp-content/uploads/sites/7/2026/04/Ethiopia-Flag.avif
END:VEVENT
BEGIN:VEVENT
DTSTART;TZID=America/New_York:20260421T150000
DTEND;TZID=America/New_York:20260421T160000
DTSTAMP:20260421T014650
CREATED:20260205T170148Z
LAST-MODIFIED:20260205T170150Z
UID:10002494-1776783600-1776787200@www.clarku.edu
SUMMARY:SLICE Drop-In Hours with Meghan
DESCRIPTION:Got a quick question about leadership\, club management\, or getting involved? Stop by the Asher Suite (3rd floor of the UC) to chat with Meghan\, Assistant Director of Student Leadership & Involvement\, about a variety of topics. If you have a more detailed question or would like a longer conversation\, please schedule a meeting with Meghan using the QR code on her office door! Specific questions about club events should be directed to campus_life@clarku.edu. Questions about club purchasing should be directed to clubpurchasing@clarku.edu. 
URL:https://www.clarku.edu/events/event/slice-drop-in-hours-with-meghan-16/
LOCATION:Asher Suite\, UC
END:VEVENT
BEGIN:VEVENT
DTSTART;TZID=America/New_York:20260421T150000
DTEND;TZID=America/New_York:20260421T170000
DTSTAMP:20260421T014650
CREATED:20260205T165940Z
LAST-MODIFIED:20260205T165942Z
UID:10002492-1776783600-1776790800@www.clarku.edu
SUMMARY:SAS' Spring '26 Countdown To Final Exam Series
DESCRIPTION:Finals are fast approaching\, and we know you might be stressed! Drop in to destress with a puzzle\, games\, fidget toys\, and so much more! This is our first of two Relax and Recharge events\, but you can come to just one or both – it’s up to you! Open to all students registered with SAS and their friends. Attendance at each Countdown To Finals Event will earn you one entry into our end-of-semester raffle – you can get one entry for each homework center\, workshop\, or other event!
URL:https://www.clarku.edu/events/event/sas-spring-26-countdown-to-final-exam-series/
LOCATION:ASEC 202
END:VEVENT
BEGIN:VEVENT
DTSTART;TZID=America/New_York:20260421T193000
DTEND;TZID=America/New_York:20260421T203000
DTSTAMP:20260421T014650
CREATED:20260205T170041Z
LAST-MODIFIED:20260205T170042Z
UID:10002493-1776799800-1776803400@www.clarku.edu
SUMMARY:SAB Game Night
DESCRIPTION:Come join us for a night of fun and games!
URL:https://www.clarku.edu/events/event/sab-game-night-5/
LOCATION:The Grind\, UC
END:VEVENT
END:VCALENDAR